Workbook

Sheet Sheet1
A1: DAT Destroyer 2016 | AC1: Do not touch anything over here
A3: Ochem | E3: Gen Chem | I3: Biology | M3: QR | X3: Ochem missed | Z3: Ochem important | AB3: Gen Chem Missed | AD3: Gen Chem Important | AF3: Biology Missed | AH3: Biology Important | AJ3: QR Missed | AL3: QR Important
A4: 1 | E4: 1 | I4: 1 | M4: 1 | X4: =IF(C4="M",COUNT(X$1:X3)+1,"") | Y4: =MAX(X:X) -> 0 | Z4: =IF(C4="I",COUNT(Z$1:Z3)+1,"") | AA4: =MAX(Z:Z) -> 0 | AB4: =IF(G4="M",COUNT(AB$1:AB3)+1,"") | AC4: =MAX(AB:AB) -> 0 | AD4: =IF(G4="I",COUNT(AD$1:AD3)+1,"") | AE4: =MAX(AD:AD) -> 0 | AF4: =IF(K4="M",COUNT(AF$1:AF3)+1,"") | AG4: =MAX(AF:AF) -> 0 | AH4: =IF(K4="I",COUNT(AH$1:AH3)+1,"") | AI4: =MAX(AH:AH) -> 0 | AJ4: =IF(O4="M",COUNT(AJ$1:AJ3)+1,"") | AK4: =MAX(AJ:AJ) -> 0 | AL4: =IF(O4="I",COUNT(AL$1:AL3)+1,"") | AM4: =MAX(AL:AL) -> 0
A5: 2 | E5: 2 | I5: 2 | M5: 2 | R5: How to use: | X5: =IF(C5="M",COUNT(X$1:X4)+1,"") | Z5: =IF(C5="I",COUNT(Z$1:Z4)+1,"") | AB5: =IF(G5="M",COUNT(AB$1:AB4)+1,"") | AD5: =IF(G5="I",COUNT(AD$1:AD4)+1,"") | AF5: =IF(K5="M",COUNT(AF$1:AF4)+1,"") | AH5: =IF(K5="I",COUNT(AH$1:AH4)+1,"") | AJ5: =IF(O5="M",COUNT(AJ$1:AJ4)+1,"") | AL5: =IF(O5="I",COUNT(AL$1:AL4)+1,"")
A6: 3 | E6: 3 | I6: 3 | M6: 3 | R6: Work through your 2016 DAT Destroyer while recording the answers to the problems in the table to the left. After answering a group of questions (~25) review your answers. | X6: =IF(C6="M",COUNT(X$1:X5)+1,"") | Z6: =IF(C6="I",COUNT(Z$1:Z5)+1,"") | AB6: =IF(G6="M",COUNT(AB$1:AB5)+1,"") | AD6: =IF(G6="I",COUNT(AD$1:AD5)+1,"") | AF6: =IF(K6="M",COUNT(AF$1:AF5)+1,"") | AH6: =IF(K6="I",COUNT(AH$1:AH5)+1,"") | AJ6: =IF(O6="M",COUNT(AJ$1:AJ5)+1,"") | AL6: =IF(O6="I",COUNT(AL$1:AL5)+1,"")
A7: 4 | E7: 4 | I7: 4 | M7: 4 | X7: =IF(C7="M",COUNT(X$1:X6)+1,"") | Z7: =IF(C7="I",COUNT(Z$1:Z6)+1,"") | AB7: =IF(G7="M",COUNT(AB$1:AB6)+1,"") | AD7: =IF(G7="I",COUNT(AD$1:AD6)+1,"") | AF7: =IF(K7="M",COUNT(AF$1:AF6)+1,"") | AH7: =IF(K7="I",COUNT(AH$1:AH6)+1,"") | AJ7: =IF(O7="M",COUNT(AJ$1:AJ6)+1,"") | AL7: =IF(O7="I",COUNT(AL$1:AL6)+1,"")
A8: 5 | E8: 5 | I8: 5 | M8: 5 | X8: =IF(C8="M",COUNT(X$1:X7)+1,"") | Z8: =IF(C8="I",COUNT(Z$1:Z7)+1,"") | AB8: =IF(G8="M",COUNT(AB$1:AB7)+1,"") | AD8: =IF(G8="I",COUNT(AD$1:AD7)+1,"") | AF8: =IF(K8="M",COUNT(AF$1:AF7)+1,"") | AH8: =IF(K8="I",COUNT(AH$1:AH7)+1,"") | AJ8: =IF(O8="M",COUNT(AJ$1:AJ7)+1,"") | AL8: =IF(O8="I",COUNT(AL$1:AL7)+1,"")
A9: 6 | E9: 6 | I9: 6 | M9: 6 | X9: =IF(C9="M",COUNT(X$1:X8)+1,"") | Z9: =IF(C9="I",COUNT(Z$1:Z8)+1,"") | AB9: =IF(G9="M",COUNT(AB$1:AB8)+1,"") | AD9: =IF(G9="I",COUNT(AD$1:AD8)+1,"") | AF9: =IF(K9="M",COUNT(AF$1:AF8)+1,"") | AH9: =IF(K9="I",COUNT(AH$1:AH8)+1,"") | AJ9: =IF(O9="M",COUNT(AJ$1:AJ8)+1,"") | AL9: =IF(O9="I",COUNT(AL$1:AL8)+1,"")
A10: 7 | E10: 7 | I10: 7 | M10: 7 | X10: =IF(C10="M",COUNT(X$1:X9)+1,"") | Z10: =IF(C10="I",COUNT(Z$1:Z9)+1,"") | AB10: =IF(G10="M",COUNT(AB$1:AB9)+1,"") | AD10: =IF(G10="I",COUNT(AD$1:AD9)+1,"") | AF10: =IF(K10="M",COUNT(AF$1:AF9)+1,"") | AH10: =IF(K10="I",COUNT(AH$1:AH9)+1,"") | AJ10: =IF(O10="M",COUNT(AJ$1:AJ9)+1,"") | AL10: =IF(O10="I",COUNT(AL$1:AL9)+1,"")
A11: 8 | E11: 8 | I11: 8 | M11: 8 | X11: =IF(C11="M",COUNT(X$1:X10)+1,"") | Z11: =IF(C11="I",COUNT(Z$1:Z10)+1,"") | AB11: =IF(G11="M",COUNT(AB$1:AB10)+1,"") | AD11: =IF(G11="I",COUNT(AD$1:AD10)+1,"") | AF11: =IF(K11="M",COUNT(AF$1:AF10)+1,"") | AH11: =IF(K11="I",COUNT(AH$1:AH10)+1,"") | AJ11: =IF(O11="M",COUNT(AJ$1:AJ10)+1,"") | AL11: =IF(O11="I",COUNT(AL$1:AL10)+1,"")
A12: 9 | E12: 9 | I12: 9 | M12: 9 | R12: Missed Question = M = M | X12: =IF(C12="M",COUNT(X$1:X11)+1,"") | Z12: =IF(C12="I",COUNT(Z$1:Z11)+1,"") | AB12: =IF(G12="M",COUNT(AB$1:AB11)+1,"") | AD12: =IF(G12="I",COUNT(AD$1:AD11)+1,"") | AF12: =IF(K12="M",COUNT(AF$1:AF11)+1,"") | AH12: =IF(K12="I",COUNT(AH$1:AH11)+1,"") | AJ12: =IF(O12="M",COUNT(AJ$1:AJ11)+1,"") | AL12: =IF(O12="I",COUNT(AL$1:AL11)+1,"")
A13: 10 | E13: 10 | I13: 10 | M13: 10 | R13: Correct (especially important) = I = I | X13: =IF(C13="M",COUNT(X$1:X12)+1,"") | Z13: =IF(C13="I",COUNT(Z$1:Z12)+1,"") | AB13: =IF(G13="M",COUNT(AB$1:AB12)+1,"") | AD13: =IF(G13="I",COUNT(AD$1:AD12)+1,"") | AF13: =IF(K13="M",COUNT(AF$1:AF12)+1,"") | AH13: =IF(K13="I",COUNT(AH$1:AH12)+1,"") | AJ13: =IF(O13="M",COUNT(AJ$1:AJ12)+1,"") | AL13: =IF(O13="I",COUNT(AL$1:AL12)+1,"")
A14: 11 | E14: 11 | I14: 11 | M14: 11 | X14: =IF(C14="M",COUNT(X$1:X13)+1,"") | Z14: =IF(C14="I",COUNT(Z$1:Z13)+1,"") | AB14: =IF(G14="M",COUNT(AB$1:AB13)+1,"") | AD14: =IF(G14="I",COUNT(AD$1:AD13)+1,"") | AF14: =IF(K14="M",COUNT(AF$1:AF13)+1,"") | AH14: =IF(K14="I",COUNT(AH$1:AH13)+1,"") | AJ14: =IF(O14="M",COUNT(AJ$1:AJ13)+1,"") | AL14: =IF(O14="I",COUNT(AL$1:AL13)+1,"")
A15: 12 | E15: 12 | I15: 12 | M15: 12 | R15: After reviewing and marking your questions you will notice that the questions you missed will be highlighted in red while the questions you labeled important are highlighted in green. | X15: =IF(C15="M",COUNT(X$1:X14)+1,"") | Z15: =IF(C15="I",COUNT(Z$1:Z14)+1,"") | AB15: =IF(G15="M",COUNT(AB$1:AB14)+1,"") | AD15: =IF(G15="I",COUNT(AD$1:AD14)+1,"") | AF15: =IF(K15="M",COUNT(AF$1:AF14)+1,"") | AH15: =IF(K15="I",COUNT(AH$1:AH14)+1,"") | AJ15: =IF(O15="M",COUNT(AJ$1:AJ14)+1,"") | AL15: =IF(O15="I",COUNT(AL$1:AL14)+1,"")
A16: 13 | E16: 13 | I16: 13 | M16: 13 | X16: =IF(C16="M",COUNT(X$1:X15)+1,"") | Z16: =IF(C16="I",COUNT(Z$1:Z15)+1,"") | AB16: =IF(G16="M",COUNT(AB$1:AB15)+1,"") | AD16: =IF(G16="I",COUNT(AD$1:AD15)+1,"") | AF16: =IF(K16="M",COUNT(AF$1:AF15)+1,"") | AH16: =IF(K16="I",COUNT(AH$1:AH15)+1,"") | AJ16: =IF(O16="M",COUNT(AJ$1:AJ15)+1,"") | AL16: =IF(O16="I",COUNT(AL$1:AL15)+1,"")
A17: 14 | E17: 14 | I17: 14 | M17: 14 | X17: =IF(C17="M",COUNT(X$1:X16)+1,"") | Z17: =IF(C17="I",COUNT(Z$1:Z16)+1,"") | AB17: =IF(G17="M",COUNT(AB$1:AB16)+1,"") | AD17: =IF(G17="I",COUNT(AD$1:AD16)+1,"") | AF17: =IF(K17="M",COUNT(AF$1:AF16)+1,"") | AH17: =IF(K17="I",COUNT(AH$1:AH16)+1,"") | AJ17: =IF(O17="M",COUNT(AJ$1:AJ16)+1,"") | AL17: =IF(O17="I",COUNT(AL$1:AL16)+1,"")
A18: 15 | E18: 15 | I18: 15 | M18: 15 | X18: =IF(C18="M",COUNT(X$1:X17)+1,"") | Z18: =IF(C18="I",COUNT(Z$1:Z17)+1,"") | AB18: =IF(G18="M",COUNT(AB$1:AB17)+1,"") | AD18: =IF(G18="I",COUNT(AD$1:AD17)+1,"") | AF18: =IF(K18="M",COUNT(AF$1:AF17)+1,"") | AH18: =IF(K18="I",COUNT(AH$1:AH17)+1,"") | AJ18: =IF(O18="M",COUNT(AJ$1:AJ17)+1,"") | AL18: =IF(O18="I",COUNT(AL$1:AL17)+1,"")
A19: 16 | E19: 16 | I19: 16 | M19: 16 | X19: =IF(C19="M",COUNT(X$1:X18)+1,"") | Z19: =IF(C19="I",COUNT(Z$1:Z18)+1,"") | AB19: =IF(G19="M",COUNT(AB$1:AB18)+1,"") | AD19: =IF(G19="I",COUNT(AD$1:AD18)+1,"") | AF19: =IF(K19="M",COUNT(AF$1:AF18)+1,"") | AH19: =IF(K19="I",COUNT(AH$1:AH18)+1,"") | AJ19: =IF(O19="M",COUNT(AJ$1:AJ18)+1,"") | AL19: =IF(O19="I",COUNT(AL$1:AL18)+1,"")
A20: 17 | E20: 17 | I20: 17 | M20: 17 | X20: =IF(C20="M",COUNT(X$1:X19)+1,"") | Z20: =IF(C20="I",COUNT(Z$1:Z19)+1,"") | AB20: =IF(G20="M",COUNT(AB$1:AB19)+1,"") | AD20: =IF(G20="I",COUNT(AD$1:AD19)+1,"") | AF20: =IF(K20="M",COUNT(AF$1:AF19)+1,"") | AH20: =IF(K20="I",COUNT(AH$1:AH19)+1,"") | AJ20: =IF(O20="M",COUNT(AJ$1:AJ19)+1,"") | AL20: =IF(O20="I",COUNT(AL$1:AL19)+1,"")
A21: 18 | E21: 18 | I21: 18 | M21: 18 | X21: =IF(C21="M",COUNT(X$1:X20)+1,"") | Z21: =IF(C21="I",COUNT(Z$1:Z20)+1,"") | AB21: =IF(G21="M",COUNT(AB$1:AB20)+1,"") | AD21: =IF(G21="I",COUNT(AD$1:AD20)+1,"") | AF21: =IF(K21="M",COUNT(AF$1:AF20)+1,"") | AH21: =IF(K21="I",COUNT(AH$1:AH20)+1,"") | AJ21: =IF(O21="M",COUNT(AJ$1:AJ20)+1,"") | AL21: =IF(O21="I",COUNT(AL$1:AL20)+1,"")
A22: 19 | E22: 19 | I22: 19 | M22: 19 | R22: On Sheet 2 you will see a condensed list of all the problems you missed and labeled as important. | X22: =IF(C22="M",COUNT(X$1:X21)+1,"") | Z22: =IF(C22="I",COUNT(Z$1:Z21)+1,"") | AB22: =IF(G22="M",COUNT(AB$1:AB21)+1,"") | AD22: =IF(G22="I",COUNT(AD$1:AD21)+1,"") | AF22: =IF(K22="M",COUNT(AF$1:AF21)+1,"") | AH22: =IF(K22="I",COUNT(AH$1:AH21)+1,"") | AJ22: =IF(O22="M",COUNT(AJ$1:AJ21)+1,"") | AL22: =IF(O22="I",COUNT(AL$1:AL21)+1,"")
A23: 20 | E23: 20 | I23: 20 | M23: 20 | X23: =IF(C23="M",COUNT(X$1:X22)+1,"") | Z23: =IF(C23="I",COUNT(Z$1:Z22)+1,"") | AB23: =IF(G23="M",COUNT(AB$1:AB22)+1,"") | AD23: =IF(G23="I",COUNT(AD$1:AD22)+1,"") | AF23: =IF(K23="M",COUNT(AF$1:AF22)+1,"") | AH23: =IF(K23="I",COUNT(AH$1:AH22)+1,"") | AJ23: =IF(O23="M",COUNT(AJ$1:AJ22)+1,"") | AL23: =IF(O23="I",COUNT(AL$1:AL22)+1,"")
A24: 21 | E24: 21 | I24: 21 | M24: 21 | X24: =IF(C24="M",COUNT(X$1:X23)+1,"") | Z24: =IF(C24="I",COUNT(Z$1:Z23)+1,"") | AB24: =IF(G24="M",COUNT(AB$1:AB23)+1,"") | AD24: =IF(G24="I",COUNT(AD$1:AD23)+1,"") | AF24: =IF(K24="M",COUNT(AF$1:AF23)+1,"") | AH24: =IF(K24="I",COUNT(AH$1:AH23)+1,"") | AJ24: =IF(O24="M",COUNT(AJ$1:AJ23)+1,"") | AL24: =IF(O24="I",COUNT(AL$1:AL23)+1,"")
A25: 22 | E25: 22 | I25: 22 | M25: 22 | X25: =IF(C25="M",COUNT(X$1:X24)+1,"") | Z25: =IF(C25="I",COUNT(Z$1:Z24)+1,"") | AB25: =IF(G25="M",COUNT(AB$1:AB24)+1,"") | AD25: =IF(G25="I",COUNT(AD$1:AD24)+1,"") | AF25: =IF(K25="M",COUNT(AF$1:AF24)+1,"") | AH25: =IF(K25="I",COUNT(AH$1:AH24)+1,"") | AJ25: =IF(O25="M",COUNT(AJ$1:AJ24)+1,"") | AL25: =IF(O25="I",COUNT(AL$1:AL24)+1,"")
A26: 23 | E26: 23 | I26: 23 | M26: 23 | R26: I=important | X26: =IF(C26="M",COUNT(X$1:X25)+1,"") | Z26: =IF(C26="I",COUNT(Z$1:Z25)+1,"") | AB26: =IF(G26="M",COUNT(AB$1:AB25)+1,"") | AD26: =IF(G26="I",COUNT(AD$1:AD25)+1,"") | AF26: =IF(K26="M",COUNT(AF$1:AF25)+1,"") | AH26: =IF(K26="I",COUNT(AH$1:AH25)+1,"") | AJ26: =IF(O26="M",COUNT(AJ$1:AJ25)+1,"") | AL26: =IF(O26="I",COUNT(AL$1:AL25)+1,"")
A27: 24 | E27: 24 | I27: 24 | M27: 24 | R27: M=missed | X27: =IF(C27="M",COUNT(X$1:X26)+1,"") | Z27: =IF(C27="I",COUNT(Z$1:Z26)+1,"") | AB27: =IF(G27="M",COUNT(AB$1:AB26)+1,"") | AD27: =IF(G27="I",COUNT(AD$1:AD26)+1,"") | AF27: =IF(K27="M",COUNT(AF$1:AF26)+1,"") | AH27: =IF(K27="I",COUNT(AH$1:AH26)+1,"") | AJ27: =IF(O27="M",COUNT(AJ$1:AJ26)+1,"") | AL27: =IF(O27="I",COUNT(AL$1:AL26)+1,"")
A28: 25 | E28: 25 | I28: 25 | M28: 25 | X28: =IF(C28="M",COUNT(X$1:X27)+1,"") | Z28: =IF(C28="I",COUNT(Z$1:Z27)+1,"") | AB28: =IF(G28="M",COUNT(AB$1:AB27)+1,"") | AD28: =IF(G28="I",COUNT(AD$1:AD27)+1,"") | AF28: =IF(K28="M",COUNT(AF$1:AF27)+1,"") | AH28: =IF(K28="I",COUNT(AH$1:AH27)+1,"") | AJ28: =IF(O28="M",COUNT(AJ$1:AJ27)+1,"") | AL28: =IF(O28="I",COUNT(AL$1:AL27)+1,"")
A29: 26 | E29: 26 | I29: 26 | M29: 26 | X29: =IF(C29="M",COUNT(X$1:X28)+1,"") | Z29: =IF(C29="I",COUNT(Z$1:Z28)+1,"") | AB29: =IF(G29="M",COUNT(AB$1:AB28)+1,"") | AD29: =IF(G29="I",COUNT(AD$1:AD28)+1,"") | AF29: =IF(K29="M",COUNT(AF$1:AF28)+1,"") | AH29: =IF(K29="I",COUNT(AH$1:AH28)+1,"") | AJ29: =IF(O29="M",COUNT(AJ$1:AJ28)+1,"") | AL29: =IF(O29="I",COUNT(AL$1:AL28)+1,"")
A30: 27 | E30: 27 | I30: 27 | M30: 27 | X30: =IF(C30="M",COUNT(X$1:X29)+1,"") | Z30: =IF(C30="I",COUNT(Z$1:Z29)+1,"") | AB30: =IF(G30="M",COUNT(AB$1:AB29)+1,"") | AD30: =IF(G30="I",COUNT(AD$1:AD29)+1,"") | AF30: =IF(K30="M",COUNT(AF$1:AF29)+1,"") | AH30: =IF(K30="I",COUNT(AH$1:AH29)+1,"") | AJ30: =IF(O30="M",COUNT(AJ$1:AJ29)+1,"") | AL30: =IF(O30="I",COUNT(AL$1:AL29)+1,"")
A31: 28 | E31: 28 | I31: 28 | M31: 28 | X31: =IF(C31="M",COUNT(X$1:X30)+1,"") | Z31: =IF(C31="I",COUNT(Z$1:Z30)+1,"") | AB31: =IF(G31="M",COUNT(AB$1:AB30)+1,"") | AD31: =IF(G31="I",COUNT(AD$1:AD30)+1,"") | AF31: =IF(K31="M",COUNT(AF$1:AF30)+1,"") | AH31: =IF(K31="I",COUNT(AH$1:AH30)+1,"") | AJ31: =IF(O31="M",COUNT(AJ$1:AJ30)+1,"") | AL31: =IF(O31="I",COUNT(AL$1:AL30)+1,"")
A32: 29 | E32: 29 | I32: 29 | M32: 29 | X32: =IF(C32="M",COUNT(X$1:X31)+1,"") | Z32: =IF(C32="I",COUNT(Z$1:Z31)+1,"") | AB32: =IF(G32="M",COUNT(AB$1:AB31)+1,"") | AD32: =IF(G32="I",COUNT(AD$1:AD31)+1,"") | AF32: =IF(K32="M",COUNT(AF$1:AF31)+1,"") | AH32: =IF(K32="I",COUNT(AH$1:AH31)+1,"") | AJ32: =IF(O32="M",COUNT(AJ$1:AJ31)+1,"") | AL32: =IF(O32="I",COUNT(AL$1:AL31)+1,"")
A33: 30 | E33: 30 | I33: 30 | M33: 30 | X33: =IF(C33="M",COUNT(X$1:X32)+1,"") | Z33: =IF(C33="I",COUNT(Z$1:Z32)+1,"") | AB33: =IF(G33="M",COUNT(AB$1:AB32)+1,"") | AD33: =IF(G33="I",COUNT(AD$1:AD32)+1,"") | AF33: =IF(K33="M",COUNT(AF$1:AF32)+1,"") | AH33: =IF(K33="I",COUNT(AH$1:AH32)+1,"") | AJ33: =IF(O33="M",COUNT(AJ$1:AJ32)+1,"") | AL33: =IF(O33="I",COUNT(AL$1:AL32)+1,"")
A34: 31 | E34: 31 | I34: 31 | M34: 31 | X34: =IF(C34="M",COUNT(X$1:X33)+1,"") | Z34: =IF(C34="I",COUNT(Z$1:Z33)+1,"") | AB34: =IF(G34="M",COUNT(AB$1:AB33)+1,"") | AD34: =IF(G34="I",COUNT(AD$1:AD33)+1,"") | AF34: =IF(K34="M",COUNT(AF$1:AF33)+1,"") | AH34: =IF(K34="I",COUNT(AH$1:AH33)+1,"") | AJ34: =IF(O34="M",COUNT(AJ$1:AJ33)+1,"") | AL34: =IF(O34="I",COUNT(AL$1:AL33)+1,"")
A35: 32 | E35: 32 | I35: 32 | M35: 32 | X35: =IF(C35="M",COUNT(X$1:X34)+1,"") | Z35: =IF(C35="I",COUNT(Z$1:Z34)+1,"") | AB35: =IF(G35="M",COUNT(AB$1:AB34)+1,"") | AD35: =IF(G35="I",COUNT(AD$1:AD34)+1,"") | AF35: =IF(K35="M",COUNT(AF$1:AF34)+1,"") | AH35: =IF(K35="I",COUNT(AH$1:AH34)+1,"") | AJ35: =IF(O35="M",COUNT(AJ$1:AJ34)+1,"") | AL35: =IF(O35="I",COUNT(AL$1:AL34)+1,"")
A36: 33 | E36: 33 | I36: 33 | M36: 33 | X36: =IF(C36="M",COUNT(X$1:X35)+1,"") | Z36: =IF(C36="I",COUNT(Z$1:Z35)+1,"") | AB36: =IF(G36="M",COUNT(AB$1:AB35)+1,"") | AD36: =IF(G36="I",COUNT(AD$1:AD35)+1,"") | AF36: =IF(K36="M",COUNT(AF$1:AF35)+1,"") | AH36: =IF(K36="I",COUNT(AH$1:AH35)+1,"") | AJ36: =IF(O36="M",COUNT(AJ$1:AJ35)+1,"") | AL36: =IF(O36="I",COUNT(AL$1:AL35)+1,"")
A37: 34 | E37: 34 | I37: 34 | M37: 34 | X37: =IF(C37="M",COUNT(X$1:X36)+1,"") | Z37: =IF(C37="I",COUNT(Z$1:Z36)+1,"") | AB37: =IF(G37="M",COUNT(AB$1:AB36)+1,"") | AD37: =IF(G37="I",COUNT(AD$1:AD36)+1,"") | AF37: =IF(K37="M",COUNT(AF$1:AF36)+1,"") | AH37: =IF(K37="I",COUNT(AH$1:AH36)+1,"") | AJ37: =IF(O37="M",COUNT(AJ$1:AJ36)+1,"") | AL37: =IF(O37="I",COUNT(AL$1:AL36)+1,"")
A38: 35 | E38: 35 | I38: 35 | M38: 35 | X38: =IF(C38="M",COUNT(X$1:X37)+1,"") | Z38: =IF(C38="I",COUNT(Z$1:Z37)+1,"") | AB38: =IF(G38="M",COUNT(AB$1:AB37)+1,"") | AD38: =IF(G38="I",COUNT(AD$1:AD37)+1,"") | AF38: =IF(K38="M",COUNT(AF$1:AF37)+1,"") | AH38: =IF(K38="I",COUNT(AH$1:AH37)+1,"") | AJ38: =IF(O38="M",COUNT(AJ$1:AJ37)+1,"") | AL38: =IF(O38="I",COUNT(AL$1:AL37)+1,"")
A39: 36 | E39: 36 | I39: 36 | M39: 36 | X39: =IF(C39="M",COUNT(X$1:X38)+1,"") | Z39: =IF(C39="I",COUNT(Z$1:Z38)+1,"") | AB39: =IF(G39="M",COUNT(AB$1:AB38)+1,"") | AD39: =IF(G39="I",COUNT(AD$1:AD38)+1,"") | AF39: =IF(K39="M",COUNT(AF$1:AF38)+1,"") | AH39: =IF(K39="I",COUNT(AH$1:AH38)+1,"") | AJ39: =IF(O39="M",COUNT(AJ$1:AJ38)+1,"") | AL39: =IF(O39="I",COUNT(AL$1:AL38)+1,"")
... A156: 153 | E156: 153 | I156: 153 | M156: 153 | X156: =IF(C156="M",COUNT(X$1:X155)+1,"") | Z156: =IF(C156="I",COUNT(Z$1:Z155)+1,"") | AB156: =IF(G156="M",COUNT(AB$1:AB155)+1,"") | AD156: =IF(G156="I",COUNT(AD$1:AD155)+1,"") | AF156: =IF(K156="M",COUNT(AF$1:AF155)+1,"") | AH156: =IF(K156="I",COUNT(AH$1:AH155)+1,"") | AJ156: =IF(O156="M",COUNT(AJ$1:AJ155)+1,"") | AL156: =IF(O156="I",COUNT(AL$1:AL155)+1,"")
A157: 154 | E157: 154 | I157: 154 | X157: =IF(C157="M",COUNT(X$1:X156)+1,"") | Z157: =IF(C157="I",COUNT(Z$1:Z156)+1,"") | AB157: =IF(G157="M",COUNT(AB$1:AB156)+1,"") | AD157: =IF(G157="I",COUNT(AD$1:AD156)+1,"") | AF157: =IF(K157="M",COUNT(AF$1:AF156)+1,"") | AH157: =IF(K157="I",COUNT(AH$1:AH156)+1,"") | AJ157: =IF(O157="M",COUNT(AJ$1:AJ156)+1,"") | AL157: =IF(O157="I",COUNT(AL$1:AL156)+1,"")
A158: 155 | E158: 155 | I158: 155 | X158: =IF(C158="M",COUNT(X$1:X157)+1,"") | Z158: =IF(C158="I",COUNT(Z$1:Z157)+1,"") | AB158: =IF(G158="M",COUNT(AB$1:AB157)+1,"") | AD158: =IF(G158="I",COUNT(AD$1:AD157)+1,"") | AF158: =IF(K158="M",COUNT(AF$1:AF157)+1,"") | AH158: =IF(K158="I",COUNT(AH$1:AH157)+1,"") | AJ158: =IF(O158="M",COUNT(AJ$1:AJ157)+1,"") | AL158: =IF(O158="I",COUNT(AL$1:AL157)+1,"")
A159: 156 | E159: 156 | I159: 156 | X159: =IF(C159="M",COUNT(X$1:X158)+1,"") | Z159: =IF(C159="I",COUNT(Z$1:Z158)+1,"") | AB159: =IF(G159="M",COUNT(AB$1:AB158)+1,"") | AD159: =IF(G159="I",COUNT(AD$1:AD158)+1,"") | AF159: =IF(K159="M",COUNT(AF$1:AF158)+1,"") | AH159: =IF(K159="I",COUNT(AH$1:AH158)+1,"") | AJ159: =IF(O159="M",COUNT(AJ$1:AJ158)+1,"") | AL159: =IF(O159="I",COUNT(AL$1:AL158)+1,"")
A160: 157 | E160: 157 | I160: 157 | X160: =IF(C160="M",COUNT(X$1:X159)+1,"") | Z160: =IF(C160="I",COUNT(Z$1:Z159)+1,"") | AB160: =IF(G160="M",COUNT(AB$1:AB159)+1,"") | AD160: =IF(G160="I",COUNT(AD$1:AD159)+1,"") | AF160: =IF(K160="M",COUNT(AF$1:AF159)+1,"") | AH160: =IF(K160="I",COUNT(AH$1:AH159)+1,"") | AJ160: =IF(O160="M",COUNT(AJ$1:AJ159)+1,"") | AL160: =IF(O160="I",COUNT(AL$1:AL159)+1,"")
A161: 158 | E161: 158 | I161: 158 | X161: =IF(C161="M",COUNT(X$1:X160)+1,"") | Z161: =IF(C161="I",COUNT(Z$1:Z160)+1,"") | AB161: =IF(G161="M",COUNT(AB$1:AB160)+1,"") | AD161: =IF(G161="I",COUNT(AD$1:AD160)+1,"") | AF161: =IF(K161="M",COUNT(AF$1:AF160)+1,"") | AH161: =IF(K161="I",COUNT(AH$1:AH160)+1,"")
A162: 159 | E162: 159 | I162: 159 | X162: =IF(C162="M",COUNT(X$1:X161)+1,"") | Z162: =IF(C162="I",COUNT(Z$1:Z161)+1,"") | AB162: =IF(G162="M",COUNT(AB$1:AB161)+1,"") | AD162: =IF(G162="I",COUNT(AD$1:AD161)+1,"") | AF162: =IF(K162="M",COUNT(AF$1:AF161)+1,"") | AH162: =IF(K162="I",COUNT(AH$1:AH161)+1,"")
A163: 160 | E163: 160 | I163: 160 | X163: =IF(C163="M",COUNT(X$1:X162)+1,"") | Z163: =IF(C163="I",COUNT(Z$1:Z162)+1,"") | AB163: =IF(G163="M",COUNT(AB$1:AB162)+1,"") | AD163: =IF(G163="I",COUNT(AD$1:AD162)+1,"") | AF163: =IF(K163="M",COUNT(AF$1:AF162)+1,"") | AH163: =IF(K163="I",COUNT(AH$1:AH162)+1,"")
A164: 161 | E164: 161 | I164: 161 | X164: =IF(C164="M",COUNT(X$1:X163)+1,"") | Z164: =IF(C164="I",COUNT(Z$1:Z163)+1,"") | AB164: =IF(G164="M",COUNT(AB$1:AB163)+1,"") | AD164: =IF(G164="I",COUNT(AD$1:AD163)+1,"") | AF164: =IF(K164="M",COUNT(AF$1:AF163)+1,"") | AH164: =IF(K164="I",COUNT(AH$1:AH163)+1,"")
A165: 162 | E165: 162 | I165: 162 | X165: =IF(C165="M",COUNT(X$1:X164)+1,"") | Z165: =IF(C165="I",COUNT(Z$1:Z164)+1,"") | AB165: =IF(G165="M",COUNT(AB$1:AB164)+1,"") | AD165: =IF(G165="I",COUNT(AD$1:AD164)+1,"") | AF165: =IF(K165="M",COUNT(AF$1:AF164)+1,"") | AH165: =IF(K165="I",COUNT(AH$1:AH164)+1,"")
A166: 163 | E166: 163 | I166: 163 | X166: =IF(C166="M",COUNT(X$1:X165)+1,"") | Z166: =IF(C166="I",COUNT(Z$1:Z165)+1,"") | AB166: =IF(G166="M",COUNT(AB$1:AB165)+1,"") | AD166: =IF(G166="I",COUNT(AD$1:AD165)+1,"") | AF166: =IF(K166="M",COUNT(AF$1:AF165)+1,"") | AH166: =IF(K166="I",COUNT(AH$1:AH165)+1,"")
A167: 164 | E167: 164 | I167: 164 | X167: =IF(C167="M",COUNT(X$1:X166)+1,"") | Z167: =IF(C167="I",COUNT(Z$1:Z166)+1,"") | AB167: =IF(G167="M",COUNT(AB$1:AB166)+1,"") | AD167: =IF(G167="I",COUNT(AD$1:AD166)+1,"") | AF167: =IF(K167="M",COUNT(AF$1:AF166)+1,"") | AH167: =IF(K167="I",COUNT(AH$1:AH166)+1,"")
A168: 165 | E168: 165 | I168: 165 | X168: =IF(C168="M",COUNT(X$1:X167)+1,"") | Z168: =IF(C168="I",COUNT(Z$1:Z167)+1,"") | AB168: =IF(G168="M",COUNT(AB$1:AB167)+1,"") | AD168: =IF(G168="I",COUNT(AD$1:AD167)+1,"") | AF168: =IF(K168="M",COUNT(AF$1:AF167)+1,"") | AH168: =IF(K168="I",COUNT(AH$1:AH167)+1,"")
A169: 166 | E169: 166 | I169: 166 | X169: =IF(C169="M",COUNT(X$1:X168)+1,"") | Z169: =IF(C169="I",COUNT(Z$1:Z168)+1,"") | AB169: =IF(G169="M",COUNT(AB$1:AB168)+1,"") | AD169: =IF(G169="I",COUNT(AD$1:AD168)+1,"") | AF169: =IF(K169="M",COUNT(AF$1:AF168)+1,"") | AH169: =IF(K169="I",COUNT(AH$1:AH168)+1,"")
A170: 167 | E170: 167 | I170: 167 | X170: =IF(C170="M",COUNT(X$1:X169)+1,"") | Z170: =IF(C170="I",COUNT(Z$1:Z169)+1,"") | AB170: =IF(G170="M",COUNT(AB$1:AB169)+1,"") | AD170: =IF(G170="I",COUNT(AD$1:AD169)+1,"") | AF170: =IF(K170="M",COUNT(AF$1:AF169)+1,"") | AH170: =IF(K170="I",COUNT(AH$1:AH169)+1,"")
A171: 168 | E171: 168 | I171: 168 | X171: =IF(C171="M",COUNT(X$1:X170)+1,"") | Z171: =IF(C171="I",COUNT(Z$1:Z170)+1,"") | AB171: =IF(G171="M",COUNT(AB$1:AB170)+1,"") | AD171: =IF(G171="I",COUNT(AD$1:AD170)+1,"") | AF171: =IF(K171="M",COUNT(AF$1:AF170)+1,"") | AH171: =IF(K171="I",COUNT(AH$1:AH170)+1,"")
A172: 169 | E172: 169 | I172: 169 | X172: =IF(C172="M",COUNT(X$1:X171)+1,"") | Z172: =IF(C172="I",COUNT(Z$1:Z171)+1,"") | AB172: =IF(G172="M",COUNT(AB$1:AB171)+1,"") | AD172: =IF(G172="I",COUNT(AD$1:AD171)+1,"") | AF172: =IF(K172="M",COUNT(AF$1:AF171)+1,"") | AH172: =IF(K172="I",COUNT(AH$1:AH171)+1,"")
... A595: 592 | E595: 592 | I595: 592 | X595: =IF(C595="M",COUNT(X$1:X594)+1,"") | Z595: =IF(C595="I",COUNT(Z$1:Z594)+1,"") | AB595: =IF(G595="M",COUNT(AB$1:AB594)+1,"") | AD595: =IF(G595="I",COUNT(AD$1:AD594)+1,"") | AF595: =IF(K595="M",COUNT(AF$1:AF594)+1,"") | AH595: =IF(K595="I",COUNT(AH$1:AH594)+1,"")

Sheet Sheet2
A1: MISSED PROBLEMS DAT DESTROYER 2016 | Q1: IMPORTANT PROBLEMS DAT DESTROYER 2016
A3: Ochem | E3: Gen Chem | I3: Biology | M3: QR | Q3: Ochem | U3: Gen Chem | Y3: Biology | AC3: QR
A4: =IF(ROWS($A$4:$A4)>Sheet1!$Y$4,"",INDEX(Sheet1!A:A,MATCH(ROWS($A$4:$A4),Sheet1!$X:$X))) | B4: =IF(ROWS($A$4:$A4)>Sheet1!$Y$4,"",INDEX(Sheet1!B:B,MATCH(ROWS($A$4:$A4),Sheet1!$X:$X))) | C4: =IF(ROWS($A$4:$A4)>Sheet1!$Y$4,"",INDEX(Sheet1!C:C,MATCH(ROWS($A$4:$A4),Sheet1!$X:$X))) | E4: =IF(ROWS($A$4:$A4)>Sheet1!$AC$4,"",INDEX(Sheet1!E:E,MATCH(ROWS($A$4:$A4),Sheet1!$AB:$AB))) | F4: =IF(ROWS($A$4:$A4)>Sheet1!$AC$4,"",INDEX(Sheet1!F:F,MATCH(ROWS($A$4:$A4),Sheet1!$AB:$AB))) | I4: =IF(ROWS($A$4:$A4)>Sheet1!$AG$4,"",INDEX(Sheet1!I:I,MATCH(ROWS($A$4:$A4),Sheet1!$AF:$AF))) | J4: =IF(ROWS($A$4:$A4)>Sheet1!$AG$4,"",INDEX(Sheet1!J:J,MATCH(ROWS($A$4:$A4),Sheet1!$AF:$AF))) | K4: =IF(ROWS($A$4:$A4)>Sheet1!$AG$4,"",INDEX(Sheet1!K:K,MATCH(ROWS($A$4:$A4),Sheet1!$AF:$AF))) | M4: =IF(ROWS($A$4:$A4)>Sheet1!$AK$4,"",INDEX(Sheet1!M:M,MATCH(ROWS($A$4:$A4),Sheet1!$AJ:$AJ))) | N4: =IF(ROWS($A$4:$A4)>Sheet1!$AK$4,"",INDEX(Sheet1!N:N,MATCH(ROWS($A$4:$A4),Sheet1!$AJ:$AJ))) | Q4: =IF(ROWS($A$4:$A4)>Sheet1!$AA$4,"",INDEX(Sheet1!A:A,MATCH(ROWS($A$4:$A4),Sheet1!$Z:$Z))) | R4: =IF(ROWS($A$4:$A4)>Sheet1!$AA$4,"",INDEX(Sheet1!B:B,MATCH(ROWS($A$4:$A4),Sheet1!$Z:$Z))) | S4: =IF(ROWS($A$4:$A4)>Sheet1!$AA$4,"",INDEX(Sheet1!C:C,MATCH(ROWS($A$4:$A4),Sheet1!$Z:$Z))) | U4: =IF(ROWS($A$4:$A4)>Sheet1!$AE$4,"",INDEX(Sheet1!E:E,MATCH(ROWS($A$4:$A4),Sheet1!$AD:$AD))) | V4: =IF(ROWS($A$4:$A4)>Sheet1!$AE$4,"",INDEX(Sheet1!F:F,MATCH(ROWS($A$4:$A4),Sheet1!$AD:$AD))) | W4: =IF(ROWS($A$4:$A4)>Sheet1!$AE$4,"",INDEX(Sheet1!G:G,MATCH(ROWS($A$4:$A4),Sheet1!$AD:$AD))) | Y4: =IF(ROWS($A$4:$A4)>Sheet1!$AI$4,"",INDEX(Sheet1!I:I,MATCH(ROWS($A$4:$A4),Sheet1!$AH:$AH))) | Z4: =IF(ROWS($A$4:$A4)>Sheet1!$AI$4,"",INDEX(Sheet1!J:J,MATCH(ROWS($A$4:$A4),Sheet1!$AH:$AH))) | AA4: =IF(ROWS($A$4:$A4)>Sheet1!$AI$4,"",INDEX(Sheet1!K:K,MATCH(ROWS($A$4:$A4),Sheet1!$AH:$AH))) | AC4: =IF(ROWS($A$4:$A4)>Sheet1!$AM$4,"",INDEX(Sheet1!M:M,MATCH(ROWS($A$4:$A4),Sheet1!$AL:$AL))) | AD4: =IF(ROWS($A$4:$A4)>Sheet1!$AM$4,"",INDEX(Sheet1!N:N,MATCH(ROWS($A$4:$A4),Sheet1!$AL:$AL))) | AE4: =IF(ROWS($A$4:$A4)>Sheet1!$AM$4,"",INDEX(Sheet1!O:O,MATCH(ROWS($A$4:$A4),Sheet1!$AL:$AL)))
A5: =IF(ROWS($A$4:$A5)>Sheet1!$Y$4,"",INDEX(Sheet1!A:A,MATCH(ROWS($A$4:$A5),Sheet1!$X:$X))) | B5: =IF(ROWS($A$4:$A5)>Sheet1!$Y$4,"",INDEX(Sheet1!B:B,MATCH(ROWS($A$4:$A5),Sheet1!$X:$X))) | C5: =IF(ROWS($A$4:$A5)>Sheet1!$Y$4,"",INDEX(Sheet1!C:C,MATCH(ROWS($A$4:$A5),Sheet1!$X:$X))) | E5: =IF(ROWS($A$4:$A5)>Sheet1!$AC$4,"",INDEX(Sheet1!E:E,MATCH(ROWS($A$4:$A5),Sheet1!$AB:$AB))) | F5: =IF(ROWS($A$4:$A5)>Sheet1!$AC$4,"",INDEX(Sheet1!F:F,MATCH(ROWS($A$4:$A5),Sheet1!$AB:$AB))) | G5: =IF(ROWS($A$4:$A5)>Sheet1!$AC$4,"",INDEX(Sheet1!G:G,MATCH(ROWS($A$4:$A5),Sheet1!$AB:$AB))) | I5: =IF(ROWS($A$4:$A5)>Sheet1!$AG$4,"",INDEX(Sheet1!I:I,MATCH(ROWS($A$4:$A5),Sheet1!$AF:$AF))) | J5: =IF(ROWS($A$4:$A5)>Sheet1!$AG$4,"",INDEX(Sheet1!J:J,MATCH(ROWS($A$4:$A5),Sheet1!$AF:$AF))) | K5: =IF(ROWS($A$4:$A5)>Sheet1!$AG$4,"",INDEX(Sheet1!K:K,MATCH(ROWS($A$4:$A5),Sheet1!$AF:$AF))) | M5: =IF(ROWS($A$4:$A5)>Sheet1!$AK$4,"",INDEX(Sheet1!M:M,MATCH(ROWS($A$4:$A5),Sheet1!$AJ:$AJ))) | N5: =IF(ROWS($A$4:$A5)>Sheet1!$AK$4,"",INDEX(Sheet1!N:N,MATCH(ROWS($A$4:$A5),Sheet1!$AJ:$AJ))) | O5: =IF(ROWS($A$4:$A5)>Sheet1!$AK$4,"",INDEX(Sheet1!O:O,MATCH(ROWS($A$4:$A5),Sheet1!$AJ:$AJ))) | Q5: =IF(ROWS($A$4:$A5)>Sheet1!$AA$4,"",INDEX(Sheet1!A:A,MATCH(ROWS($A$4:$A5),Sheet1!$Z:$Z))) | R5: =IF(ROWS($A$4:$A5)>Sheet1!$AA$4,"",INDEX(Sheet1!B:B,MATCH(ROWS($A$4:$A5),Sheet1!$Z:$Z))) | S5: =IF(ROWS($A$4:$A5)>Sheet1!$AA$4,"",INDEX(Sheet1!C:C,MATCH(ROWS($A$4:$A5),Sheet1!$Z:$Z))) | U5: =IF(ROWS($A$4:$A5)>Sheet1!$AE$4,"",INDEX(Sheet1!E:E,MATCH(ROWS($A$4:$A5),Sheet1!$AD:$AD))) | V5: =IF(ROWS($A$4:$A5)>Sheet1!$AE$4,"",INDEX(Sheet1!F:F,MATCH(ROWS($A$4:$A5),Sheet1!$AD:$AD))) | W5: =IF(ROWS($A$4:$A5)>Sheet1!$AE$4,"",INDEX(Sheet1!G:G,MATCH(ROWS($A$4:$A5),Sheet1!$AD:$AD))) | Y5: =IF(ROWS($A$4:$A5)>Sheet1!$AI$4,"",INDEX(Sheet1!I:I,MATCH(ROWS($A$4:$A5),Sheet1!$AH:$AH))) | Z5: =IF(ROWS($A$4:$A5)>Sheet1!$AI$4,"",INDEX(Sheet1!J:J,MATCH(ROWS($A$4:$A5),Sheet1!$AH:$AH))) | AA5: =IF(ROWS($A$4:$A5)>Sheet1!$AI$4,"",INDEX(Sheet1!K:K,MATCH(ROWS($A$4:$A5),Sheet1!$AH:$AH))) | AC5: =IF(ROWS($A$4:$A5)>Sheet1!$AM$4,"",INDEX(Sheet1!M:M,MATCH(ROWS($A$4:$A5),Sheet1!$AL:$AL))) | AD5: =IF(ROWS($A$4:$A5)>Sheet1!$AM$4,"",INDEX(Sheet1!N:N,MATCH(ROWS($A$4:$A5),Sheet1!$AL:$AL))) | AE5: =IF(ROWS($A$4:$A5)>Sheet1!$AM$4,"",INDEX(Sheet1!O:O,MATCH(ROWS($A$4:$A5),Sheet1!$AL:$AL)))
A6: =IF(ROWS($A$4:$A6)>Sheet1!$Y$4,"",INDEX(Sheet1!A:A,MATCH(ROWS($A$4:$A6),Sheet1!$X:$X))) | B6: =IF(ROWS($A$4:$A6)>Sheet1!$Y$4,"",INDEX(Sheet1!B:B,MATCH(ROWS($A$4:$A6),Sheet1!$X:$X))) | C6: =IF(ROWS($A$4:$A6)>Sheet1!$Y$4,"",INDEX(Sheet1!C:C,MATCH(ROWS($A$4:$A6),Sheet1!$X:$X))) | E6: =IF(ROWS($A$4:$A6)>Sheet1!$AC$4,"",INDEX(Sheet1!E:E,MATCH(ROWS($A$4:$A6),Sheet1!$AB:$AB))) | F6: =IF(ROWS($A$4:$A6)>Sheet1!$AC$4,"",INDEX(Sheet1!F:F,MATCH(ROWS($A$4:$A6),Sheet1!$AB:$AB))) | G6: =IF(ROWS($A$4:$A6)>Sheet1!$AC$4,"",INDEX(Sheet1!G:G,MATCH(ROWS($A$4:$A6),Sheet1!$AB:$AB))) | I6: =IF(ROWS($A$4:$A6)>Sheet1!$AG$4,"",INDEX(Sheet1!I:I,MATCH(ROWS($A$4:$A6),Sheet1!$AF:$AF))) | J6: =IF(ROWS($A$4:$A6)>Sheet1!$AG$4,"",INDEX(Sheet1!J:J,MATCH(ROWS($A$4:$A6),Sheet1!$AF:$AF))) | K6: =IF(ROWS($A$4:$A6)>Sheet1!$AG$4,"",INDEX(Sheet1!K:K,MATCH(ROWS($A$4:$A6),Sheet1!$AF:$AF))) | M6: =IF(ROWS($A$4:$A6)>Sheet1!$AK$4,"",INDEX(Sheet1!M:M,MATCH(ROWS($A$4:$A6),Sheet1!$AJ:$AJ))) | N6: =IF(ROWS($A$4:$A6)>Sheet1!$AK$4,"",INDEX(Sheet1!N:N,MATCH(ROWS($A$4:$A6),Sheet1!$AJ:$AJ))) | O6: =IF(ROWS($A$4:$A6)>Sheet1!$AK$4,"",INDEX(Sheet1!O:O,MATCH(ROWS($A$4:$A6),Sheet1!$AJ:$AJ))) | Q6: =IF(ROWS($A$4:$A6)>Sheet1!$AA$4,"",INDEX(Sheet1!A:A,MATCH(ROWS($A$4:$A6),Sheet1!$Z:$Z))) | R6: =IF(ROWS($A$4:$A6)>Sheet1!$AA$4,"",INDEX(Sheet1!B:B,MATCH(ROWS($A$4:$A6),Sheet1!$Z:$Z))) | S6: =IF(ROWS($A$4:$A6)>Sheet1!$AA$4,"",INDEX(Sheet1!C:C,MATCH(ROWS($A$4:$A6),Sheet1!$Z:$Z))) | U6: =IF(ROWS($A$4:$A6)>Sheet1!$AE$4,"",INDEX(Sheet1!E:E,MATCH(ROWS($A$4:$A6),Sheet1!$AD:$AD))) | V6: =IF(ROWS($A$4:$A6)>Sheet1!$AE$4,"",INDEX(Sheet1!F:F,MATCH(ROWS($A$4:$A6),Sheet1!$AD:$AD))) | W6: =IF(ROWS($A$4:$A6)>Sheet1!$AE$4,"",INDEX(Sheet1!G:G,MATCH(ROWS($A$4:$A6),Sheet1!$AD:$AD))) | Y6: =IF(ROWS($A$4:$A6)>Sheet1!$AI$4,"",INDEX(Sheet1!I:I,MATCH(ROWS($A$4:$A6),Sheet1!$AH:$AH))) | Z6: =IF(ROWS($A$4:$A6)>Sheet1!$AI$4,"",INDEX(Sheet1!J:J,MATCH(ROWS($A$4:$A6),Sheet1!$AH:$AH))) | AA6: =IF(ROWS($A$4:$A6)>Sheet1!$AI$4,"",INDEX(Sheet1!K:K,MATCH(ROWS($A$4:$A6),Sheet1!$AH:$AH))) | AC6: =IF(ROWS($A$4:$A6)>Sheet1!$AM$4,"",INDEX(Sheet1!M:M,MATCH(ROWS($A$4:$A6),Sheet1!$AL:$AL))) | AD6: =IF(ROWS($A$4:$A6)>Sheet1!$AM$4,"",INDEX(Sheet1!N:N,MATCH(ROWS($A$4:$A6),Sheet1!$AL:$AL))) | AE6: =IF(ROWS($A$4:$A6)>Sheet1!$AM$4,"",INDEX(Sheet1!O:O,MATCH(ROWS($A$4:$A6),Sheet1!$AL:$AL)))
A7: =IF(ROWS($A$4:$A7)>Sheet1!$Y$4,"",INDEX(Sheet1!A:A,MATCH(ROWS($A$4:$A7),Sheet1!$X:$X))) | B7: =IF(ROWS($A$4:$A7)>Sheet1!$Y$4,"",INDEX(Sheet1!B:B,MATCH(ROWS($A$4:$A7),Sheet1!$X:$X))) | C7: =IF(ROWS($A$4:$A7)>Sheet1!$Y$4,"",INDEX(Sheet1!C:C,MATCH(ROWS($A$4:$A7),Sheet1!$X:$X))) | E7: =IF(ROWS($A$4:$A7)>Sheet1!$AC$4,"",INDEX(Sheet1!E:E,MATCH(ROWS($A$4:$A7),Sheet1!$AB:$AB))) | F7: =IF(ROWS($A$4:$A7)>Sheet1!$AC$4,"",INDEX(Sheet1!F:F,MATCH(ROWS($A$4:$A7),Sheet1!$AB:$AB))) | G7: =IF(ROWS($A$4:$A7)>Sheet1!$AC$4,"",INDEX(Sheet1!G:G,MATCH(ROWS($A$4:$A7),Sheet1!$AB:$AB))) | I7: =IF(ROWS($A$4:$A7)>Sheet1!$AG$4,"",INDEX(Sheet1!I:I,MATCH(ROWS($A$4:$A7),Sheet1!$AF:$AF))) | J7: =IF(ROWS($A$4:$A7)>Sheet1!$AG$4,"",INDEX(Sheet1!J:J,MATCH(ROWS($A$4:$A7),Sheet1!$AF:$AF))) | K7: =IF(ROWS($A$4:$A7)>Sheet1!$AG$4,"",INDEX(Sheet1!K:K,MATCH(ROWS($A$4:$A7),Sheet1!$AF:$AF))) | M7: =IF(ROWS($A$4:$A7)>Sheet1!$AK$4,"",INDEX(Sheet1!M:M,MATCH(ROWS($A$4:$A7),Sheet1!$AJ:$AJ))) | N7: =IF(ROWS($A$4:$A7)>Sheet1!$AK$4,"",INDEX(Sheet1!N:N,MATCH(ROWS($A$4:$A7),Sheet1!$AJ:$AJ))) | O7: =IF(ROWS($A$4:$A7)>Sheet1!$AK$4,"",INDEX(Sheet1!O:O,MATCH(ROWS($A$4:$A7),Sheet1!$AJ:$AJ))) | Q7: =IF(ROWS($A$4:$A7)>Sheet1!$AA$4,"",INDEX(Sheet1!A:A,MATCH(ROWS($A$4:$A7),Sheet1!$Z:$Z))) | R7: =IF(ROWS($A$4:$A7)>Sheet1!$AA$4,"",INDEX(Sheet1!B:B,MATCH(ROWS($A$4:$A7),Sheet1!$Z:$Z))) | S7: =IF(ROWS($A$4:$A7)>Sheet1!$AA$4,"",INDEX(Sheet1!C:C,MATCH(ROWS($A$4:$A7),Sheet1!$Z:$Z))) | U7: =IF(ROWS($A$4:$A7)>Sheet1!$AE$4,"",INDEX(Sheet1!E:E,MATCH(ROWS($A$4:$A7),Sheet1!$AD:$AD))) | V7: =IF(ROWS($A$4:$A7)>Sheet1!$AE$4,"",INDEX(Sheet1!F:F,MATCH(ROWS($A$4:$A7),Sheet1!$AD:$AD))) | W7: =IF(ROWS($A$4:$A7)>Sheet1!$AE$4,"",INDEX(Sheet1!G:G,MATCH(ROWS($A$4:$A7),Sheet1!$AD:$AD))) | Y7: =IF(ROWS($A$4:$A7)>Sheet1!$AI$4,"",INDEX(Sheet1!I:I,MATCH(ROWS($A$4:$A7),Sheet1!$AH:$AH))) | Z7: =IF(ROWS($A$4:$A7)>Sheet1!$AI$4,"",INDEX(Sheet1!J:J,MATCH(ROWS($A$4:$A7),Sheet1!$AH:$AH))) | AA7: =IF(ROWS($A$4:$A7)>Sheet1!$AI$4,"",INDEX(Sheet1!K:K,MATCH(ROWS($A$4:$A7),Sheet1!$AH:$AH))) | AC7: =IF(ROWS($A$4:$A7)>Sheet1!$AM$4,"",INDEX(Sheet1!M:M,MATCH(ROWS($A$4:$A7),Sheet1!$AL:$AL))) | AD7: =IF(ROWS($A$4:$A7)>Sheet1!$AM$4,"",INDEX(Sheet1!N:N,MATCH(ROWS($A$4:$A7),Sheet1!$AL:$AL))) | AE7: =IF(ROWS($A$4:$A7)>Sheet1!$AM$4,"",INDEX(Sheet1!O:O,MATCH(ROWS($A$4:$A7),Sheet1!$AL:$AL)))
A8: =IF(ROWS($A$4:$A8)>Sheet1!$Y$4,"",INDEX(Sheet1!A:A,MATCH(ROWS($A$4:$A8),Sheet1!$X:$X))) | B8: =IF(ROWS($A$4:$A8)>Sheet1!$Y$4,"",INDEX(Sheet1!B:B,MATCH(ROWS($A$4:$A8),Sheet1!$X:$X))) | C8: =IF(ROWS($A$4:$A8)>Sheet1!$Y$4,"",INDEX(Sheet1!C:C,MATCH(ROWS($A$4:$A8),Sheet1!$X:$X))) | E8: =IF(ROWS($A$4:$A8)>Sheet1!$AC$4,"",INDEX(Sheet1!E:E,MATCH(ROWS($A$4:$A8),Sheet1!$AB:$AB))) | F8: =IF(ROWS($A$4:$A8)>Sheet1!$AC$4,"",INDEX(Sheet1!F:F,MATCH(ROWS($A$4:$A8),Sheet1!$AB:$AB))) | G8: =IF(ROWS($A$4:$A8)>Sheet1!$AC$4,"",INDEX(Sheet1!G:G,MATCH(ROWS($A$4:$A8),Sheet1!$AB:$AB))) | I8: =IF(ROWS($A$4:$A8)>Sheet1!$AG$4,"",INDEX(Sheet1!I:I,MATCH(ROWS($A$4:$A8),Sheet1!$AF:$AF))) | J8: =IF(ROWS($A$4:$A8)>Sheet1!$AG$4,"",INDEX(Sheet1!J:J,MATCH(ROWS($A$4:$A8),Sheet1!$AF:$AF))) | K8: =IF(ROWS($A$4:$A8)>Sheet1!$AG$4,"",INDEX(Sheet1!K:K,MATCH(ROWS($A$4:$A8),Sheet1!$AF:$AF))) | M8: =IF(ROWS($A$4:$A8)>Sheet1!$AK$4,"",INDEX(Sheet1!M:M,MATCH(ROWS($A$4:$A8),Sheet1!$AJ:$AJ))) | N8: =IF(ROWS($A$4:$A8)>Sheet1!$AK$4,"",INDEX(Sheet1!N:N,MATCH(ROWS($A$4:$A8),Sheet1!$AJ:$AJ))) | O8: =IF(ROWS($A$4:$A8)>Sheet1!$AK$4,"",INDEX(Sheet1!O:O,MATCH(ROWS($A$4:$A8),Sheet1!$AJ:$AJ))) | Q8: =IF(ROWS($A$4:$A8)>Sheet1!$AA$4,"",INDEX(Sheet1!A:A,MATCH(ROWS($A$4:$A8),Sheet1!$Z:$Z))) | R8: =IF(ROWS($A$4:$A8)>Sheet1!$AA$4,"",INDEX(Sheet1!B:B,MATCH(ROWS($A$4:$A8),Sheet1!$Z:$Z))) | S8: =IF(ROWS($A$4:$A8)>Sheet1!$AA$4,"",INDEX(Sheet1!C:C,MATCH(ROWS($A$4:$A8),Sheet1!$Z:$Z))) | U8: =IF(ROWS($A$4:$A8)>Sheet1!$AE$4,"",INDEX(Sheet1!E:E,MATCH(ROWS($A$4:$A8),Sheet1!$AD:$AD))) | V8: =IF(ROWS($A$4:$A8)>Sheet1!$AE$4,"",INDEX(Sheet1!F:F,MATCH(ROWS($A$4:$A8),Sheet1!$AD:$AD))) | W8: =IF(ROWS($A$4:$A8)>Sheet1!$AE$4,"",INDEX(Sheet1!G:G,MATCH(ROWS($A$4:$A8),Sheet1!$AD:$AD))) | Y8: =IF(ROWS($A$4:$A8)>Sheet1!$AI$4,"",INDEX(Sheet1!I:I,MATCH(ROWS($A$4:$A8),Sheet1!$AH:$AH))) | Z8: =IF(ROWS($A$4:$A8)>Sheet1!$AI$4,"",INDEX(Sheet1!J:J,MATCH(ROWS($A$4:$A8),Sheet1!$AH:$AH))) | AA8: =IF(ROWS($A$4:$A8)>Sheet1!$AI$4,"",INDEX(Sheet1!K:K,MATCH(ROWS($A$4:$A8),Sheet1!$AH:$AH))) | AC8: =IF(ROWS($A$4:$A8)>Sheet1!$AM$4,"",INDEX(Sheet1!M:M,MATCH(ROWS($A$4:$A8),Sheet1!$AL:$AL))) | AD8: =IF(ROWS($A$4:$A8)>Sheet1!$AM$4,"",INDEX(Sheet1!N:N,MATCH(ROWS($A$4:$A8),Sheet1!$AL:$AL))) | AE8: =IF(ROWS($A$4:$A8)>Sheet1!$AM$4,"",INDEX(Sheet1!O:O,MATCH(ROWS($A$4:$A8),Sheet1!$AL:$AL)))
A9: =IF(ROWS($A$4:$A9)>Sheet1!$Y$4,"",INDEX(Sheet1!A:A,MATCH(ROWS($A$4:$A9),Sheet1!$X:$X))) | B9: =IF(ROWS($A$4:$A9)>Sheet1!$Y$4,"",INDEX(Sheet1!B:B,MATCH(ROWS($A$4:$A9),Sheet1!$X:$X))) | C9: =IF(ROWS($A$4:$A9)>Sheet1!$Y$4,"",INDEX(Sheet1!C:C,MATCH(ROWS($A$4:$A9),Sheet1!$X:$X))) | E9: =IF(ROWS($A$4:$A9)>Sheet1!$AC$4,"",INDEX(Sheet1!E:E,MATCH(ROWS($A$4:$A9),Sheet1!$AB:$AB))) | F9: =IF(ROWS($A$4:$A9)>Sheet1!$AC$4,"",INDEX(Sheet1!F:F,MATCH(ROWS($A$4:$A9),Sheet1!$AB:$AB))) | G9: =IF(ROWS($A$4:$A9)>Sheet1!$AC$4,"",INDEX(Sheet1!G:G,MATCH(ROWS($A$4:$A9),Sheet1!$AB:$AB))) | I9: =IF(ROWS($A$4:$A9)>Sheet1!$AG$4,"",INDEX(Sheet1!I:I,MATCH(ROWS($A$4:$A9),Sheet1!$AF:$AF))) | J9: =IF(ROWS($A$4:$A9)>Sheet1!$AG$4,"",INDEX(Sheet1!J:J,MATCH(ROWS($A$4:$A9),Sheet1!$AF:$AF))) | K9: =IF(ROWS($A$4:$A9)>Sheet1!$AG$4,"",INDEX(Sheet1!K:K,MATCH(ROWS($A$4:$A9),Sheet1!$AF:$AF))) | M9: =IF(ROWS($A$4:$A9)>Sheet1!$AK$4,"",INDEX(Sheet1!M:M,MATCH(ROWS($A$4:$A9),Sheet1!$AJ:$AJ))) | N9: =IF(ROWS($A$4:$A9)>Sheet1!$AK$4,"",INDEX(Sheet1!N:N,MATCH(ROWS($A$4:$A9),Sheet1!$AJ:$AJ))) | O9: =IF(ROWS($A$4:$A9)>Sheet1!$AK$4,"",INDEX(Sheet1!O:O,MATCH(ROWS($A$4:$A9),Sheet1!$AJ:$AJ))) | Q9: =IF(ROWS($A$4:$A9)>Sheet1!$AA$4,"",INDEX(Sheet1!A:A,MATCH(ROWS($A$4:$A9),Sheet1!$Z:$Z))) | R9: =IF(ROWS($A$4:$A9)>Sheet1!$AA$4,"",INDEX(Sheet1!B:B,MATCH(ROWS($A$4:$A9),Sheet1!$Z:$Z))) | S9: =IF(ROWS($A$4:$A9)>Sheet1!$AA$4,"",INDEX(Sheet1!C:C,MATCH(ROWS($A$4:$A9),Sheet1!$Z:$Z))) | U9: =IF(ROWS($A$4:$A9)>Sheet1!$AE$4,"",INDEX(Sheet1!E:E,MATCH(ROWS($A$4:$A9),Sheet1!$AD:$AD))) | V9: =IF(ROWS($A$4:$A9)>Sheet1!$AE$4,"",INDEX(Sheet1!F:F,MATCH(ROWS($A$4:$A9),Sheet1!$AD:$AD))) | W9: =IF(ROWS($A$4:$A9)>Sheet1!$AE$4,"",INDEX(Sheet1!G:G,MATCH(ROWS($A$4:$A9),Sheet1!$AD:$AD))) | Y9: =IF(ROWS($A$4:$A9)>Sheet1!$AI$4,"",INDEX(Sheet1!I:I,MATCH(ROWS($A$4:$A9),Sheet1!$AH:$AH))) | Z9: =IF(ROWS($A$4:$A9)>Sheet1!$AI$4,"",INDEX(Sheet1!J:J,MATCH(ROWS($A$4:$A9),Sheet1!$AH:$AH))) | AA9: =IF(ROWS($A$4:$A9)>Sheet1!$AI$4,"",INDEX(Sheet1!K:K,MATCH(ROWS($A$4:$A9),Sheet1!$AH:$AH))) | AC9: =IF(ROWS($A$4:$A9)>Sheet1!$AM$4,"",INDEX(Sheet1!M:M,MATCH(ROWS($A$4:$A9),Sheet1!$AL:$AL))) | AD9: =IF(ROWS($A$4:$A9)>Sheet1!$AM$4,"",INDEX(Sheet1!N:N,MATCH(ROWS($A$4:$A9),Sheet1!$AL:$AL))) | AE9: =IF(ROWS($A$4:$A9)>Sheet1!$AM$4,"",INDEX(Sheet1!O:O,MATCH(ROWS($A$4:$A9),Sheet1!$AL:$AL)))
A10: =IF(ROWS($A$4:$A10)>Sheet1!$Y$4,"",INDEX(Sheet1!A:A,MATCH(ROWS($A$4:$A10),Sheet1!$X:$X))) | B10: =IF(ROWS($A$4:$A10)>Sheet1!$Y$4,"",INDEX(Sheet1!B:B,MATCH(ROWS($A$4:$A10),Sheet1!$X:$X))) | C10: =IF(ROWS($A$4:$A10)>Sheet1!$Y$4,"",INDEX(Sheet1!C:C,MATCH(ROWS($A$4:$A10),Sheet1!$X:$X))) | E10: =IF(ROWS($A$4:$A10)>Sheet1!$AC$4,"",INDEX(Sheet1!E:E,MATCH(ROWS($A$4:$A10),Sheet1!$AB:$AB))) | F10: =IF(ROWS($A$4:$A10)>Sheet1!$AC$4,"",INDEX(Sheet1!F:F,MATCH(ROWS($A$4:$A10),Sheet1!$AB:$AB))) | G10: =IF(ROWS($A$4:$A10)>Sheet1!$AC$4,"",INDEX(Sheet1!G:G,MATCH(ROWS($A$4:$A10),Sheet1!$AB:$AB))) | I10: =IF(ROWS($A$4:$A10)>Sheet1!$AG$4,"",INDEX(Sheet1!I:I,MATCH(ROWS($A$4:$A10),Sheet1!$AF:$AF))) | J10: =IF(ROWS($A$4:$A10)>Sheet1!$AG$4,"",INDEX(Sheet1!J:J,MATCH(ROWS($A$4:$A10),Sheet1!$AF:$AF))) | K10: =IF(ROWS($A$4:$A10)>Sheet1!$AG$4,"",INDEX(Sheet1!K:K,MATCH(ROWS($A$4:$A10),Sheet1!$AF:$AF))) | M10: =IF(ROWS($A$4:$A10)>Sheet1!$AK$4,"",INDEX(Sheet1!M:M,MATCH(ROWS($A$4:$A10),Sheet1!$AJ:$AJ))) | N10: =IF(ROWS($A$4:$A10)>Sheet1!$AK$4,"",INDEX(Sheet1!N:N,MATCH(ROWS($A$4:$A10),Sheet1!$AJ:$AJ))) | O10: =IF(ROWS($A$4:$A10)>Sheet1!$AK$4,"",INDEX(Sheet1!O:O,MATCH(ROWS($A$4:$A10),Sheet1!$AJ:$AJ))) | Q10: =IF(ROWS($A$4:$A10)>Sheet1!$AA$4,"",INDEX(Sheet1!A:A,MATCH(ROWS($A$4:$A10),Sheet1!$Z:$Z))) | R10: =IF(ROWS($A$4:$A10)>Sheet1!$AA$4,"",INDEX(Sheet1!B:B,MATCH(ROWS($A$4:$A10),Sheet1!$Z:$Z))) | S10: =IF(ROWS($A$4:$A10)>Sheet1!$AA$4,"",INDEX(Sheet1!C:C,MATCH(ROWS($A$4:$A10),Sheet1!$Z:$Z))) | U10: =IF(ROWS($A$4:$A10)>Sheet1!$AE$4,"",INDEX(Sheet1!E:E,MATCH(ROWS($A$4:$A10),Sheet1!$AD:$AD))) | V10: =IF(ROWS($A$4:$A10)>Sheet1!$AE$4,"",INDEX(Sheet1!F:F,MATCH(ROWS($A$4:$A10),Sheet1!$AD:$AD))) | W10: =IF(ROWS($A$4:$A10)>Sheet1!$AE$4,"",INDEX(Sheet1!G:G,MATCH(ROWS($A$4:$A10),Sheet1!$AD:$AD))) | Y10: =IF(ROWS($A$4:$A10)>Sheet1!$AI$4,"",INDEX(Sheet1!I:I,MATCH(ROWS($A$4:$A10),Sheet1!$AH:$AH))) | Z10: =IF(ROWS($A$4:$A10)>Sheet1!$AI$4,"",INDEX(Sheet1!J:J,MATCH(ROWS($A$4:$A10),Sheet1!$AH:$AH))) | AA10: =IF(ROWS($A$4:$A10)>Sheet1!$AI$4,"",INDEX(Sheet1!K:K,MATCH(ROWS($A$4:$A10),Sheet1!$AH:$AH))) | AC10: =IF(ROWS($A$4:$A10)>Sheet1!$AM$4,"",INDEX(Sheet1!M:M,MATCH(ROWS($A$4:$A10),Sheet1!$AL:$AL))) | AD10: =IF(ROWS($A$4:$A10)>Sheet1!$AM$4,"",INDEX(Sheet1!N:N,MATCH(ROWS($A$4:$A10),Sheet1!$AL:$AL))) | AE10: =IF(ROWS($A$4:$A10)>Sheet1!$AM$4,"",INDEX(Sheet1!O:O,MATCH(ROWS($A$4:$A10),Sheet1!$AL:$AL)))
A11: =IF(ROWS($A$4:$A11)>Sheet1!$Y$4,"",INDEX(Sheet1!A:A,MATCH(ROWS($A$4:$A11),Sheet1!$X:$X))) | B11: =IF(ROWS($A$4:$A11)>Sheet1!$Y$4,"",INDEX(Sheet1!B:B,MATCH(ROWS($A$4:$A11),Sheet1!$X:$X))) | C11: =IF(ROWS($A$4:$A11)>Sheet1!$Y$4,"",INDEX(Sheet1!C:C,MATCH(ROWS($A$4:$A11),Sheet1!$X:$X))) | E11: =IF(ROWS($A$4:$A11)>Sheet1!$AC$4,"",INDEX(Sheet1!E:E,MATCH(ROWS($A$4:$A11),Sheet1!$AB:$AB))) | F11: =IF(ROWS($A$4:$A11)>Sheet1!$AC$4,"",INDEX(Sheet1!F:F,MATCH(ROWS($A$4:$A11),Sheet1!$AB:$AB))) | G11: =IF(ROWS($A$4:$A11)>Sheet1!$AC$4,"",INDEX(Sheet1!G:G,MATCH(ROWS($A$4:$A11),Sheet1!$AB:$AB))) | I11: =IF(ROWS($A$4:$A11)>Sheet1!$AG$4,"",INDEX(Sheet1!I:I,MATCH(ROWS($A$4:$A11),Sheet1!$AF:$AF))) | J11: =IF(ROWS($A$4:$A11)>Sheet1!$AG$4,"",INDEX(Sheet1!J:J,MATCH(ROWS($A$4:$A11),Sheet1!$AF:$AF))) | K11: =IF(ROWS($A$4:$A11)>Sheet1!$AG$4,"",INDEX(Sheet1!K:K,MATCH(ROWS($A$4:$A11),Sheet1!$AF:$AF))) | M11: =IF(ROWS($A$4:$A11)>Sheet1!$AK$4,"",INDEX(Sheet1!M:M,MATCH(ROWS($A$4:$A11),Sheet1!$AJ:$AJ))) | N11: =IF(ROWS($A$4:$A11)>Sheet1!$AK$4,"",INDEX(Sheet1!N:N,MATCH(ROWS($A$4:$A11),Sheet1!$AJ:$AJ))) | O11: =IF(ROWS($A$4:$A11)>Sheet1!$AK$4,"",INDEX(Sheet1!O:O,MATCH(ROWS($A$4:$A11),Sheet1!$AJ:$AJ))) | Q11: =IF(ROWS($A$4:$A11)>Sheet1!$AA$4,"",INDEX(Sheet1!A:A,MATCH(ROWS($A$4:$A11),Sheet1!$Z:$Z))) | R11: =IF(ROWS($A$4:$A11)>Sheet1!$AA$4,"",INDEX(Sheet1!B:B,MATCH(ROWS($A$4:$A11),Sheet1!$Z:$Z))) | S11: =IF(ROWS($A$4:$A11)>Sheet1!$AA$4,"",INDEX(Sheet1!C:C,MATCH(ROWS($A$4:$A11),Sheet1!$Z:$Z))) | U11: =IF(ROWS($A$4:$A11)>Sheet1!$AE$4,"",INDEX(Sheet1!E:E,MATCH(ROWS($A$4:$A11),Sheet1!$AD:$AD))) | V11: =IF(ROWS($A$4:$A11)>Sheet1!$AE$4,"",INDEX(Sheet1!F:F,MATCH(ROWS($A$4:$A11),Sheet1!$AD:$AD))) | W11: =IF(ROWS($A$4:$A11)>Sheet1!$AE$4,"",INDEX(Sheet1!G:G,MATCH(ROWS($A$4:$A11),Sheet1!$AD:$AD))) | Y11: =IF(ROWS($A$4:$A11)>Sheet1!$AI$4,"",INDEX(Sheet1!I:I,MATCH(ROWS($A$4:$A11),Sheet1!$AH:$AH))) | Z11: =IF(ROWS($A$4:$A11)>Sheet1!$AI$4,"",INDEX(Sheet1!J:J,MATCH(ROWS($A$4:$A11),Sheet1!$AH:$AH))) | AA11: =IF(ROWS($A$4:$A11)>Sheet1!$AI$4,"",INDEX(Sheet1!K:K,MATCH(ROWS($A$4:$A11),Sheet1!$AH:$AH))) | AC11: =IF(ROWS($A$4:$A11)>Sheet1!$AM$4,"",INDEX(Sheet1!M:M,MATCH(ROWS($A$4:$A11),Sheet1!$AL:$AL))) | AD11: =IF(ROWS($A$4:$A11)>Sheet1!$AM$4,"",INDEX(Sheet1!N:N,MATCH(ROWS($A$4:$A11),Sheet1!$AL:$AL))) | AE11: =IF(ROWS($A$4:$A11)>Sheet1!$AM$4,"",INDEX(Sheet1!O:O,MATCH(ROWS($A$4:$A11),Sheet1!$AL:$AL)))
A12: =IF(ROWS($A$4:$A12)>Sheet1!$Y$4,"",INDEX(Sheet1!A:A,MATCH(ROWS($A$4:$A12),Sheet1!$X:$X))) | B12: =IF(ROWS($A$4:$A12)>Sheet1!$Y$4,"",INDEX(Sheet1!B:B,MATCH(ROWS($A$4:$A12),Sheet1!$X:$X))) | C12: =IF(ROWS($A$4:$A12)>Sheet1!$Y$4,"",INDEX(Sheet1!C:C,MATCH(ROWS($A$4:$A12),Sheet1!$X:$X))) | E12: =IF(ROWS($A$4:$A12)>Sheet1!$AC$4,"",INDEX(Sheet1!E:E,MATCH(ROWS($A$4:$A12),Sheet1!$AB:$AB))) | F12: =IF(ROWS($A$4:$A12)>Sheet1!$AC$4,"",INDEX(Sheet1!F:F,MATCH(ROWS($A$4:$A12),Sheet1!$AB:$AB))) | G12: =IF(ROWS($A$4:$A12)>Sheet1!$AC$4,"",INDEX(Sheet1!G:G,MATCH(ROWS($A$4:$A12),Sheet1!$AB:$AB))) | I12: =IF(ROWS($A$4:$A12)>Sheet1!$AG$4,"",INDEX(Sheet1!I:I,MATCH(ROWS($A$4:$A12),Sheet1!$AF:$AF))) | J12: =IF(ROWS($A$4:$A12)>Sheet1!$AG$4,"",INDEX(Sheet1!J:J,MATCH(ROWS($A$4:$A12),Sheet1!$AF:$AF))) | K12: =IF(ROWS($A$4:$A12)>Sheet1!$AG$4,"",INDEX(Sheet1!K:K,MATCH(ROWS($A$4:$A12),Sheet1!$AF:$AF))) | M12: =IF(ROWS($A$4:$A12)>Sheet1!$AK$4,"",INDEX(Sheet1!M:M,MATCH(ROWS($A$4:$A12),Sheet1!$AJ:$AJ))) | N12: =IF(ROWS($A$4:$A12)>Sheet1!$AK$4,"",INDEX(Sheet1!N:N,MATCH(ROWS($A$4:$A12),Sheet1!$AJ:$AJ))) | O12: =IF(ROWS($A$4:$A12)>Sheet1!$AK$4,"",INDEX(Sheet1!O:O,MATCH(ROWS($A$4:$A12),Sheet1!$AJ:$AJ))) | Q12: =IF(ROWS($A$4:$A12)>Sheet1!$AA$4,"",INDEX(Sheet1!A:A,MATCH(ROWS($A$4:$A12),Sheet1!$Z:$Z))) | R12: =IF(ROWS($A$4:$A12)>Sheet1!$AA$4,"",INDEX(Sheet1!B:B,MATCH(ROWS($A$4:$A12),Sheet1!$Z:$Z))) | S12: =IF(ROWS($A$4:$A12)>Sheet1!$AA$4,"",INDEX(Sheet1!C:C,MATCH(ROWS($A$4:$A12),Sheet1!$Z:$Z))) | U12: =IF(ROWS($A$4:$A12)>Sheet1!$AE$4,"",INDEX(Sheet1!E:E,MATCH(ROWS($A$4:$A12),Sheet1!$AD:$AD))) | V12: =IF(ROWS($A$4:$A12)>Sheet1!$AE$4,"",INDEX(Sheet1!F:F,MATCH(ROWS($A$4:$A12),Sheet1!$AD:$AD))) | W12: =IF(ROWS($A$4:$A12)>Sheet1!$AE$4,"",INDEX(Sheet1!G:G,MATCH(ROWS($A$4:$A12),Sheet1!$AD:$AD))) | Y12: =IF(ROWS($A$4:$A12)>Sheet1!$AI$4,"",INDEX(Sheet1!I:I,MATCH(ROWS($A$4:$A12),Sheet1!$AH:$AH))) | Z12: =IF(ROWS($A$4:$A12)>Sheet1!$AI$4,"",INDEX(Sheet1!J:J,MATCH(ROWS($A$4:$A12),Sheet1!$AH:$AH))) | AA12: =IF(ROWS($A$4:$A12)>Sheet1!$AI$4,"",INDEX(Sheet1!K:K,MATCH(ROWS($A$4:$A12),Sheet1!$AH:$AH))) | AC12: =IF(ROWS($A$4:$A12)>Sheet1!$AM$4,"",INDEX(Sheet1!M:M,MATCH(ROWS($A$4:$A12),Sheet1!$AL:$AL))) | AD12: =IF(ROWS($A$4:$A12)>Sheet1!$AM$4,"",INDEX(Sheet1!N:N,MATCH(ROWS($A$4:$A12),Sheet1!$AL:$AL))) | AE12: =IF(ROWS($A$4:$A12)>Sheet1!$AM$4,"",INDEX(Sheet1!O:O,MATCH(ROWS($A$4:$A12),Sheet1!$AL:$AL)))
A13: =IF(ROWS($A$4:$A13)>Sheet1!$Y$4,"",INDEX(Sheet1!A:A,MATCH(ROWS($A$4:$A13),Sheet1!$X:$X))) | B13: =IF(ROWS($A$4:$A13)>Sheet1!$Y$4,"",INDEX(Sheet1!B:B,MATCH(ROWS($A$4:$A13),Sheet1!$X:$X))) | C13: =IF(ROWS($A$4:$A13)>Sheet1!$Y$4,"",INDEX(Sheet1!C:C,MATCH(ROWS($A$4:$A13),Sheet1!$X:$X))) | E13: =IF(ROWS($A$4:$A13)>Sheet1!$AC$4,"",INDEX(Sheet1!E:E,MATCH(ROWS($A$4:$A13),Sheet1!$AB:$AB))) | F13: =IF(ROWS($A$4:$A13)>Sheet1!$AC$4,"",INDEX(Sheet1!F:F,MATCH(ROWS($A$4:$A13),Sheet1!$AB:$AB))) | G13: =IF(ROWS($A$4:$A13)>Sheet1!$AC$4,"",INDEX(Sheet1!G:G,MATCH(ROWS($A$4:$A13),Sheet1!$AB:$AB))) | I13: =IF(ROWS($A$4:$A13)>Sheet1!$AG$4,"",INDEX(Sheet1!I:I,MATCH(ROWS($A$4:$A13),Sheet1!$AF:$AF))) | J13: =IF(ROWS($A$4:$A13)>Sheet1!$AG$4,"",INDEX(Sheet1!J:J,MATCH(ROWS($A$4:$A13),Sheet1!$AF:$AF))) | K13: =IF(ROWS($A$4:$A13)>Sheet1!$AG$4,"",INDEX(Sheet1!K:K,MATCH(ROWS($A$4:$A13),Sheet1!$AF:$AF))) | M13: =IF(ROWS($A$4:$A13)>Sheet1!$AK$4,"",INDEX(Sheet1!M:M,MATCH(ROWS($A$4:$A13),Sheet1!$AJ:$AJ))) | N13: =IF(ROWS($A$4:$A13)>Sheet1!$AK$4,"",INDEX(Sheet1!N:N,MATCH(ROWS($A$4:$A13),Sheet1!$AJ:$AJ))) | O13: =IF(ROWS($A$4:$A13)>Sheet1!$AK$4,"",INDEX(Sheet1!O:O,MATCH(ROWS($A$4:$A13),Sheet1!$AJ:$AJ))) | Q13: =IF(ROWS($A$4:$A13)>Sheet1!$AA$4,"",INDEX(Sheet1!A:A,MATCH(ROWS($A$4:$A13),Sheet1!$Z:$Z))) | R13: =IF(ROWS($A$4:$A13)>Sheet1!$AA$4,"",INDEX(Sheet1!B:B,MATCH(ROWS($A$4:$A13),Sheet1!$Z:$Z))) | S13: =IF(ROWS($A$4:$A13)>Sheet1!$AA$4,"",INDEX(Sheet1!C:C,MATCH(ROWS($A$4:$A13),Sheet1!$Z:$Z))) | U13: =IF(ROWS($A$4:$A13)>Sheet1!$AE$4,"",INDEX(Sheet1!E:E,MATCH(ROWS($A$4:$A13),Sheet1!$AD:$AD))) | V13: =IF(ROWS($A$4:$A13)>Sheet1!$AE$4,"",INDEX(Sheet1!F:F,MATCH(ROWS($A$4:$A13),Sheet1!$AD:$AD))) | W13: =IF(ROWS($A$4:$A13)>Sheet1!$AE$4,"",INDEX(Sheet1!G:G,MATCH(ROWS($A$4:$A13),Sheet1!$AD:$AD))) | Y13: =IF(ROWS($A$4:$A13)>Sheet1!$AI$4,"",INDEX(Sheet1!I:I,MATCH(ROWS($A$4:$A13),Sheet1!$AH:$AH))) | Z13: =IF(ROWS($A$4:$A13)>Sheet1!$AI$4,"",INDEX(Sheet1!J:J,MATCH(ROWS($A$4:$A13),Sheet1!$AH:$AH))) | AA13: =IF(ROWS($A$4:$A13)>Sheet1!$AI$4,"",INDEX(Sheet1!K:K,MATCH(ROWS($A$4:$A13),Sheet1!$AH:$AH))) | AC13: =IF(ROWS($A$4:$A13)>Sheet1!$AM$4,"",INDEX(Sheet1!M:M,MATCH(ROWS($A$4:$A13),Sheet1!$AL:$AL))) | AD13: =IF(ROWS($A$4:$A13)>Sheet1!$AM$4,"",INDEX(Sheet1!N:N,MATCH(ROWS($A$4:$A13),Sheet1!$AL:$AL))) | AE13: =IF(ROWS($A$4:$A13)>Sheet1!$AM$4,"",INDEX(Sheet1!O:O,MATCH(ROWS($A$4:$A13),Sheet1!$AL:$AL)))
A14: =IF(ROWS($A$4:$A14)>Sheet1!$Y$4,"",INDEX(Sheet1!A:A,MATCH(ROWS($A$4:$A14),Sheet1!$X:$X))) | B14: =IF(ROWS($A$4:$A14)>Sheet1!$Y$4,"",INDEX(Sheet1!B:B,MATCH(ROWS($A$4:$A14),Sheet1!$X:$X))) | C14: =IF(ROWS($A$4:$A14)>Sheet1!$Y$4,"",INDEX(Sheet1!C:C,MATCH(ROWS($A$4:$A14),Sheet1!$X:$X))) | E14: =IF(ROWS($A$4:$A14)>Sheet1!$AC$4,"",INDEX(Sheet1!E:E,MATCH(ROWS($A$4:$A14),Sheet1!$AB:$AB))) | F14: =IF(ROWS($A$4:$A14)>Sheet1!$AC$4,"",INDEX(Sheet1!F:F,MATCH(ROWS($A$4:$A14),Sheet1!$AB:$AB))) | G14: =IF(ROWS($A$4:$A14)>Sheet1!$AC$4,"",INDEX(Sheet1!G:G,MATCH(ROWS($A$4:$A14),Sheet1!$AB:$AB))) | I14: =IF(ROWS($A$4:$A14)>Sheet1!$AG$4,"",INDEX(Sheet1!I:I,MATCH(ROWS($A$4:$A14),Sheet1!$AF:$AF))) | J14: =IF(ROWS($A$4:$A14)>Sheet1!$AG$4,"",INDEX(Sheet1!J:J,MATCH(ROWS($A$4:$A14),Sheet1!$AF:$AF))) | K14: =IF(ROWS($A$4:$A14)>Sheet1!$AG$4,"",INDEX(Sheet1!K:K,MATCH(ROWS($A$4:$A14),Sheet1!$AF:$AF))) | M14: =IF(ROWS($A$4:$A14)>Sheet1!$AK$4,"",INDEX(Sheet1!M:M,MATCH(ROWS($A$4:$A14),Sheet1!$AJ:$AJ))) | N14: =IF(ROWS($A$4:$A14)>Sheet1!$AK$4,"",INDEX(Sheet1!N:N,MATCH(ROWS($A$4:$A14),Sheet1!$AJ:$AJ))) | O14: =IF(ROWS($A$4:$A14)>Sheet1!$AK$4,"",INDEX(Sheet1!O:O,MATCH(ROWS($A$4:$A14),Sheet1!$AJ:$AJ))) | Q14: =IF(ROWS($A$4:$A14)>Sheet1!$AA$4,"",INDEX(Sheet1!A:A,MATCH(ROWS($A$4:$A14),Sheet1!$Z:$Z))) | R14: =IF(ROWS($A$4:$A14)>Sheet1!$AA$4,"",INDEX(Sheet1!B:B,MATCH(ROWS($A$4:$A14),Sheet1!$Z:$Z))) | S14: =IF(ROWS($A$4:$A14)>Sheet1!$AA$4,"",INDEX(Sheet1!C:C,MATCH(ROWS($A$4:$A14),Sheet1!$Z:$Z))) | U14: =IF(ROWS($A$4:$A14)>Sheet1!$AE$4,"",INDEX(Sheet1!E:E,MATCH(ROWS($A$4:$A14),Sheet1!$AD:$AD))) | V14: =IF(ROWS($A$4:$A14)>Sheet1!$AE$4,"",INDEX(Sheet1!F:F,MATCH(ROWS($A$4:$A14),Sheet1!$AD:$AD))) | W14: =IF(ROWS($A$4:$A14)>Sheet1!$AE$4,"",INDEX(Sheet1!G:G,MATCH(ROWS($A$4:$A14),Sheet1!$AD:$AD))) | Y14: =IF(ROWS($A$4:$A14)>Sheet1!$AI$4,"",INDEX(Sheet1!I:I,MATCH(ROWS($A$4:$A14),Sheet1!$AH:$AH))) | Z14: =IF(ROWS($A$4:$A14)>Sheet1!$AI$4,"",INDEX(Sheet1!J:J,MATCH(ROWS($A$4:$A14),Sheet1!$AH:$AH))) | AA14: =IF(ROWS($A$4:$A14)>Sheet1!$AI$4,"",INDEX(Sheet1!K:K,MATCH(ROWS($A$4:$A14),Sheet1!$AH:$AH))) | AC14: =IF(ROWS($A$4:$A14)>Sheet1!$AM$4,"",INDEX(Sheet1!M:M,MATCH(ROWS($A$4:$A14),Sheet1!$AL:$AL))) | AD14: =IF(ROWS($A$4:$A14)>Sheet1!$AM$4,"",INDEX(Sheet1!N:N,MATCH(ROWS($A$4:$A14),Sheet1!$AL:$AL))) | AE14: =IF(ROWS($A$4:$A14)>Sheet1!$AM$4,"",INDEX(Sheet1!O:O,MATCH(ROWS($A$4:$A14),Sheet1!$AL:$AL)))
A15: =IF(ROWS($A$4:$A15)>Sheet1!$Y$4,"",INDEX(Sheet1!A:A,MATCH(ROWS($A$4:$A15),Sheet1!$X:$X))) | B15: =IF(ROWS($A$4:$A15)>Sheet1!$Y$4,"",INDEX(Sheet1!B:B,MATCH(ROWS($A$4:$A15),Sheet1!$X:$X))) | C15: =IF(ROWS($A$4:$A15)>Sheet1!$Y$4,"",INDEX(Sheet1!C:C,MATCH(ROWS($A$4:$A15),Sheet1!$X:$X))) | E15: =IF(ROWS($A$4:$A15)>Sheet1!$AC$4,"",INDEX(Sheet1!E:E,MATCH(ROWS($A$4:$A15),Sheet1!$AB:$AB))) | F15: =IF(ROWS($A$4:$A15)>Sheet1!$AC$4,"",INDEX(Sheet1!F:F,MATCH(ROWS($A$4:$A15),Sheet1!$AB:$AB))) | G15: =IF(ROWS($A$4:$A15)>Sheet1!$AC$4,"",INDEX(Sheet1!G:G,MATCH(ROWS($A$4:$A15),Sheet1!$AB:$AB))) | I15: =IF(ROWS($A$4:$A15)>Sheet1!$AG$4,"",INDEX(Sheet1!I:I,MATCH(ROWS($A$4:$A15),Sheet1!$AF:$AF))) | J15: =IF(ROWS($A$4:$A15)>Sheet1!$AG$4,"",INDEX(Sheet1!J:J,MATCH(ROWS($A$4:$A15),Sheet1!$AF:$AF))) | K15: =IF(ROWS($A$4:$A15)>Sheet1!$AG$4,"",INDEX(Sheet1!K:K,MATCH(ROWS($A$4:$A15),Sheet1!$AF:$AF))) | M15: =IF(ROWS($A$4:$A15)>Sheet1!$AK$4,"",INDEX(Sheet1!M:M,MATCH(ROWS($A$4:$A15),Sheet1!$AJ:$AJ))) | N15: =IF(ROWS($A$4:$A15)>Sheet1!$AK$4,"",INDEX(Sheet1!N:N,MATCH(ROWS($A$4:$A15),Sheet1!$AJ:$AJ))) | O15: =IF(ROWS($A$4:$A15)>Sheet1!$AK$4,"",INDEX(Sheet1!O:O,MATCH(ROWS($A$4:$A15),Sheet1!$AJ:$AJ))) | Q15: =IF(ROWS($A$4:$A15)>Sheet1!$AA$4,"",INDEX(Sheet1!A:A,MATCH(ROWS($A$4:$A15),Sheet1!$Z:$Z))) | R15: =IF(ROWS($A$4:$A15)>Sheet1!$AA$4,"",INDEX(Sheet1!B:B,MATCH(ROWS($A$4:$A15),Sheet1!$Z:$Z))) | S15: =IF(ROWS($A$4:$A15)>Sheet1!$AA$4,"",INDEX(Sheet1!C:C,MATCH(ROWS($A$4:$A15),Sheet1!$Z:$Z))) | U15: =IF(ROWS($A$4:$A15)>Sheet1!$AE$4,"",INDEX(Sheet1!E:E,MATCH(ROWS($A$4:$A15),Sheet1!$AD:$AD))) | V15: =IF(ROWS($A$4:$A15)>Sheet1!$AE$4,"",INDEX(Sheet1!F:F,MATCH(ROWS($A$4:$A15),Sheet1!$AD:$AD))) | W15: =IF(ROWS($A$4:$A15)>Sheet1!$AE$4,"",INDEX(Sheet1!G:G,MATCH(ROWS($A$4:$A15),Sheet1!$AD:$AD))) | Y15: =IF(ROWS($A$4:$A15)>Sheet1!$AI$4,"",INDEX(Sheet1!I:I,MATCH(ROWS($A$4:$A15),Sheet1!$AH:$AH))) | Z15: =IF(ROWS($A$4:$A15)>Sheet1!$AI$4,"",INDEX(Sheet1!J:J,MATCH(ROWS($A$4:$A15),Sheet1!$AH:$AH))) | AA15: =IF(ROWS($A$4:$A15)>Sheet1!$AI$4,"",INDEX(Sheet1!K:K,MATCH(ROWS($A$4:$A15),Sheet1!$AH:$AH))) | AC15: =IF(ROWS($A$4:$A15)>Sheet1!$AM$4,"",INDEX(Sheet1!M:M,MATCH(ROWS($A$4:$A15),Sheet1!$AL:$AL))) | AD15: =IF(ROWS($A$4:$A15)>Sheet1!$AM$4,"",INDEX(Sheet1!N:N,MATCH(ROWS($A$4:$A15),Sheet1!$AL:$AL))) | AE15: =IF(ROWS($A$4:$A15)>Sheet1!$AM$4,"",INDEX(Sheet1!O:O,MATCH(ROWS($A$4:$A15),Sheet1!$AL:$AL)))
A16: =IF(ROWS($A$4:$A16)>Sheet1!$Y$4,"",INDEX(Sheet1!A:A,MATCH(ROWS($A$4:$A16),Sheet1!$X:$X))) | B16: =IF(ROWS($A$4:$A16)>Sheet1!$Y$4,"",INDEX(Sheet1!B:B,MATCH(ROWS($A$4:$A16),Sheet1!$X:$X))) | C16: =IF(ROWS($A$4:$A16)>Sheet1!$Y$4,"",INDEX(Sheet1!C:C,MATCH(ROWS($A$4:$A16),Sheet1!$X:$X))) | E16: =IF(ROWS($A$4:$A16)>Sheet1!$AC$4,"",INDEX(Sheet1!E:E,MATCH(ROWS($A$4:$A16),Sheet1!$AB:$AB))) | F16: =IF(ROWS($A$4:$A16)>Sheet1!$AC$4,"",INDEX(Sheet1!F:F,MATCH(ROWS($A$4:$A16),Sheet1!$AB:$AB))) | G16: =IF(ROWS($A$4:$A16)>Sheet1!$AC$4,"",INDEX(Sheet1!G:G,MATCH(ROWS($A$4:$A16),Sheet1!$AB:$AB))) | I16: =IF(ROWS($A$4:$A16)>Sheet1!$AG$4,"",INDEX(Sheet1!I:I,MATCH(ROWS($A$4:$A16),Sheet1!$AF:$AF))) | J16: =IF(ROWS($A$4:$A16)>Sheet1!$AG$4,"",INDEX(Sheet1!J:J,MATCH(ROWS($A$4:$A16),Sheet1!$AF:$AF))) | K16: =IF(ROWS($A$4:$A16)>Sheet1!$AG$4,"",INDEX(Sheet1!K:K,MATCH(ROWS($A$4:$A16),Sheet1!$AF:$AF))) | M16: =IF(ROWS($A$4:$A16)>Sheet1!$AK$4,"",INDEX(Sheet1!M:M,MATCH(ROWS($A$4:$A16),Sheet1!$AJ:$AJ))) | N16: =IF(ROWS($A$4:$A16)>Sheet1!$AK$4,"",INDEX(Sheet1!N:N,MATCH(ROWS($A$4:$A16),Sheet1!$AJ:$AJ))) | O16: =IF(ROWS($A$4:$A16)>Sheet1!$AK$4,"",INDEX(Sheet1!O:O,MATCH(ROWS($A$4:$A16),Sheet1!$AJ:$AJ))) | Q16: =IF(ROWS($A$4:$A16)>Sheet1!$AA$4,"",INDEX(Sheet1!A:A,MATCH(ROWS($A$4:$A16),Sheet1!$Z:$Z))) | R16: =IF(ROWS($A$4:$A16)>Sheet1!$AA$4,"",INDEX(Sheet1!B:B,MATCH(ROWS($A$4:$A16),Sheet1!$Z:$Z))) | S16: =IF(ROWS($A$4:$A16)>Sheet1!$AA$4,"",INDEX(Sheet1!C:C,MATCH(ROWS($A$4:$A16),Sheet1!$Z:$Z))) | U16: =IF(ROWS($A$4:$A16)>Sheet1!$AE$4,"",INDEX(Sheet1!E:E,MATCH(ROWS($A$4:$A16),Sheet1!$AD:$AD))) | V16: =IF(ROWS($A$4:$A16)>Sheet1!$AE$4,"",INDEX(Sheet1!F:F,MATCH(ROWS($A$4:$A16),Sheet1!$AD:$AD))) | W16: =IF(ROWS($A$4:$A16)>Sheet1!$AE$4,"",INDEX(Sheet1!G:G,MATCH(ROWS($A$4:$A16),Sheet1!$AD:$AD))) | Y16: =IF(ROWS($A$4:$A16)>Sheet1!$AI$4,"",INDEX(Sheet1!I:I,MATCH(ROWS($A$4:$A16),Sheet1!$AH:$AH))) | Z16: =IF(ROWS($A$4:$A16)>Sheet1!$AI$4,"",INDEX(Sheet1!J:J,MATCH(ROWS($A$4:$A16),Sheet1!$AH:$AH))) | AA16: =IF(ROWS($A$4:$A16)>Sheet1!$AI$4,"",INDEX(Sheet1!K:K,MATCH(ROWS($A$4:$A16),Sheet1!$AH:$AH))) | AC16: =IF(ROWS($A$4:$A16)>Sheet1!$AM$4,"",INDEX(Sheet1!M:M,MATCH(ROWS($A$4:$A16),Sheet1!$AL:$AL))) | AD16: =IF(ROWS($A$4:$A16)>Sheet1!$AM$4,"",INDEX(Sheet1!N:N,MATCH(ROWS($A$4:$A16),Sheet1!$AL:$AL))) | AE16: =IF(ROWS($A$4:$A16)>Sheet1!$AM$4,"",INDEX(Sheet1!O:O,MATCH(ROWS($A$4:$A16),Sheet1!$AL:$AL)))
... A596: =IF(ROWS($A$4:$A596)>Sheet1!$Y$4,"",INDEX(Sheet1!A:A,MATCH(ROWS($A$4:$A596),Sheet1!$X:$X))) | B596: =IF(ROWS($A$4:$A596)>Sheet1!$Y$4,"",INDEX(Sheet1!B:B,MATCH(ROWS($A$4:$A596),Sheet1!$X:$X))) | C596: =IF(ROWS($A$4:$A596)>Sheet1!$Y$4,"",INDEX(Sheet1!C:C,MATCH(ROWS($A$4:$A596),Sheet1!$X:$X))) | E596: =IF(ROWS($A$4:$A596)>Sheet1!$AC$4,"",INDEX(Sheet1!E:E,MATCH(ROWS($A$4:$A596),Sheet1!$AB:$AB))) | F596: =IF(ROWS($A$4:$A596)>Sheet1!$AC$4,"",INDEX(Sheet1!F:F,MATCH(ROWS($A$4:$A596),Sheet1!$AB:$AB))) | G596: =IF(ROWS($A$4:$A596)>Sheet1!$AC$4,"",INDEX(Sheet1!G:G,MATCH(ROWS($A$4:$A596),Sheet1!$AB:$AB))) | I596: =IF(ROWS($A$4:$A596)>Sheet1!$AG$4,"",INDEX(Sheet1!I:I,MATCH(ROWS($A$4:$A596),Sheet1!$AF:$AF))) | J596: =IF(ROWS($A$4:$A596)>Sheet1!$AG$4,"",INDEX(Sheet1!J:J,MATCH(ROWS($A$4:$A596),Sheet1!$AF:$AF))) | K596: =IF(ROWS($A$4:$A596)>Sheet1!$AG$4,"",INDEX(Sheet1!K:K,MATCH(ROWS($A$4:$A596),Sheet1!$AF:$AF))) | M596: =IF(ROWS($A$4:$A596)>Sheet1!$AK$4,"",INDEX(Sheet1!M:M,MATCH(ROWS($A$4:$A596),Sheet1!$AJ:$AJ))) | N596: =IF(ROWS($A$4:$A596)>Sheet1!$AK$4,"",INDEX(Sheet1!N:N,MATCH(ROWS($A$4:$A596),Sheet1!$AJ:$AJ))) | O596: =IF(ROWS($A$4:$A596)>Sheet1!$AK$4,"",INDEX(Sheet1!O:O,MATCH(ROWS($A$4:$A596),Sheet1!$AJ:$AJ))) | Q596: =IF(ROWS($A$4:$A596)>Sheet1!$AA$4,"",INDEX(Sheet1!A:A,MATCH(ROWS($A$4:$A596),Sheet1!$Z:$Z))) | R596: =IF(ROWS($A$4:$A596)>Sheet1!$AA$4,"",INDEX(Sheet1!B:B,MATCH(ROWS($A$4:$A596),Sheet1!$Z:$Z))) | S596: =IF(ROWS($A$4:$A596)>Sheet1!$AA$4,"",INDEX(Sheet1!C:C,MATCH(ROWS($A$4:$A596),Sheet1!$Z:$Z))) | U596: =IF(ROWS($A$4:$A596)>Sheet1!$AE$4,"",INDEX(Sheet1!E:E,MATCH(ROWS($A$4:$A596),Sheet1!$AD:$AD))) | V596: =IF(ROWS($A$4:$A596)>Sheet1!$AE$4,"",INDEX(Sheet1!F:F,MATCH(ROWS($A$4:$A596),Sheet1!$AD:$AD))) | W596: =IF(ROWS($A$4:$A596)>Sheet1!$AE$4,"",INDEX(Sheet1!G:G,MATCH(ROWS($A$4:$A596),Sheet1!$AD:$AD))) | Y596: =IF(ROWS($A$4:$A596)>Sheet1!$AI$4,"",INDEX(Sheet1!I:I,MATCH(ROWS($A$4:$A596),Sheet1!$AH:$AH))) | Z596: =IF(ROWS($A$4:$A596)>Sheet1!$AI$4,"",INDEX(Sheet1!J:J,MATCH(ROWS($A$4:$A596),Sheet1!$AH:$AH))) | AA596: =IF(ROWS($A$4:$A596)>Sheet1!$AI$4,"",INDEX(Sheet1!K:K,MATCH(ROWS($A$4:$A596),Sheet1!$AH:$AH))) | AC596: =IF(ROWS($A$4:$A596)>Sheet1!$AM$4,"",INDEX(Sheet1!M:M,MATCH(ROWS($A$4:$A596),Sheet1!$AL:$AL))) | AD596: =IF(ROWS($A$4:$A596)>Sheet1!$AM$4,"",INDEX(Sheet1!N:N,MATCH(ROWS($A$4:$A596),Sheet1!$AL:$AL))) | AE596: =IF(ROWS($A$4:$A596)>Sheet1!$AM$4,"",INDEX(Sheet1!O:O,MATCH(ROWS($A$4:$A596),Sheet1!$AL:$AL)))
