Workbook

Sheet Fixed Schedule
B2: Number of Participants (16 MAX) | D2: Start Time | E2: Interview Length (min) | F2: Feedback/Break Length (min)
B3: 11 | D3: 0.38541667 | E3: 30 | F3: 5
D5: Check in
D6: =TIME(HOUR($D$3),MINUTE($D$3)-10,SECOND($D$3)) -> 0.37847222
B7: Participant Names | D7: Interview 1 | F7: Interview Room 1 | G7: Interview Room 2 | H7: Interview Room 3 | I7: Interview Room 4 | J7: Interview Room 5 | K7: Interview Room 6 | L7: Interview Room 7 | M7: Interview Room 8
A8: 1 | B8: 1 | C8: Start | D8: =D3 -> 0.38541667 | E8: Interviewer | F8: ='Fixed Randomizer'!H10 -> 6 | G8: ='Fixed Randomizer'!H9 -> 4 | H8: ='Fixed Randomizer'!H8 -> 7 | I8: ='Fixed Randomizer'!H7 -> 8 | J8: ='Fixed Randomizer'!H6 -> 1 | K8: ='Fixed Randomizer'!H5 -> 0 | L8: ='Fixed Randomizer'!H4 -> 0 | M8: ='Fixed Randomizer'!H3 -> 9
A9: 2 | B9: 2 | C9: End | D9: =TIME(HOUR($D$3),MINUTE($D$3)+E3,SECOND($D$3)) -> 0.40625 | E9: Interviewee | F9: ='Fixed Randomizer'!I10 -> 3 | G9: ='Fixed Randomizer'!I9 -> 11 | H9: ='Fixed Randomizer'!I8 -> 2 | I9: ='Fixed Randomizer'!I7 -> 5 | J9: ='Fixed Randomizer'!I6 -> 10 | K9: ='Fixed Randomizer'!I5 -> 0 | L9: ='Fixed Randomizer'!I4 -> 0 | M9: ='Fixed Randomizer'!I3 -> 0
A10: 3 | B10: 3 | C10: Break/Feedback
A11: 4 | B11: 4 | D11: Interview 2 | F11: Interview Room 1 | G11: Interview Room 2 | H11: Interview Room 3 | I11: Interview Room 4 | J11: Interview Room 5 | K11: Interview Room 6 | L11: Interview Room 7 | M11: Interview Room 8
A12: 5 | B12: 5 | C12: Start | D12: =TIME(HOUR($D$9),MINUTE($D$9)+F3,SECOND($D$9)) -> 0.40972222 | E12: Interviewer | F12: ='Fixed Randomizer'!K$10 -> 11 | G12: ='Fixed Randomizer'!K$9 -> 2 | H12: ='Fixed Randomizer'!K$8 -> 3 | I12: ='Fixed Randomizer'!K$7 -> 10 | J12: ='Fixed Randomizer'!K$6 -> 5 | K12: ='Fixed Randomizer'!K$5 -> 0 | L12: ='Fixed Randomizer'!K$4 -> 0 | M12: ='Fixed Randomizer'!K$3 -> 0
A13: 6 | B13: 6 | C13: End | D13: =TIME(HOUR($D$12),MINUTE($D$12)+E3,SECOND($D$12)) -> 0.43055556 | E13: Interviewee | F13: ='Fixed Randomizer'!J$10 -> 6 | G13: ='Fixed Randomizer'!J$9 -> 4 | H13: ='Fixed Randomizer'!J$8 -> 7 | I13: ='Fixed Randomizer'!J$7 -> 8 | J13: ='Fixed Randomizer'!J$6 -> 1 | K13: ='Fixed Randomizer'!J$5 -> 0 | L13: ='Fixed Randomizer'!J$4 -> 0 | M13: ='Fixed Randomizer'!J$3 -> 9
A14: 7 | B14: 7 | C14: Break/Feedback
A15: 8 | B15: 8 | D15: Group Interview | F15: Interview Room 1 | G15: Interview Room 2 | H15: Interview Room 3 | I15: Interview Room 4 | J15: Interview Room 5 | K15: Interview Room 6 | L15: Interview Room 7 | M15: Interview Room 8
A16: 9 | B16: 9 | C16: Start | D16: =TIME(HOUR($D$13),MINUTE($D$13)+F3,SECOND($D$12)) -> 0.43402778 | E16: Group 1 | F16: ='Fixed Randomizer'!D$3 -> 7 | G16: ='Fixed Randomizer'!E$3 -> 3 | H16: ='Fixed Randomizer'!D$5 -> 1 | I16: ='Fixed Randomizer'!E$5 -> 5 | J16: ='Fixed Randomizer'!D$7 -> 8 | K16: ='Fixed Randomizer'!E$7 -> 10 | L16: ='Fixed Randomizer'!D$9 -> 0 | M16: ='Fixed Randomizer'!E$9 -> 0
A17: 10 | B17: 10 | C17: End | D17: =TIME(HOUR($D$16),MINUTE($D$16)+E3,SECOND($D$16)) -> 0.45486111 | E17: Group 2 | F17: ='Fixed Randomizer'!D$4 -> 6 | G17: ='Fixed Randomizer'!E$4 -> 11 | H17: ='Fixed Randomizer'!D$6 -> 4 | I17: ='Fixed Randomizer'!E$6 -> 2 | J17: ='Fixed Randomizer'!D$8 -> 9 | K17: ='Fixed Randomizer'!E$8 -> 0 | L17: ='Fixed Randomizer'!D$10 -> 0 | M17: ='Fixed Randomizer'!E$10 -> 0
A18: 11 | B18: 11 | C18: Break/Feedback
A19: 12
A20: 13
A21: 14
A22: 15
A23: 16

Sheet Fixed Randomizer
B2: Randomizer | C2: Randomized | D2: Group A | E2: Group B | F2: Interview 1 Randomizer | G2: Interview 2 Randomizer | H2: Randomized A 1 | I2: Randomized B 1 | J2: Randomized A 2 | K2: Randomized B 2
A3: 1 | B3: =RAND() -> 0.56699066 | C3: {=_xlfn.SORTBY('Fixed Schedule'!$B$8:$B$23, 'Fixed Randomizer'!B$3:B$18, 1)} -> 0 | D3: =C18 -> 7 | E3: =C17 -> 3 | F3: =IF('Fixed Schedule'!$B$3>=2, RAND(), 0) -> 0.27097131 | G3: =IF('Fixed Schedule'!$B$3>=2, RAND(), 0) -> 0.61250481 | H3: {=_xlfn.SORTBY(D3:D10,$F$3:$F$10,1)} -> 9 | I3: {=_xlfn.SORTBY(E3:E10,G3:G10,1)} -> 0 | J3: {=_xlfn.SORTBY(D3:D10,F3:F10,1)} -> 9 | K3: {=_xlfn.SORTBY(E3:E10,F3:F10,1)} -> 0
A4: 2 | B4: =RAND() -> 0.32855649 | C4: 0 | D4: =C16 -> 6 | E4: =C15 -> 11 | F4: =IF('Fixed Schedule'!$B$3>=4, RAND(), 0) -> 0.85525829 | G4: =IF('Fixed Schedule'!$B$3>=4, RAND(), 0) -> 0.61015645 | H4: 0 | I4: 0 | J4: 0 | K4: 0
A5: 3 | B5: =IF('Fixed Schedule'!$B$3>=3, RAND(), 0) -> 0.7221873 | C5: 0 | D5: =C14 -> 1 | E5: =C13 -> 5 | F5: =IF('Fixed Schedule'!$B$3>=6, RAND(), 0) -> 0.12935805 | G5: =IF('Fixed Schedule'!$B$3>=6, RAND(), 0) -> 0.24867809 | H5: 0 | I5: 0 | J5: 0 | K5: 0
A6: 4 | B6: =IF('Fixed Schedule'!$B$3>=4, RAND(), 0) -> 0.32989486 | C6: 0 | D6: =C12 -> 4 | E6: =C11 -> 2 | F6: =IF('Fixed Schedule'!$B$3>=8, RAND(), 0) -> 0.436136 | G6: =IF('Fixed Schedule'!$B$3>=8, RAND(), 0) -> 0.59348097 | H6: 1 | I6: 10 | J6: 1 | K6: 5
A7: 5 | B7: =IF('Fixed Schedule'!$B$3>=5, RAND(), 0) -> 0.55071247 | C7: 0 | D7: =C10 -> 8 | E7: =C9 -> 10 | F7: =IF('Fixed Schedule'!$B$3>=10, RAND(), 0) -> 0.22567704 | G7: =IF('Fixed Schedule'!$B$3>=10, RAND(), 0) -> 0.11379821 | H7: 8 | I7: 5 | J7: 8 | K7: 10
A8: 6 | B8: =IF('Fixed Schedule'!$B$3>=6, RAND(), 0) -> 0.67183114 | C8: 9 | D8: =C8 -> 9 | E8: =C7 -> 0 | F8: =IF('Fixed Schedule'!$B$3>=12, RAND(), 0) -> 0 | G8: =IF('Fixed Schedule'!$B$3>=12, RAND(), 0) -> 0 | H8: 7 | I8: 2 | J8: 7 | K8: 3
A9: 7 | B9: =IF('Fixed Schedule'!$B$3>=7, RAND(), 0) -> 0.95763033 | C9: 10 | D9: =C6 -> 0 | E9: =C5 -> 0 | F9: =IF('Fixed Schedule'!$B$3>=14, RAND(), 0) -> 0 | G9: =IF('Fixed Schedule'!$B$3>=14, RAND(), 0) -> 0 | H9: 4 | I9: 11 | J9: 4 | K9: 2
A10: 8 | B10: =IF('Fixed Schedule'!$B$3>=8, RAND(), 0) -> 0.15102753 | C10: 8 | D10: =C4 -> 0 | E10: =C3 -> 0 | F10: =IF('Fixed Schedule'!$B$3>=16, RAND(), 0) -> 0 | G10: =IF('Fixed Schedule'!$B$3>=16, RAND(), 0) -> 0 | H10: 6 | I10: 3 | J10: 6 | K10: 11
A11: 9 | B11: =IF('Fixed Schedule'!$B$3>=9, RAND(), 0) -> 0.058381238 | C11: 2
A12: 10 | B12: =IF('Fixed Schedule'!$B$3>=10, RAND(), 0) -> 0.099316699 | C12: 4
A13: 11 | B13: =IF('Fixed Schedule'!$B$3>=11, RAND(), 0) -> 0.62837687 | C13: 5
A14: 12 | B14: =IF('Fixed Schedule'!$B$3>=12, RAND(), 0) -> 0 | C14: 1
A15: 13 | B15: =IF('Fixed Schedule'!$B$3>=13, RAND(), 0) -> 0 | C15: 11
A16: 14 | B16: =IF('Fixed Schedule'!$B$3>=14, RAND(), 0) -> 0 | C16: 6
A17: 15 | B17: =IF('Fixed Schedule'!$B$3>=15, RAND(), 0) -> 0 | C17: 3
A18: 16 | B18: =IF('Fixed Schedule'!$B$3>=16, RAND(), 0) -> 0 | C18: 7

Sheet Variable Schedule
B2: Number of Participants (16 MAX) | C2: Number of Interview Sessions (8 MAX) | D2: Start Time | E2: Interview Length (min) | F2: Feedback/Break Length (min)
B3: 8 | C3: 6 | D3: 0.72916667 | E3: 40 | F3: 5
D5: Check in
D6: =TIME(HOUR($D$3),MINUTE($D$3)-10,SECOND($D$3)) -> 0.72222222
B7: Participant Names | D7: Interview 1 | F7: Interview Room 1 | G7: Interview Room 2 | H7: Interview Room 3 | I7: Interview Room 4 | J7: Interview Room 5 | K7: Interview Room 6 | L7: Interview Room 7 | M7: Interview Room 8
A8: 1 | B8: 1 | C8: Start | D8: =D3 -> 0.72916667 | E8: Interviewer | F8: =IF($C$3>=2,'Variable Randomizer'!$H$10, "N/A") -> 4 | G8: =IF($C$3>=2,'Variable Randomizer'!$H9, "N/A") -> 7 | H8: =IF($C$3>=2,'Variable Randomizer'!$H8, "N/A") -> 3 | I8: =IF($C$3>=2,'Variable Randomizer'!$H7, "N/A") -> 6 | J8: =IF($C$3>=2,'Variable Randomizer'!$H6, "N/A") -> 0 | K8: =IF($C$3>=2,'Variable Randomizer'!$H5, "N/A") -> 0 | L8: =IF($C$3>=2,'Variable Randomizer'!$H4, "N/A") -> 0 | M8: =IF($C$3>=2,'Variable Randomizer'!$H3, "N/A") -> 0
A9: 2 | B9: 2 | C9: End | D9: =TIME(HOUR($D$3),MINUTE($D$3)+E3,SECOND($D$3)) -> 0.75694444 | E9: Interviewee | F9: =IF($C$3>=2,'Variable Randomizer'!$I$10, "N/A") -> 1 | G9: =IF($C$3>=2,'Variable Randomizer'!$I$9, "N/A") -> 2 | H9: =IF($C$3>=2,'Variable Randomizer'!$I8, "N/A") -> 8 | I9: =IF($C$3>=2,'Variable Randomizer'!$I7, "N/A") -> 5 | J9: =IF($C$3>=2,'Variable Randomizer'!$I6, "N/A") -> 0 | K9: =IF($C$3>=2,'Variable Randomizer'!$I5, "N/A") -> 0 | L9: =IF($C$3>=2,'Variable Randomizer'!$I4, "N/A") -> 0 | M9: =IF($C$3>=2,'Variable Randomizer'!$I3, "N/A") -> 0
A10: 3 | B10: 3 | C10: Break/Feedback
A11: 4 | B11: 4 | D11: Interview 2 | F11: Interview Room 1 | G11: Interview Room 2 | H11: Interview Room 3 | I11: Interview Room 4 | J11: Interview Room 5 | K11: Interview Room 6 | L11: Interview Room 7 | M11: Interview Room 8
A12: 5 | B12: 5 | C12: Start | D12: =IF($C$3>=2, TIME(HOUR(D9),MINUTE(D9)+$F$3,SECOND(D9)), "N/A") -> 0.76041667 | E12: Interviewer | F12: =IF($C$3>=2,'Variable Randomizer'!$K$10, "N/A") -> 1 | G12: =IF($C$3>=2,'Variable Randomizer'!$K9, "N/A") -> 2 | H12: =IF($C$3>=2,'Variable Randomizer'!$K8, "N/A") -> 8 | I12: =IF($C$3>=2,'Variable Randomizer'!$K7, "N/A") -> 5 | J12: =IF($C$3>=2,'Variable Randomizer'!$K6, "N/A") -> 0 | K12: =IF($C$3>=2,'Variable Randomizer'!$K5, "N/A") -> 0 | L12: =IF($C$3>=2,'Variable Randomizer'!$K4, "N/A") -> 0 | M12: =IF($C$3>=2,'Variable Randomizer'!$K3, "N/A") -> 0
A13: 6 | B13: 6 | C13: End | D13: =IF($C$3>=2, TIME(HOUR($D12),MINUTE($D12)+$E$3,SECOND($D12)), "N/A") -> 0.78819444 | E13: Interviewee | F13: =IF($C$3>=2,'Variable Randomizer'!$J$10, "N/A") -> 3 | G13: =IF($C$3>=2,'Variable Randomizer'!$J$9, "N/A") -> 7 | H13: =IF($C$3>=2,'Variable Randomizer'!$J8, "N/A") -> 4 | I13: =IF($C$3>=2,'Variable Randomizer'!$J7, "N/A") -> 6 | J13: =IF($C$3>=2,'Variable Randomizer'!$J6, "N/A") -> 0 | K13: =IF($C$3>=2,'Variable Randomizer'!$J5, "N/A") -> 0 | L13: =IF($C$3>=2,'Variable Randomizer'!$J4, "N/A") -> 0 | M13: =IF($C$3>=2,'Variable Randomizer'!$J3, "N/A") -> 0
A14: 7 | B14: 7 | C14: Break/Feedback
A15: 8 | B15: 8 | D15: Interview 3 | F15: Interview Room 1 | G15: Interview Room 2 | H15: Interview Room 3 | I15: Interview Room 4 | J15: Interview Room 5 | K15: Interview Room 6 | L15: Interview Room 7 | M15: Interview Room 8
A16: 9 | C16: Start | D16: =IF($C$3>=4, TIME(HOUR(D13),MINUTE(D13)+$F$3,SECOND(D13)), "N/A") -> 0.79166667 | E16: Interviewer | F16: =IF($C$3>=4,'Variable Randomizer'!$H$28, "N/A") -> 2 | G16: =IF($C$3>=4,'Variable Randomizer'!$H27, "N/A") -> 8 | H16: =IF($C$3>=4,'Variable Randomizer'!$H26, "N/A") -> 1 | I16: =IF($C$3>=4,'Variable Randomizer'!$H25, "N/A") -> 4 | J16: =IF($C$3>=4,'Variable Randomizer'!$H24, "N/A") -> 0 | K16: =IF($C$3>=4,'Variable Randomizer'!$H23, "N/A") -> 0 | L16: =IF($C$3>=4,'Variable Randomizer'!$H22, "N/A") -> 0 | M16: =IF($C$3>=4,'Variable Randomizer'!$H21, "N/A") -> 0
A17: 10 | C17: End | D17: =IF($C$3>=4, TIME(HOUR($D16),MINUTE($D16)+$E$3,SECOND($D16)), "N/A") -> 0.81944444 | E17: Interviewee | F17: =IF($C$3>=4,'Variable Randomizer'!$I$28, "N/A") -> 7 | G17: =IF($C$3>=4,'Variable Randomizer'!$I$27, "N/A") -> 3 | H17: =IF($C$3>=4,'Variable Randomizer'!$I26, "N/A") -> 6 | I17: =IF($C$3>=4,'Variable Randomizer'!$I25, "N/A") -> 5 | J17: =IF($C$3>=4,'Variable Randomizer'!$I24, "N/A") -> 0 | K17: =IF($C$3>=4,'Variable Randomizer'!$I23, "N/A") -> 0 | L17: =IF($C$3>=4,'Variable Randomizer'!$I22, "N/A") -> 0 | M17: =IF($C$3>=4,'Variable Randomizer'!$I21, "N/A") -> 0
A18: 11 | C18: Break/Feedback
A19: 12 | D19: Interview 4 | F19: Interview Room 1 | G19: Interview Room 2 | H19: Interview Room 3 | I19: Interview Room 4 | J19: Interview Room 5 | K19: Interview Room 6 | L19: Interview Room 7 | M19: Interview Room 8
A20: 13 | C20: Start | D20: =IF($C$3>=4, TIME(HOUR(D17),MINUTE(D17)+$F$3,SECOND(D17)), "N/A") -> 0.82291667 | E20: Interviewer | F20: =IF($C$3>=4,'Variable Randomizer'!$K$28, "N/A") -> 7 | G20: =IF($C$3>=4,'Variable Randomizer'!$K27, "N/A") -> 6 | H20: =IF($C$3>=4,'Variable Randomizer'!$K26, "N/A") -> 5 | I20: =IF($C$3>=2,'Variable Randomizer'!$K25, "N/A") -> 3 | J20: =IF($C$3>=4,'Variable Randomizer'!$K24, "N/A") -> 0 | K20: =IF($C$3>=4,'Variable Randomizer'!$K23, "N/A") -> 0 | L20: =IF($C$3>=4,'Variable Randomizer'!$K22, "N/A") -> 0 | M20: =IF($C$3>=4,'Variable Randomizer'!$K21, "N/A") -> 0
A21: 14 | C21: End | D21: =IF($C$3>=4, TIME(HOUR($D20),MINUTE($D20)+$E$3,SECOND($D20)), "N/A") -> 0.85069444 | E21: Interviewee | F21: =IF($C$3>=4,'Variable Randomizer'!$J$28, "N/A") -> 2 | G21: =IF($C$3>=4,'Variable Randomizer'!$J$27, "N/A") -> 8 | H21: =IF($C$3>=4,'Variable Randomizer'!$J26, "N/A") -> 1 | I21: =IF($C$3>=4,'Variable Randomizer'!$J25, "N/A") -> 4 | J21: =IF($C$3>=4,'Variable Randomizer'!$J24, "N/A") -> 0 | K21: =IF($C$3>=4,'Variable Randomizer'!$J23, "N/A") -> 0 | L21: =IF($C$3>=4,'Variable Randomizer'!$J22, "N/A") -> 0 | M21: =IF($C$3>=4,'Variable Randomizer'!$J21, "N/A") -> 0
A22: 15 | C22: Break/Feedback
A23: 16 | D23: Interview 5 | F23: Interview Room 1 | G23: Interview Room 2 | H23: Interview Room 3 | I23: Interview Room 4 | J23: Interview Room 5 | K23: Interview Room 6 | L23: Interview Room 7 | M23: Interview Room 8
C24: Start | D24: =IF($C$3>=6, TIME(HOUR(D21),MINUTE(D21)+$F$3,SECOND(D21)), "N/A") -> 0.85416667 | E24: Interviewer | F24: =IF($C$3>=6,'Variable Randomizer'!$H$46, "N/A") -> 2 | G24: =IF($C$3>=6,'Variable Randomizer'!$H45, "N/A") -> 8 | H24: =IF($C$3>=6,'Variable Randomizer'!$H44, "N/A") -> 1 | I24: =IF($C$3>=6,'Variable Randomizer'!$H43, "N/A") -> 3 | J24: =IF($C$3>=6,'Variable Randomizer'!$H42, "N/A") -> 0 | K24: =IF($C$3>=6,'Variable Randomizer'!$H41, "N/A") -> 0 | L24: =IF($C$3>=6,'Variable Randomizer'!$H40, "N/A") -> 0 | M24: =IF($C$3>=6,'Variable Randomizer'!$H39, "N/A") -> 0
C25: End | D25: =IF($C$3>=6, TIME(HOUR($D24),MINUTE($D24)+$E$3,SECOND($D24)), "N/A") -> 0.88194444 | E25: Interviewee | F25: =IF($C$3>=6,'Variable Randomizer'!$I$46, "N/A") -> 6 | G25: =IF($C$3>=6,'Variable Randomizer'!$I$45, "N/A") -> 4 | H25: =IF($C$3>=6,'Variable Randomizer'!$I44, "N/A") -> 5 | I25: =IF($C$3>=6,'Variable Randomizer'!$I43, "N/A") -> 7 | J25: =IF($C$3>=6,'Variable Randomizer'!$I42, "N/A") -> 0 | K25: =IF($C$3>=6,'Variable Randomizer'!$I41, "N/A") -> 0 | L25: =IF($C$3>=6,'Variable Randomizer'!$I40, "N/A") -> 0 | M25: =IF($C$3>=6,'Variable Randomizer'!$I39, "N/A") -> 0
C26: Break/Feedback
D27: Interview 6 | F27: Interview Room 1 | G27: Interview Room 2 | H27: Interview Room 3 | I27: Interview Room 4 | J27: Interview Room 5 | K27: Interview Room 6 | L27: Interview Room 7 | M27: Interview Room 8
C28: Start | D28: =IF($C$3>=6, TIME(HOUR(D25),MINUTE(D25)+$F$3,SECOND(D25)), "N/A") -> 0.88541667 | E28: Interviewer | F28: =IF($C$3>=6,'Variable Randomizer'!$K$46, "N/A") -> 4 | G28: =IF($C$3>=6,'Variable Randomizer'!$K45, "N/A") -> 5 | H28: =IF($C$3>=6,'Variable Randomizer'!$K44, "N/A") -> 7 | I28: =IF($C$3>=6,'Variable Randomizer'!$K43, "N/A") -> 6 | J28: =IF($C$3>=6,'Variable Randomizer'!$K42, "N/A") -> 0 | K28: =IF($C$3>=6,'Variable Randomizer'!$K41, "N/A") -> 0 | L28: =IF($C$3>=6,'Variable Randomizer'!$K40, "N/A") -> 0 | M28: =IF($C$3>=6,'Variable Randomizer'!$K39, "N/A") -> 0
C29: End | D29: =IF($C$3>=6, TIME(HOUR($D28),MINUTE($D28)+$E$3,SECOND($D28)), "N/A") -> 0.91319444 | E29: Interviewee | F29: =IF($C$3>=6,'Variable Randomizer'!$J$46, "N/A") -> 2 | G29: =IF($C$3>=6,'Variable Randomizer'!$J$45, "N/A") -> 8 | H29: =IF($C$3>=6,'Variable Randomizer'!$J44, "N/A") -> 1 | I29: =IF($C$3>=6,'Variable Randomizer'!$J43, "N/A") -> 3 | J29: =IF($C$3>=6,'Variable Randomizer'!$J42, "N/A") -> 0 | K29: =IF($C$3>=6,'Variable Randomizer'!$J41, "N/A") -> 0 | L29: =IF($C$3>=6,'Variable Randomizer'!$J40, "N/A") -> 0 | M29: =IF($C$3>=6,'Variable Randomizer'!$J39, "N/A") -> 0
C30: Break/Feedback
D31: Interview 7 | F31: Interview Room 1 | G31: Interview Room 2 | H31: Interview Room 3 | I31: Interview Room 4 | J31: Interview Room 5 | K31: Interview Room 6 | L31: Interview Room 7 | M31: Interview Room 8
C32: Start | D32: =IF($C$3>=8, TIME(HOUR(D29),MINUTE(D29)+$F$3,SECOND(D29)), "N/A") -> N/A | E32: Interviewer | F32: =IF($C$3>=8,'Variable Randomizer'!$H$64, "N/A") -> N/A | G32: =IF($C$3>=8,'Variable Randomizer'!$H63, "N/A") -> N/A | H32: =IF($C$3>=8,'Variable Randomizer'!$H62, "N/A") -> N/A | I32: =IF($C$3>=8,'Variable Randomizer'!$H61, "N/A") -> N/A | J32: =IF($C$3>=8,'Variable Randomizer'!$H60, "N/A") -> N/A | K32: =IF($C$3>=8,'Variable Randomizer'!$H59, "N/A") -> N/A | L32: =IF($C$3>=8,'Variable Randomizer'!$H58, "N/A") -> N/A | M32: =IF($C$3>=8,'Variable Randomizer'!$H57, "N/A") -> N/A
C33: End | D33: =IF($C$3>=8, TIME(HOUR($D32),MINUTE($D32)+$E$3,SECOND($D32)), "N/A") -> N/A | E33: Interviewee | F33: =IF($C$3>=8,'Variable Randomizer'!$I$64, "N/A") -> N/A | G33: =IF($C$3>=8,'Variable Randomizer'!$I$63, "N/A") -> N/A | H33: =IF($C$3>=8,'Variable Randomizer'!$I62, "N/A") -> N/A | I33: =IF($C$3>=8,'Variable Randomizer'!$I61, "N/A") -> N/A | J33: =IF($C$3>=8,'Variable Randomizer'!$I60, "N/A") -> N/A | K33: =IF($C$3>=8,'Variable Randomizer'!$I59, "N/A") -> N/A | L33: =IF($C$3>=8,'Variable Randomizer'!$I58, "N/A") -> N/A | M33: =IF($C$3>=8,'Variable Randomizer'!$I57, "N/A") -> N/A
C34: Break/Feedback
D35: Interview 8 | F35: Interview Room 1 | G35: Interview Room 2 | H35: Interview Room 3 | I35: Interview Room 4 | J35: Interview Room 5 | K35: Interview Room 6 | L35: Interview Room 7 | M35: Interview Room 8
C36: Start | D36: =IF($C$3>=8, TIME(HOUR(D33),MINUTE(D33)+$F$3,SECOND(D33)), "N/A") -> N/A | E36: Interviewer | F36: =IF($C$3>=8,'Variable Randomizer'!$K$64, "N/A") -> N/A | G36: =IF($C$3>=8,'Variable Randomizer'!$K63, "N/A") -> N/A | H36: =IF($C$3>=8,'Variable Randomizer'!$K62, "N/A") -> N/A | I36: =IF($C$3>=8,'Variable Randomizer'!$K61, "N/A") -> N/A | J36: =IF($C$3>=8,'Variable Randomizer'!$K60, "N/A") -> N/A | K36: =IF($C$3>=8,'Variable Randomizer'!$K59, "N/A") -> N/A | L36: =IF($C$3>=8,'Variable Randomizer'!$K58, "N/A") -> N/A | M36: =IF($C$3>=8,'Variable Randomizer'!$K57, "N/A") -> N/A
C37: End | D37: =IF($C$3>=8, TIME(HOUR($D36),MINUTE($D36)+$E$3,SECOND($D36)), "N/A") -> N/A | E37: Interviewee | F37: =IF($C$3>=8,'Variable Randomizer'!$J$64, "N/A") -> N/A | G37: =IF($C$3>=8,'Variable Randomizer'!$J$63, "N/A") -> N/A | H37: =IF($C$3>=8,'Variable Randomizer'!$J62, "N/A") -> N/A | I37: =IF($C$3>=8,'Variable Randomizer'!$J61, "N/A") -> N/A | J37: =IF($C$3>=8,'Variable Randomizer'!$J60, "N/A") -> N/A | K37: =IF($C$3>=8,'Variable Randomizer'!$J59, "N/A") -> N/A | L37: =IF($C$3>=8,'Variable Randomizer'!$J58, "N/A") -> N/A | M37: =IF($C$3>=8,'Variable Randomizer'!$J57, "N/A") -> N/A
C38: Break/Feedback

Sheet Variable Randomizer
B2: Randomizer | C2: Randomized | D2: Group A | E2: Group B | F2: Interview 1 Randomizer | G2: Interview 2 Randomizer | H2: Randomized A 1 | I2: Randomized B 1 | J2: Randomized A 2 | K2: Randomized B 2
A3: 1 | B3: =RAND() -> 0.73055891 | C3: {=_xlfn.SORTBY('Variable Schedule'!$B$8:$B$23, 'Variable Randomizer'!B3:B18, 1)} -> 0 | D3: =C18 -> 7 | E3: =C17 -> 2 | F3: =IF('Variable Schedule'!$B$3>=2, RAND(), 0) -> 0.16607014 | G3: =IF('Variable Schedule'!$B$3>=2, RAND(), 0) -> 0.58348201 | H3: {=_xlfn.SORTBY(D3:D10,$F$3:$F$10,1)} -> 0 | I3: {=_xlfn.SORTBY(E3:E10,G3:G10,1)} -> 0 | J3: {=_xlfn.SORTBY(D3:D10,G3:G10,1)} -> 0 | K3: {=_xlfn.SORTBY(E3:E10,$G$3:$G$10,1)} -> 0
A4: 2 | B4: =RAND() -> 0.79077887 | C4: 0 | D4: =C16 -> 3 | E4: =C15 -> 1 | F4: =IF('Variable Schedule'!$B$3>=4, RAND(), 0) -> 0.061604427 | G4: =IF('Variable Schedule'!$B$3>=4, RAND(), 0) -> 0.96743445 | H4: 0 | I4: 0 | J4: 0 | K4: 0
A5: 3 | B5: =IF('Variable Schedule'!$B$3>=3, RAND(), 0) -> 0.78043994 | C5: 0 | D5: =C14 -> 4 | E5: =C13 -> 8 | F5: =IF('Variable Schedule'!$B$3>=6, RAND(), 0) -> 0.27592774 | G5: =IF('Variable Schedule'!$B$3>=6, RAND(), 0) -> 0.37633275 | H5: 0 | I5: 0 | J5: 0 | K5: 0
A6: 4 | B6: =IF('Variable Schedule'!$B$3>=4, RAND(), 0) -> 0.62657595 | C6: 0 | D6: =C12 -> 6 | E6: =C11 -> 5 | F6: =IF('Variable Schedule'!$B$3>=8, RAND(), 0) -> 0.0031318725 | G6: =IF('Variable Schedule'!$B$3>=8, RAND(), 0) -> 0.35560426 | H6: 0 | I6: 0 | J6: 0 | K6: 0
A7: 5 | B7: =IF('Variable Schedule'!$B$3>=5, RAND(), 0) -> 0.083061793 | C7: 0 | D7: =C10 -> 0 | E7: =C9 -> 0 | F7: =IF('Variable Schedule'!$B$3>=10, RAND(), 0) -> 0 | G7: =IF('Variable Schedule'!$B$3>=10, RAND(), 0) -> 0 | H7: 6 | I7: 5 | J7: 6 | K7: 5
A8: 6 | B8: =IF('Variable Schedule'!$B$3>=6, RAND(), 0) -> 0.36055067 | C8: 0 | D8: =C8 -> 0 | E8: =C7 -> 0 | F8: =IF('Variable Schedule'!$B$3>=12, RAND(), 0) -> 0 | G8: =IF('Variable Schedule'!$B$3>=12, RAND(), 0) -> 0 | H8: 3 | I8: 8 | J8: 4 | K8: 8
A9: 7 | B9: =IF('Variable Schedule'!$B$3>=7, RAND(), 0) -> 0.91493872 | C9: 0 | D9: =C6 -> 0 | E9: =C5 -> 0 | F9: =IF('Variable Schedule'!$B$3>=14, RAND(), 0) -> 0 | G9: =IF('Variable Schedule'!$B$3>=14, RAND(), 0) -> 0 | H9: 7 | I9: 2 | J9: 7 | K9: 2
A10: 8 | B10: =IF('Variable Schedule'!$B$3>=8, RAND(), 0) -> 0.6251269 | C10: 0 | D10: =C4 -> 0 | E10: =C3 -> 0 | F10: =IF('Variable Schedule'!$B$3>=16, RAND(), 0) -> 0 | G10: =IF('Variable Schedule'!$B$3>=16, RAND(), 0) -> 0 | H10: 4 | I10: 1 | J10: 3 | K10: 1
A11: 9 | B11: =IF('Variable Schedule'!$B$3>=9, RAND(), 0) -> 0 | C11: 5
A12: 10 | B12: =IF('Variable Schedule'!$B$3>=10, RAND(), 0) -> 0 | C12: 6
A13: 11 | B13: =IF('Variable Schedule'!$B$3>=11, RAND(), 0) -> 0 | C13: 8
A14: 12 | B14: =IF('Variable Schedule'!$B$3>=12, RAND(), 0) -> 0 | C14: 4
A15: 13 | B15: =IF('Variable Schedule'!$B$3>=13, RAND(), 0) -> 0 | C15: 1
A16: 14 | B16: =IF('Variable Schedule'!$B$3>=14, RAND(), 0) -> 0 | C16: 3
A17: 15 | B17: =IF('Variable Schedule'!$B$3>=15, RAND(), 0) -> 0 | C17: 2
A18: 16 | B18: =IF('Variable Schedule'!$B$3>=16, RAND(), 0) -> 0 | C18: 7
B20: Randomizer | C20: Randomized | D20: Group A | E20: Group B | F20: Interview 3 Randomizer | G20: Interview 4 Randomizer | H20: Randomized A 1 | I20: Randomized B 1 | J20: Randomized A 2 | K20: Randomized B 2
A21: 1 | B21: =RAND() -> 0.60108698 | C21: {=_xlfn.SORTBY('Variable Schedule'!$B$8:$B$23, 'Variable Randomizer'!B21:B36, 1)} -> 0 | D21: =C36 -> 2 | E21: =C35 -> 7 | F21: =IF('Variable Schedule'!$B$3>=2, RAND(), 0) -> 0.69882548 | G21: =IF('Variable Schedule'!$B$3>=2, RAND(), 0) -> 0.89100669 | H21: {=_xlfn.SORTBY(D21:D28,F21:F28,1)} -> 0 | I21: {=_xlfn.SORTBY(E21:E28,G21:G28,1)} -> 0 | J21: {=_xlfn.SORTBY(D21:D28,F21:F28,1)} -> 0 | K21: {=_xlfn.SORTBY(E21:E28,F21:F28,1)} -> 0
A22: 2 | B22: =RAND() -> 0.82441089 | C22: 0 | D22: =C34 -> 1 | E22: =C33 -> 5 | F22: =IF('Variable Schedule'!$B$3>=4, RAND(), 0) -> 0.62643333 | G22: =IF('Variable Schedule'!$B$3>=4, RAND(), 0) -> 0.15933533 | H22: 0 | I22: 0 | J22: 0 | K22: 0
A23: 3 | B23: =IF('Variable Schedule'!$B$3>=3, RAND(), 0) -> 0.48145507 | C23: 0 | D23: =C32 -> 4 | E23: =C31 -> 3 | F23: =IF('Variable Schedule'!$B$3>=6, RAND(), 0) -> 0.15141811 | G23: =IF('Variable Schedule'!$B$3>=6, RAND(), 0) -> 0.73057674 | H23: 0 | I23: 0 | J23: 0 | K23: 0
A24: 4 | B24: =IF('Variable Schedule'!$B$3>=4, RAND(), 0) -> 0.56510277 | C24: 0 | D24: =C30 -> 8 | E24: =C29 -> 6 | F24: =IF('Variable Schedule'!$B$3>=8, RAND(), 0) -> 0.6701553 | G24: =IF('Variable Schedule'!$B$3>=8, RAND(), 0) -> 0.3047486 | H24: 0 | I24: 0 | J24: 0 | K24: 0
A25: 5 | B25: =IF('Variable Schedule'!$B$3>=5, RAND(), 0) -> 0.58189904 | C25: 0 | D25: =C28 -> 0 | E25: =C27 -> 0 | F25: =IF('Variable Schedule'!$B$3>=10, RAND(), 0) -> 0 | G25: =IF('Variable Schedule'!$B$3>=10, RAND(), 0) -> 0 | H25: 4 | I25: 5 | J25: 4 | K25: 3
A26: 6 | B26: =IF('Variable Schedule'!$B$3>=6, RAND(), 0) -> 0.23944147 | C26: 0 | D26: =C26 -> 0 | E26: =C25 -> 0 | F26: =IF('Variable Schedule'!$B$3>=12, RAND(), 0) -> 0 | G26: =IF('Variable Schedule'!$B$3>=12, RAND(), 0) -> 0 | H26: 1 | I26: 6 | J26: 1 | K26: 5
A27: 7 | B27: =IF('Variable Schedule'!$B$3>=7, RAND(), 0) -> 0.79824918 | C27: 0 | D27: =C24 -> 0 | E27: =C23 -> 0 | F27: =IF('Variable Schedule'!$B$3>=14, RAND(), 0) -> 0 | G27: =IF('Variable Schedule'!$B$3>=14, RAND(), 0) -> 0 | H27: 8 | I27: 3 | J27: 8 | K27: 6
A28: 8 | B28: =IF('Variable Schedule'!$B$3>=8, RAND(), 0) -> 0.28836443 | C28: 0 | D28: =C22 -> 0 | E28: =C21 -> 0 | F28: =IF('Variable Schedule'!$B$3>=16, RAND(), 0) -> 0 | G28: =IF('Variable Schedule'!$B$3>=16, RAND(), 0) -> 0 | H28: 2 | I28: 7 | J28: 2 | K28: 7
A29: 9 | B29: =IF('Variable Schedule'!$B$3>=9, RAND(), 0) -> 0 | C29: 6
A30: 10 | B30: =IF('Variable Schedule'!$B$3>=10, RAND(), 0) -> 0 | C30: 8
A31: 11 | B31: =IF('Variable Schedule'!$B$3>=11, RAND(), 0) -> 0 | C31: 3
A32: 12 | B32: =IF('Variable Schedule'!$B$3>=12, RAND(), 0) -> 0 | C32: 4
A33: 13 | B33: =IF('Variable Schedule'!$B$3>=13, RAND(), 0) -> 0 | C33: 5
A34: 14 | B34: =IF('Variable Schedule'!$B$3>=14, RAND(), 0) -> 0 | C34: 1
A35: 15 | B35: =IF('Variable Schedule'!$B$3>=15, RAND(), 0) -> 0 | C35: 7
A36: 16 | B36: =IF('Variable Schedule'!$B$3>=16, RAND(), 0) -> 0 | C36: 2
B38: Randomizer | C38: Randomized | D38: Group A | E38: Group B | F38: Interview 5 Randomizer | G38: Interview 6 Randomizer | H38: Randomized A 1 | I38: Randomized B 1 | J38: Randomized A 2 | K38: Randomized B 2
A39: 1 | B39: =RAND() -> 0.93688916 | C39: {=_xlfn.SORTBY('Variable Schedule'!$B$8:$B$23, 'Variable Randomizer'!B39:B54, 1)} -> 0 | D39: =C54 -> 1 | E39: =C53 -> 7 | F39: =IF('Variable Schedule'!$B$3>=2, RAND(), 0) -> 0.78994313 | G39: =IF('Variable Schedule'!$B$3>=2, RAND(), 0) -> 0.25552888 | H39: {=_xlfn.SORTBY(D39:D46,F39:F46,1)} -> 0 | I39: {=_xlfn.SORTBY(E39:E46,G39:G46,1)} -> 0 | J39: {=_xlfn.SORTBY(D39:D46,F39:F46,1)} -> 0 | K39: {=_xlfn.SORTBY(E39:E46,F39:F46,1)} -> 0
A40: 2 | B40: =RAND() -> 0.51082114 | C40: 0 | D40: =C52 -> 8 | E40: =C51 -> 5 | F40: =IF('Variable Schedule'!$B$3>=4, RAND(), 0) -> 0.80820416 | G40: =IF('Variable Schedule'!$B$3>=4, RAND(), 0) -> 0.37061364 | H40: 0 | I40: 0 | J40: 0 | K40: 0
A41: 3 | B41: =IF('Variable Schedule'!$B$3>=3, RAND(), 0) -> 0.15708787 | C41: 0 | D41: =C50 -> 2 | E41: =C49 -> 4 | F41: =IF('Variable Schedule'!$B$3>=6, RAND(), 0) -> 0.87944336 | G41: =IF('Variable Schedule'!$B$3>=6, RAND(), 0) -> 0.42459492 | H41: 0 | I41: 0 | J41: 0 | K41: 0
A42: 4 | B42: =IF('Variable Schedule'!$B$3>=4, RAND(), 0) -> 0.30713663 | C42: 0 | D42: =C48 -> 3 | E42: =C47 -> 6 | F42: =IF('Variable Schedule'!$B$3>=8, RAND(), 0) -> 0.056782911 | G42: =IF('Variable Schedule'!$B$3>=8, RAND(), 0) -> 0.45374203 | H42: 0 | I42: 0 | J42: 0 | K42: 0
A43: 5 | B43: =IF('Variable Schedule'!$B$3>=5, RAND(), 0) -> 0.66941684 | C43: 0 | D43: =C46 -> 0 | E43: =C45 -> 0 | F43: =IF('Variable Schedule'!$B$3>=10, RAND(), 0) -> 0 | G43: =IF('Variable Schedule'!$B$3>=10, RAND(), 0) -> 0 | H43: 3 | I43: 7 | J43: 3 | K43: 6
A44: 6 | B44: =IF('Variable Schedule'!$B$3>=6, RAND(), 0) -> 0.1265151 | C44: 0 | D44: =C44 -> 0 | E44: =C43 -> 0 | F44: =IF('Variable Schedule'!$B$3>=12, RAND(), 0) -> 0 | G44: =IF('Variable Schedule'!$B$3>=12, RAND(), 0) -> 0 | H44: 1 | I44: 5 | J44: 1 | K44: 7
A45: 7 | B45: =IF('Variable Schedule'!$B$3>=7, RAND(), 0) -> 0.78550153 | C45: 0 | D45: =C42 -> 0 | E45: =C41 -> 0 | F45: =IF('Variable Schedule'!$B$3>=14, RAND(), 0) -> 0 | G45: =IF('Variable Schedule'!$B$3>=14, RAND(), 0) -> 0 | H45: 8 | I45: 4 | J45: 8 | K45: 5
A46: 8 | B46: =IF('Variable Schedule'!$B$3>=8, RAND(), 0) -> 0.76989222 | C46: 0 | D46: =C40 -> 0 | E46: =C39 -> 0 | F46: =IF('Variable Schedule'!$B$3>=16, RAND(), 0) -> 0 | G46: =IF('Variable Schedule'!$B$3>=16, RAND(), 0) -> 0 | H46: 2 | I46: 6 | J46: 2 | K46: 4
A47: 9 | B47: =IF('Variable Schedule'!$B$3>=9, RAND(), 0) -> 0 | C47: 6
A48: 10 | B48: =IF('Variable Schedule'!$B$3>=10, RAND(), 0) -> 0 | C48: 3
A49: 11 | B49: =IF('Variable Schedule'!$B$3>=11, RAND(), 0) -> 0 | C49: 4
A50: 12 | B50: =IF('Variable Schedule'!$B$3>=12, RAND(), 0) -> 0 | C50: 2
A51: 13 | B51: =IF('Variable Schedule'!$B$3>=13, RAND(), 0) -> 0 | C51: 5
A52: 14 | B52: =IF('Variable Schedule'!$B$3>=14, RAND(), 0) -> 0 | C52: 8
A53: 15 | B53: =IF('Variable Schedule'!$B$3>=15, RAND(), 0) -> 0 | C53: 7
A54: 16 | B54: =IF('Variable Schedule'!$B$3>=16, RAND(), 0) -> 0 | C54: 1
B56: Randomizer | C56: Randomized | D56: Group A | E56: Group B | F56: Interview 7 Randomizer | G56: Interview 8 Randomizer | H56: Randomized A 1 | I56: Randomized B 1 | J56: Randomized A 2 | K56: Randomized B 2
A57: 1 | B57: =RAND() -> 0.33620391 | C57: {=_xlfn.SORTBY('Variable Schedule'!$B$8:$B$23, 'Variable Randomizer'!B57:B72, 1)} -> 0 | D57: =C72 -> 8 | E57: =C71 -> 3 | F57: =IF('Variable Schedule'!$B$3>=2, RAND(), 0) -> 0.96232367 | G57: =IF('Variable Schedule'!$B$3>=2, RAND(), 0) -> 0.48750251 | H57: {=_xlfn.SORTBY(D57:D64,F57:F64,1)} -> 0 | I57: {=_xlfn.SORTBY(E57:E64,G57:G64,1)} -> 0 | J57: {=_xlfn.SORTBY(D57:D64,F57:F64,1)} -> 0 | K57: {=_xlfn.SORTBY(E57:E64,F57:F64,1)} -> 0
A58: 2 | B58: =RAND() -> 0.33698293 | C58: 0 | D58: =C70 -> 6 | E58: =C69 -> 7 | F58: =IF('Variable Schedule'!$B$3>=4, RAND(), 0) -> 0.81317436 | G58: =IF('Variable Schedule'!$B$3>=4, RAND(), 0) -> 0.096385169 | H58: 0 | I58: 0 | J58: 0 | K58: 0
A59: 3 | B59: =IF('Variable Schedule'!$B$3>=3, RAND(), 0) -> 0.60694271 | C59: 0 | D59: =C68 -> 4 | E59: =C67 -> 5 | F59: =IF('Variable Schedule'!$B$3>=6, RAND(), 0) -> 0.55086591 | G59: =IF('Variable Schedule'!$B$3>=6, RAND(), 0) -> 0.63282564 | H59: 0 | I59: 0 | J59: 0 | K59: 0
A60: 4 | B60: =IF('Variable Schedule'!$B$3>=4, RAND(), 0) -> 0.36789989 | C60: 0 | D60: =C66 -> 2 | E60: =C65 -> 1 | F60: =IF('Variable Schedule'!$B$3>=8, RAND(), 0) -> 0.50314961 | G60: =IF('Variable Schedule'!$B$3>=8, RAND(), 0) -> 0.15244285 | H60: 0 | I60: 0 | J60: 0 | K60: 0
A61: 5 | B61: =IF('Variable Schedule'!$B$3>=5, RAND(), 0) -> 0.35325574 | C61: 0 | D61: =C64 -> 0 | E61: =C63 -> 0 | F61: =IF('Variable Schedule'!$B$3>=10, RAND(), 0) -> 0 | G61: =IF('Variable Schedule'!$B$3>=10, RAND(), 0) -> 0 | H61: 2 | I61: 7 | J61: 2 | K61: 1
A62: 6 | B62: =IF('Variable Schedule'!$B$3>=6, RAND(), 0) -> 0.49544558 | C62: 0 | D62: =C62 -> 0 | E62: =C61 -> 0 | F62: =IF('Variable Schedule'!$B$3>=12, RAND(), 0) -> 0 | G62: =IF('Variable Schedule'!$B$3>=12, RAND(), 0) -> 0 | H62: 4 | I62: 1 | J62: 4 | K62: 5
A63: 7 | B63: =IF('Variable Schedule'!$B$3>=7, RAND(), 0) -> 0.4158681 | C63: 0 | D63: =C60 -> 0 | E63: =C59 -> 0 | F63: =IF('Variable Schedule'!$B$3>=14, RAND(), 0) -> 0 | G63: =IF('Variable Schedule'!$B$3>=14, RAND(), 0) -> 0 | H63: 6 | I63: 3 | J63: 6 | K63: 7
A64: 8 | B64: =IF('Variable Schedule'!$B$3>=8, RAND(), 0) -> 0.94721681 | C64: 0 | D64: =C58 -> 0 | E64: =C57 -> 0 | F64: =IF('Variable Schedule'!$B$3>=16, RAND(), 0) -> 0 | G64: =IF('Variable Schedule'!$B$3>=16, RAND(), 0) -> 0 | H64: 8 | I64: 5 | J64: 8 | K64: 3
A65: 9 | B65: =IF('Variable Schedule'!$B$3>=9, RAND(), 0) -> 0 | C65: 1
A66: 10 | B66: =IF('Variable Schedule'!$B$3>=10, RAND(), 0) -> 0 | C66: 2
A67: 11 | B67: =IF('Variable Schedule'!$B$3>=11, RAND(), 0) -> 0 | C67: 5
A68: 12 | B68: =IF('Variable Schedule'!$B$3>=12, RAND(), 0) -> 0 | C68: 4
A69: 13 | B69: =IF('Variable Schedule'!$B$3>=13, RAND(), 0) -> 0 | C69: 7
A70: 14 | B70: =IF('Variable Schedule'!$B$3>=14, RAND(), 0) -> 0 | C70: 6
A71: 15 | B71: =IF('Variable Schedule'!$B$3>=15, RAND(), 0) -> 0 | C71: 3
A72: 16 | B72: =IF('Variable Schedule'!$B$3>=16, RAND(), 0) -> 0 | C72: 8
