Workbook

Sheet Sheet2
A1: Select State / Country of Residence | B1: NY
A2: Schools | B2: # Enrolled
A3: University of Alabama | B3: =INDEX(Sheet1!B:B, MATCH($B$1, Sheet1!$A:$A, 0)) -> 0
A4: Arizona School of Dentistry | B4: =INDEX(Sheet1!C:C, MATCH($B$1, Sheet1!$A:$A, 0)) -> 2
A5: Midwestern University - AZ | B5: =INDEX(Sheet1!D:D, MATCH($B$1, Sheet1!$A:$A, 0)) -> 2
A6: Lyon College | B6: =INDEX(Sheet1!E:E, MATCH($B$1, Sheet1!$A:$A, 0)) -> 0
A7: Loma Linda University | B7: =INDEX(Sheet1!F:F, MATCH($B$1, Sheet1!$A:$A, 0)) -> 0
A8: University of Southern California | B8: =INDEX(Sheet1!G:G, MATCH($B$1, Sheet1!$A:$A, 0)) -> 5
A9: University of California - Los Angeles | B9: =INDEX(Sheet1!H:H, MATCH($B$1, Sheet1!$A:$A, 0)) -> 1
A10: University of California - San Fransisco | B10: =INDEX(Sheet1!I:I, MATCH($B$1, Sheet1!$A:$A, 0)) -> 0
A11: University of the Pacific | B11: =INDEX(Sheet1!J:J, MATCH($B$1, Sheet1!$A:$A, 0)) -> 0
A12: Western University | B12: =INDEX(Sheet1!K:K, MATCH($B$1, Sheet1!$A:$A, 0)) -> 1
A13: California North State | B13: =INDEX(Sheet1!L:L, MATCH($B$1, Sheet1!$A:$A, 0)) -> 1
A14: Colorado University | B14: =INDEX(Sheet1!M:M, MATCH($B$1, Sheet1!$A:$A, 0)) -> 0
A15: University of Connecticut | B15: =INDEX(Sheet1!N:N, MATCH($B$1, Sheet1!$A:$A, 0)) -> 4
A16: Howard University | B16: =INDEX(Sheet1!O:O, MATCH($B$1, Sheet1!$A:$A, 0)) -> 4
A17: Lake Erie College of Medicine | B17: =INDEX(Sheet1!P:P, MATCH($B$1, Sheet1!$A:$A, 0)) -> 7
A18: Nova Southeastern University | B18: =INDEX(Sheet1!Q:Q, MATCH($B$1, Sheet1!$A:$A, 0)) -> 4
A19: University of Florida | B19: =INDEX(Sheet1!R:R, MATCH($B$1, Sheet1!$A:$A, 0)) -> 1
A20: Dental College of Georgia - Augusta U | B20: =INDEX(Sheet1!S:S, MATCH($B$1, Sheet1!$A:$A, 0)) -> 0
A21: Midwestern University - IL | B21: =INDEX(Sheet1!T:T, MATCH($B$1, Sheet1!$A:$A, 0)) -> 3
A22: Southern Illinois University | B22: =INDEX(Sheet1!U:U, MATCH($B$1, Sheet1!$A:$A, 0)) -> 0
A23: University of Illinois - Chicago | B23: =INDEX(Sheet1!V:V, MATCH($B$1, Sheet1!$A:$A, 0)) -> 0
A24: Indiana University | B24: =INDEX(Sheet1!W:W, MATCH($B$1, Sheet1!$A:$A, 0)) -> 2
A25: University of Iowa | B25: =INDEX(Sheet1!X:X, MATCH($B$1, Sheet1!$A:$A, 0)) -> 0
A26: University of Kentucky | B26: =INDEX(Sheet1!Y:Y, MATCH($B$1, Sheet1!$A:$A, 0)) -> 0
A27: University of Louisville | B27: =INDEX(Sheet1!Z:Z, MATCH($B$1, Sheet1!$A:$A, 0)) -> 0
A28: University of Pikeville (No Data) | B28: =INDEX(Sheet1!AA:AA, MATCH($B$1, Sheet1!$A:$A, 0)) -> 0
A29: Louisiana State University | B29: =INDEX(Sheet1!AB:AB, MATCH($B$1, Sheet1!$A:$A, 0)) -> 1
A30: University of New England | B30: =INDEX(Sheet1!AC:AC, MATCH($B$1, Sheet1!$A:$A, 0)) -> 4
A31: University of Maryland | B31: =INDEX(Sheet1!AD:AD, MATCH($B$1, Sheet1!$A:$A, 0)) -> 8
A32: Boston University | B32: =INDEX(Sheet1!AE:AE, MATCH($B$1, Sheet1!$A:$A, 0)) -> 18
A33: Harvard University | B33: =INDEX(Sheet1!AF:AF, MATCH($B$1, Sheet1!$A:$A, 0)) -> 2
A34: Tufts University | B34: =INDEX(Sheet1!AG:AG, MATCH($B$1, Sheet1!$A:$A, 0)) -> 10
A35: University of Detroit Mercy | B35: =INDEX(Sheet1!AH:AH, MATCH($B$1, Sheet1!$A:$A, 0)) -> 1
A36: University of Michigan | B36: =INDEX(Sheet1!AI:AI, MATCH($B$1, Sheet1!$A:$A, 0)) -> 0
A37: University of Minnesota | B37: =INDEX(Sheet1!AJ:AJ, MATCH($B$1, Sheet1!$A:$A, 0)) -> 0
A38: University of Mississippi | B38: =INDEX(Sheet1!AK:AK, MATCH($B$1, Sheet1!$A:$A, 0)) -> 0
A39: Missouri School of Dentistry | B39: =INDEX(Sheet1!AL:AL, MATCH($B$1, Sheet1!$A:$A, 0)) -> 0
A40: University of Missouri - Kansas City | B40: =INDEX(Sheet1!AM:AM, MATCH($B$1, Sheet1!$A:$A, 0)) -> 0
A41: Kansas City University (No Data) | B41: =INDEX(Sheet1!AN:AN, MATCH($B$1, Sheet1!$A:$A, 0)) -> 0
A42: Creighton University | B42: =INDEX(Sheet1!AO:AO, MATCH($B$1, Sheet1!$A:$A, 0)) -> 1
A43: University of Nebraska | B43: =INDEX(Sheet1!AP:AP, MATCH($B$1, Sheet1!$A:$A, 0)) -> 0
A44: University of Nevada | B44: =INDEX(Sheet1!AQ:AQ, MATCH($B$1, Sheet1!$A:$A, 0)) -> 0
A45: Rutgers University | B45: =INDEX(Sheet1!AR:AR, MATCH($B$1, Sheet1!$A:$A, 0)) -> 14
A46: Columbia University | B46: =INDEX(Sheet1!AS:AS, MATCH($B$1, Sheet1!$A:$A, 0)) -> 0
A47: New York University | B47: =INDEX(Sheet1!AT:AT, MATCH($B$1, Sheet1!$A:$A, 0)) -> 0
A48: Stony Brook University | B48: =INDEX(Sheet1!AU:AU, MATCH($B$1, Sheet1!$A:$A, 0)) -> 0
A49: Touro College of Dental Medicine | B49: =INDEX(Sheet1!AV:AV, MATCH($B$1, Sheet1!$A:$A, 0)) -> 0
A50: State University of Buffalo - New York | B50: =INDEX(Sheet1!AW:AW, MATCH($B$1, Sheet1!$A:$A, 0)) -> 0
A51: East Carolina University | B51: =INDEX(Sheet1!AX:AX, MATCH($B$1, Sheet1!$A:$A, 0)) -> 0
A52: University of North Carolina | B52: =INDEX(Sheet1!AY:AY, MATCH($B$1, Sheet1!$A:$A, 0)) -> 0
A53: High Point University (No Data) | B53: =INDEX(Sheet1!AZ:AZ, MATCH($B$1, Sheet1!$A:$A, 0)) -> 0
A54: Case Western Reserve University | B54: =INDEX(Sheet1!BA:BA, MATCH($B$1, Sheet1!$A:$A, 0)) -> 4
A55: Ohio State University | B55: =INDEX(Sheet1!BB:BB, MATCH($B$1, Sheet1!$A:$A, 0)) -> 0
A56: North East Ohio Medical University (No Data) | B56: =INDEX(Sheet1!BC:BC, MATCH($B$1, Sheet1!$A:$A, 0)) -> 0
A57: University of Oklahoma | B57: =INDEX(Sheet1!BD:BD, MATCH($B$1, Sheet1!$A:$A, 0)) -> 0
A58: Oregan Health & Science University | B58: =INDEX(Sheet1!BE:BE, MATCH($B$1, Sheet1!$A:$A, 0)) -> 0
A59: Temple University | B59: =INDEX(Sheet1!BF:BF, MATCH($B$1, Sheet1!$A:$A, 0)) -> 9
A60: University of Pennsylvania | B60: =INDEX(Sheet1!BG:BG, MATCH($B$1, Sheet1!$A:$A, 0)) -> 8
A61: University of Pittsburgh | B61: =INDEX(Sheet1!BH:BH, MATCH($B$1, Sheet1!$A:$A, 0)) -> 5
A62: Medical University of South Carolina | B62: =INDEX(Sheet1!BI:BI, MATCH($B$1, Sheet1!$A:$A, 0)) -> 1
A63: Meharry Medical College | B63: =INDEX(Sheet1!BJ:BJ, MATCH($B$1, Sheet1!$A:$A, 0)) -> 2
A64: University of Tennessee | B64: =INDEX(Sheet1!BK:BK, MATCH($B$1, Sheet1!$A:$A, 0)) -> 0
A65: Lincoln Memorial University (No Data) | B65: =INDEX(Sheet1!BL:BL, MATCH($B$1, Sheet1!$A:$A, 0)) -> 0
A66: Texas A&M University | B66: =INDEX(Sheet1!BM:BM, MATCH($B$1, Sheet1!$A:$A, 0)) -> 0
A67: Texas Tech University | B67: =INDEX(Sheet1!BN:BN, MATCH($B$1, Sheet1!$A:$A, 0)) -> 0
A68: University of Texas - Houston | B68: =INDEX(Sheet1!BO:BO, MATCH($B$1, Sheet1!$A:$A, 0)) -> 0
A69: University of Texas - San Antonio | B69: =INDEX(Sheet1!BP:BP, MATCH($B$1, Sheet1!$A:$A, 0)) -> 0
A70: Roseman University | B70: =INDEX(Sheet1!BQ:BQ, MATCH($B$1, Sheet1!$A:$A, 0)) -> 2
A71: University of Utah | B71: =INDEX(Sheet1!BR:BR, MATCH($B$1, Sheet1!$A:$A, 0)) -> 1
A72: Virginia Commonwealth University | B72: =INDEX(Sheet1!BS:BS, MATCH($B$1, Sheet1!$A:$A, 0)) -> 1
A73: University of Washington | B73: =INDEX(Sheet1!BT:BT, MATCH($B$1, Sheet1!$A:$A, 0)) -> 0
A74: Pacific Northwest University (No Data) | B74: =INDEX(Sheet1!BU:BU, MATCH($B$1, Sheet1!$A:$A, 0)) -> 0
A75: West Virginia University | B75: =INDEX(Sheet1!BV:BV, MATCH($B$1, Sheet1!$A:$A, 0)) -> 0
A76: Marquette University | B76: =INDEX(Sheet1!BW:BW, MATCH($B$1, Sheet1!$A:$A, 0)) -> 0

Sheet Sheet1
A1: STATE | B1: UAB | C1: ASDOH | D1: MWU-AZ | E1: Lyon | F1: Loma Linda | G1: USC | H1: UCLA | I1: UCSF | J1: UoP | K1: Western U | L1: CNU | M1: CU | N1: Uconn | O1: Howard | P1: LECOM | Q1: NOVA | R1: UF | S1: DCG | T1: MWU-IL | U1: SIU | V1: UIC | W1: IU | X1: Iowa | Y1: UK | Z1: UL | AA1: Upike | AB1: LSU | AC1: UNE | AD1: UMD | AE1: BU | AF1: Harvard | AG1: TUFTS | AH1: UDM | AI1: Umich | AJ1: UMN | AK1: UMMC | AL1: MOSDOH | AM1: UMKC | AN1: KCU | AO1: Creighton | AP1: Nebraska | AQ1: UNLV | AR1: Rutgers | AS1: Columbia | AT1: NYU | AU1: Stony | AV1: Touro | AW1: Ubuffalo | AX1: ECU | AY1: UNC | AZ1: HPU | BA1: CWRU | BB1: OSU | BC1: NeoMed | BD1: Oklahoma | BE1: OHSU | BF1: Temple | BG1: Upenn | BH1: UPItt | BI1: MUSC | BJ1: Meharry | BK1: UTHSC | BL1: LMU | BM1: Texas A&M | BN1: Texas Tech | BO1: UT-Houston | BP1: UT-San Antonio | BQ1: Roseman | BR1: UofU | BS1: VCU | BT1: UW | BU1: PNWU | BV1: WVU | BW1: Marquette
A2: AL | C2: 1 | G2: 2 | O2: 2 | P2: 1 | R2: 1 | Z2: 1 | AG2: 3 | BJ2: 3 | BK2: 1 | BP2: 1 | BQ2: 2
A3: AK | AG3: 1 | AI3: 1 | AO3: 1 | BE3: 2 | BG3: 1 | BT3: 2 | BW3: 1
A4: AZ | B4: 1 | F4: 1 | G4: 1 | H4: 1 | J4: 3 | K4: 1 | M4: 5 | O4: 1 | P4: 1 | Q4: 2 | T4: 2 | W4: 1 | Y4: 2 | Z4: 1 | AD4: 1 | AG4: 1 | AI4: 2 | AL4: 1 | AM4: 1 | AO4: 2 | AP4: 1 | AQ4: 2 | AR4: 1 | AU4: 1 | AW4: 1 | BE4: 2 | BF4: 2 | BG4: 4 | BI4: 1 | BQ4: 2 | BR4: 1
A5: AR | W5: 1 | AB5: 2 | AL5: 3 | AM5: 3 | AT5: 1 | BI5: 1 | BJ5: 1 | BK5: 23 | BM5: 3
A6: CA | C6: 28 | D6: 26 | M6: 2 | O6: 1 | P6: 3 | Q6: 2 | T6: 13 | V6: 1 | X6: 1 | Z6: 1 | AC6: 2 | AD6: 6 | AE6: 5 | AF6: 3 | AG6: 18 | AH6: 7 | AI6: 8 | AJ6: 1 | AL6: 5 | AO6: 3 | AQ6: 16 | AS6: 7 | AT6: 43 | AV6: 18 | AW6: 2 | AY6: 1 | BA6: 4 | BB6: 2 | BE6: 7 | BF6: 1 | BG6: 11 | BH6: 1 | BI6: 1 | BM6: 2 | BN6: 1 | BQ6: 25 | BR6: 5 | BS6: 1 | BT6: 1 | BW6: 3
A7: CO | C7: 1 | D7: 3 | I7: 1 | J7: 1 | L7: 1 | Q7: 1 | AG7: 1 | AJ7: 2 | AO7: 5 | AQ7: 1 | AS7: 1 | BQ7: 2
A8: CT | B8: 1 | D8: 1 | K8: 1 | X8: 1 | AC8: 3 | AE8: 1 | AF8: 1 | AG8: 1 | AT8: 2 | AU8: 1 | AV8: 1 | AY8: 1 | BA8: 1 | BR8: 1
A9: DE | O9: 1 | BF9: 4 | BG9: 1 | BS9: 1
A10: DC | G10: 2 | BG10: 1 | BH10: 1
A11: FL | B11: 8 | C11: 1 | D11: 10 | F11: 3 | G11: 4 | H11: 1 | I11: 1 | J11: 1 | L11: 2 | M11: 4 | N11: 2 | O11: 6 | S11: 1 | T11: 27 | V11: 1 | W11: 4 | Y11: 2 | Z11: 13 | AB11: 3 | AC11: 4 | AD11: 11 | AE11: 7 | AF11: 3 | AG11: 30 | AH11: 4 | AI11: 2 | AJ11: 1 | AL11: 2 | AQ11: 1 | AR11: 1 | AS11: 10 | AT11: 15 | AV11: 3 | AW11: 4 | AY11: 4 | BA11: 4 | BB11: 1 | BF11: 5 | BG11: 15 | BH11: 5 | BI11: 1 | BJ11: 13 | BO11: 1 | BQ11: 5 | BR11: 1 | BS11: 5 | BW11: 4
A12: GA | B12: 5 | C12: 2 | D12: 1 | F12: 4 | G12: 3 | I12: 2 | J12: 1 | K12: 3 | L12: 1 | P12: 4 | Q12: 4 | R12: 5 | T12: 1 | W12: 1 | Y12: 3 | Z12: 10 | AD12: 4 | AE12: 1 | AF12: 2 | AG12: 5 | AH12: 1 | AI12: 3 | AL12: 1 | AO12: 1 | AS12: 2 | AV12: 2 | AW12: 1 | AY12: 3 | BF12: 3 | BG12: 1 | BH12: 1 | BJ12: 9 | BQ12: 4 | BS12: 2
A13: GU | F13: 1 | K13: 2 | X13: 1 | AE13: 1
A14: HI | C14: 1 | D14: 1 | G14: 1 | H14: 1 | J14: 3 | K14: 1 | T14: 1 | AM14: 4 | AO14: 3 | AQ14: 1 | BR14: 1 | BW14: 1
A15: ID | C15: 1 | D15: 7 | F15: 1 | X15: 2 | Y15: 1 | AC15: 4 | AH15: 1 | AL15: 1 | AO15: 8 | AQ15: 2 | BE15: 2 | BI15: 1 | BP15: 1 | BQ15: 1 | BR15: 2 | BT15: 1
A16: IL | B16: 2 | C16: 1 | D16: 6 | F16: 1 | G16: 1 | I16: 1 | J16: 3 | K16: 1 | L16: 1 | M16: 1 | P16: 4 | Q16: 4 | W16: 3 | X16: 5 | Y16: 2 | Z16: 5 | AD16: 1 | AE16: 4 | AF16: 3 | AG16: 6 | AH16: 7 | AI16: 6 | AJ16: 1 | AL16: 5 | AM16: 2 | AO16: 4 | AP16: 1 | AS16: 3 | AT16: 3 | AW16: 1 | AY16: 3 | BA16: 1 | BB16: 1 | BF16: 4 | BG16: 4 | BH16: 1 | BJ16: 1 | BQ16: 3 | BR16: 1 | BW16: 22
A17: IN | D17: 1 | M17: 1 | O17: 2 | T17: 3 | X17: 1 | Z17: 3 | AC17: 1 | AE17: 1 | AF17: 1 | AG17: 2 | AH17: 1 | AI17: 4 | AL17: 1 | AO17: 1 | AR17: 1 | AT17: 4 | BA17: 1 | BB17: 1 | BG17: 1 | BJ17: 3 | BK17: 1 | BQ17: 1 | BW17: 2
A18: IA | C18: 1 | O18: 1 | P18: 1 | T18: 1 | Z18: 1 | AI18: 1 | AJ18: 2 | AO18: 4 | AP18: 1 | AY18: 1 | BM18: 1 | BQ18: 1
A19: KS | G19: 1 | Z19: 1 | AG19: 2 | AL19: 5 | AM19: 32 | AO19: 4 | AP19: 3 | AQ19: 1 | AR19: 1
A20: KY | O20: 1 | W20: 1 | AH20: 1 | AI20: 1 | AS20: 1
A21: LA | B21: 1 | C21: 1 | D21: 2 | O21: 4 | P21: 2 | Q21: 1 | T21: 1 | Z21: 1 | AC21: 1 | AG21: 5 | AM21: 1 | BB21: 1 | BJ21: 7 | BK21: 1 | BQ21: 1 | BR21: 1 | BV21: 1
A22: ME | AF22: 1 | AG22: 1 | AS22: 1
A23: MD | D23: 3 | F23: 1 | J23: 1 | O23: 7 | T23: 1 | W23: 1 | Z23: 1 | AE23: 6 | AF23: 1 | AG23: 7 | AJ23: 1 | AL23: 1 | AP23: 1 | AS23: 4 | AT23: 8 | AY23: 1 | BA23: 2 | BF23: 4 | BG23: 3 | BH23: 3 | BI23: 2 | BJ23: 3 | BQ23: 2 | BS23: 4 | BV23: 3
A24: MA | H24: 1 | N24: 8 | O24: 1 | AC24: 7 | AO24: 1 | AR24: 2 | AS24: 2 | AT24: 3 | AV24: 2 | BF24: 1 | BG24: 7 | BH24: 1 | BQ24: 1 | BT24: 1
A25: MI | C25: 5 | D25: 7 | G25: 1 | J25: 1 | K25: 2 | L25: 1 | M25: 1 | P25: 3 | Q25: 2 | T25: 14 | W25: 2 | X25: 1 | Z25: 12 | AC25: 3 | AD25: 4 | AE25: 4 | AF25: 1 | AG25: 4 | AJ25: 3 | AL25: 4 | AO25: 1 | AS25: 1 | AT25: 5 | AV25: 1 | AW25: 3 | BA25: 12 | BB25: 6 | BF25: 4 | BG25: 5 | BI25: 1 | BJ25: 3 | BM25: 1 | BQ25: 5 | BV25: 2 | BW25: 4
A26: MN | C26: 2 | G26: 1 | I26: 1 | K26: 1 | P26: 2 | T26: 2 | X26: 4 | AE26: 1 | AF26: 1 | AG26: 3 | AI26: 1 | AM26: 1 | AO26: 10 | AP26: 1 | AR26: 1 | BB26: 1 | BE26: 1 | BF26: 1 | BG26: 3 | BQ26: 2 | BR26: 1 | BW26: 4
A27: MS | B27: 2 | R27: 1 | Z27: 1 | AB27: 1 | AG27: 3 | BJ27: 3 | BK27: 9 | BP27: 1
A28: MO | K28: 1 | O28: 1 | U28: 3 | Y28: 1 | Z28: 1 | AE28: 2 | AO28: 4 | BG28: 1 | BH28: 1 | BK28: 1 | BR28: 1 | BW28: 1
A29: MT | K29: 1 | M29: 2 | P29: 1 | AC29: 1 | AI29: 2 | AO29: 3 | BE29: 1 | BR29: 3
A30: NE | F30: 1 | X30: 1 | AL30: 1 | AS30: 1 | BW30: 2
A31: NV | J31: 1 | N31: 1 | O31: 1 | AF31: 1 | AI31: 1 | AO31: 1 | AR31: 1 | AS31: 1 | AT31: 1 | BM31: 1 | BW31: 1
A32: NH | N32: 2 | Q32: 1 | AC32: 3 | AE32: 2 | AT32: 1 | BA32: 1 | BG32: 1
A33: NJ | C33: 1 | D33: 1 | F33: 1 | G33: 2 | I33: 1 | J33: 1 | N33: 2 | O33: 3 | P33: 4 | Q33: 6 | R33: 1 | T33: 3 | Z33: 2 | AC33: 1 | AD33: 6 | AE33: 5 | AF33: 4 | AG33: 5 | AI33: 2 | AO33: 1 | AS33: 11 | AT33: 35 | AU33: 1 | AV33: 18 | AW33: 3 | AY33: 1 | BF33: 18 | BG33: 18 | BH33: 2 | BI33: 1 | BJ33: 3 | BQ33: 1 | BS33: 3
A34: NM | D34: 3 | M34: 3 | AE34: 1 | AG34: 1 | AM34: 2 | AO34: 2 | BI34: 1 | BN34: 3 | BR34: 1
A35: NY | C35: 2 | D35: 2 | G35: 5 | H35: 1 | K35: 1 | L35: 1 | N35: 4 | O35: 4 | P35: 7 | Q35: 4 | R35: 1 | T35: 3 | W35: 2 | AB35: 1 | AC35: 4 | AD35: 8 | AE35: 18 | AF35: 2 | AG35: 10 | AH35: 1 | AO35: 1 | AR35: 14 | BA35: 4 | BF35: 9 | BG35: 8 | BH35: 5 | BI35: 1 | BJ35: 2 | BQ35: 2 | BR35: 1 | BS35: 1
A36: NC | C36: 1 | F36: 2 | G36: 1 | L36: 1 | M36: 2 | O36: 4 | Q36: 1 | S36: 4 | T36: 3 | W36: 1 | Z36: 2 | AC36: 2 | AD36: 1 | AE36: 2 | AF36: 2 | AG36: 8 | AH36: 1 | AI36: 1 | AJ36: 1 | AL36: 3 | AS36: 1 | AT36: 1 | AV36: 1 | AW36: 1 | BA36: 2 | BF36: 1 | BG36: 2 | BH36: 1 | BI36: 1 | BJ36: 4 | BP36: 1 | BR36: 1 | BS36: 7
A37: ND | M37: 3 | X37: 1 | AJ37: 2 | AO37: 12
A38: OH | C38: 3 | F38: 1 | G38: 1 | K38: 1 | L38: 1 | M38: 1 | O38: 1 | P38: 7 | Q38: 1 | R38: 1 | T38: 2 | X38: 1 | Y38: 3 | Z38: 6 | AC38: 3 | AE38: 1 | AF38: 1 | AG38: 1 | AH38: 5 | AI38: 4 | AJ38: 1 | AL38: 1 | AO38: 1 | AT38: 2 | AW38: 1 | BF38: 1 | BG38: 2 | BH38: 3 | BI38: 4 | BT38: 1 | BV38: 2 | BW38: 1
A39: OK | D39: 2 | T39: 1 | AB39: 1 | AE39: 2 | AL39: 4 | AM39: 1 | AO39: 1 | AT39: 1 | BO39: 1 | BQ39: 1
A40: OR | D40: 2 | F40: 1 | I40: 1 | K40: 1 | L40: 3 | M40: 2 | Q40: 1 | T40: 1 | W40: 1 | AG40: 2 | AO40: 1 | BO40: 1 | BP40: 1 | BQ40: 2
A41: PA | B41: 1 | I41: 1 | M41: 2 | N41: 1 | O41: 3 | P41: 8 | T41: 2 | Z41: 1 | AC41: 4 | AD41: 4 | AE41: 1 | AG41: 2 | AI41: 1 | AR41: 4 | AS41: 4 | AT41: 6 | AW41: 2 | BA41: 2 | BE41: 1 | BI41: 2 | BJ41: 2 | BQ41: 4 | BS41: 1 | BV41: 3
A42: PR
A43: RI | J43: 1 | M43: 1 | AC43: 2 | AE43: 1 | AG43: 1 | AI43: 1 | AT43: 1
A44: SC | B44: 1 | D44: 1 | J44: 2 | M44: 3 | O44: 1 | R44: 2 | S44: 3 | Y44: 2 | AC44: 1 | AG44: 2 | AT44: 1 | AU44: 1 | BJ44: 2 | BS44: 2
A45: SD | D45: 1 | F45: 1 | X45: 1 | AJ45: 2 | AO45: 5 | AP45: 4 | BR45: 1 | BW45: 1
A46: TN | C46: 1 | F46: 1 | N46: 1 | O46: 2 | Q46: 1 | T46: 1 | Y46: 1 | Z46: 3 | AC46: 1 | AF46: 1 | AG46: 2 | AH46: 1 | AL46: 1 | AO46: 1 | AS46: 1 | AT46: 1 | AX46: 1 | BB46: 1
A47: TX | C47: 7 | D47: 14 | F47: 2 | G47: 3 | H47: 1 | J47: 3 | K47: 3 | L47: 5 | O47: 1 | P47: 10 | Q47: 1 | T47: 5 | W47: 2 | X47: 3 | Y47: 1 | Z47: 5 | AB47: 3 | AC47: 1 | AE47: 2 | AG47: 12 | AH47: 7 | AJ47: 1 | AL47: 11 | AO47: 1 | AQ47: 1 | AR47: 1 | AS47: 3 | AT47: 15 | AU47: 1 | AV47: 3 | AY47: 1 | BA47: 3 | BD47: 1 | BE47: 1 | BF47: 1 | BG47: 4 | BH47: 1 | BJ47: 4 | BQ47: 5 | BS47: 1 | BW47: 3
A48: UT | C48: 3 | D48: 8 | G48: 2 | J48: 6 | N48: 1 | P48: 1 | T48: 1 | X48: 1 | Y48: 2 | Z48: 10 | AC48: 2 | AD48: 1 | AL48: 3 | AO48: 3 | AP48: 1 | AQ48: 16 | AT48: 1 | AY48: 1 | BA48: 1 | BB48: 1 | BD48: 1 | BE48: 1 | BG48: 1 | BI48: 1 | BN48: 1 | BO48: 3 | BP48: 1 | BS48: 1 | BT48: 1
A49: VT | AG49: 2 | AU49: 1 | BK49: 1
A50: VA | B50: 1 | C50: 1 | D50: 1 | F50: 1 | G50: 1 | I50: 1 | K50: 1 | L50: 1 | M50: 1 | N50: 1 | O50: 9 | P50: 2 | Q50: 1 | R50: 1 | T50: 3 | W50: 2 | Y50: 2 | Z50: 4 | AC50: 1 | AD50: 9 | AE50: 1 | AF50: 2 | AG50: 9 | AH50: 2 | AJ50: 1 | AL50: 1 | AO50: 1 | AR50: 2 | AS50: 1 | AT50: 7 | AV50: 4 | AW50: 1 | AY50: 2 | BB50: 1 | BF50: 3 | BG50: 10 | BH50: 1 | BI50: 2 | BQ50: 4 | BV50: 4
A51: WA | B51: 1 | C51: 3 | D51: 4 | F51: 4 | G51: 4 | H51: 1 | J51: 7 | K51: 2 | W51: 2 | X51: 1 | AC51: 1 | AD51: 2 | AG51: 3 | AI51: 2 | AO51: 1 | AT51: 6 | AV51: 1 | BA51: 1 | BE51: 9 | BG51: 1 | BJ51: 1 | BO51: 1 | BQ51: 2 | BR51: 2
A52: WV | W52: 1 | AC52: 1 | AG52: 1 | AO52: 2 | BR52: 1
A53: WI | C53: 1 | D53: 3 | K53: 1 | P53: 2 | T53: 5 | W53: 1 | X53: 4 | AC53: 1 | AI53: 1 | AJ53: 10 | AL53: 1 | AO53: 3 | AR53: 1 | AS53: 1 | AT53: 1 | AW53: 1 | BA53: 1 | BB53: 1 | BE53: 2 | BG53: 1 | BK53: 1 | BQ53: 1 | BR53: 1
A54: WY | D54: 1 | AO54: 5 | AP54: 1 | BF54: 1 | BQ54: 1
A55: Bahamas | O55: 1
A56: Bangladesh | AT56: 1
A57: Barbados | BG57: 1
A58: Canada | B58: 1 | D58: 1 | F58: 3 | G58: 4 | P58: 1 | Q58: 3 | T58: 4 | W58: 1 | Y58: 1 | Z58: 1 | AC58: 2 | AE58: 2 | AG58: 2 | AH58: 16 | AJ58: 5 | AS58: 1 | AT58: 45 | AV58: 4 | AW58: 4 | BA58: 11 | BF58: 8 | BG58: 3 | BH58: 3 | BQ58: 1 | BW58: 3
A59: Chile | AW59: 1
A60: China | D60: 1 | G60: 3 | K60: 1 | M60: 1 | AD60: 2 | AE60: 2 | AF60: 2 | AG60: 3 | AI60: 4 | AJ60: 2 | AS60: 3 | AT60: 6 | AU60: 1 | AV60: 1 | AW60: 1 | BA60: 1 | BF60: 2 | BG60: 6
A61: Columbia | AH61: 1
A62: Denmark | AE62: 1
A63: Ethiopia | AR63: 1
A64: France | Q64: 2
A65: Ghana | BD65: 1
A66: Guyana | AT66: 1
A67: Honduras | Z67: 1
A68: Iran | F68: 1 | G68: 1 | AT68: 2 | BF68: 1
A69: Iraq | AI69: 1
A70: India | J70: 1 | O70: 1 | Q70: 2 | S70: 1 | AH70: 1 | AS70: 1 | AT70: 1 | BH70: 1
A71: Indonesia | AT71: 2 | BF71: 1
A72: Kuwait | G72: 1 | AM72: 1 | AO72: 2 | BF72: 3 | BS72: 4 | BV72: 1
A73: Jamaica | Q73: 1
A74: Joran | F74: 1 | AG74: 1
A75: Malaysia | AJ75: 1
A76: Mexico | AD76: 1 | AG76: 1 | AO76: 1 | AQ76: 2
A77: Moldova | M77: 1
A78: Morocco | AT78: 2
A79: Pakistan | BF79: 1
A80: Palestine | AJ80: 1 | BF80: 1
A81: Peru | G81: 1
A82: Poland | AT82: 1
A83: Russia | AT83: 1
A84: Saint Lucia | O84: 1
A85: South Korea | F85: 5 | G85: 1 | H85: 1 | J85: 3 | K85: 1 | Q85: 1 | AE85: 1 | AH85: 1 | AR85: 2 | AS85: 1 | AT85: 18 | AV85: 3 | BA85: 2 | BB85: 1 | BE85: 1 | BG85: 1 | BJ85: 1 | BM85: 1
A86: Syria | H86: 1 | T86: 2 | AT86: 1
A87: Taiwan | F87: 1 | I87: 1 | J87: 1 | AE87: 1 | AT87: 3
A88: Thailand | AQ88: 1
A89: Trinidad | AY89: 1
A90: United Kingdom | Q90: 1 | AD90: 1
A91: Venezuela | G91: 1 | Q91: 1 | AG91: 1 | BS91: 1
A92: Vietnam | F92: 1 | AD92: 1 | AH92: 1 | AT92: 2 | BF92: 1 | BG92: 1
A93: Yemen | I93: 1
A94: Zimbabwe | S94: 1
