Workbook

Sheet Graphs
A1: Select State / Country of Residence | C1: WI
A2: Schools | B2: # Enrolled CO 2024 | C2: # Enrolled CO 2026 | D2: # Enrolled CO 2028 | E2: A note from Ryxndek: This data has come directly from the ADEA student guides for CO 2026 & 2028
A3: University of Alabama | B3: =INDEX(Data!ET:ET, MATCH($C$1, Data!$A:$A, 0)) -> 0 | C3: =INDEX(Data!B:B, MATCH($C$1, Data!$A:$A, 0)) -> 0 | D3: =INDEX(Data!BX:BX, MATCH($C$1, Data!$A:$A, 0)) -> 0 | E3: Please remember, this is for OOS enrollment, In-state will appear as zero!
A4: Arizona School of Dentistry | B4: =INDEX(Data!EU:EU, MATCH($C$1, Data!$A:$A, 0)) -> 3 | C4: =INDEX(Data!C:C, MATCH($C$1, Data!$A:$A, 0)) -> 1 | D4: =INDEX(Data!BY:BY, MATCH($C$1, Data!$A:$A, 0)) -> 1 | E4: This data is also not the "End-All-Be-All" either, it's to show you trends and trends only
A5: Midwestern University - AZ | B5: =INDEX(Data!EV:EV, MATCH($C$1, Data!$A:$A, 0)) -> 3 | C5: =INDEX(Data!D:D, MATCH($C$1, Data!$A:$A, 0)) -> 3 | D5: =INDEX(Data!BZ:BZ, MATCH($C$1, Data!$A:$A, 0)) -> 2 | E5: Use this to guide your school list, but also know just because it's zero doesn't mean you can't still apply
A6: Lyon College (No Data) | B6: =INDEX(Data!EW:EW, MATCH($C$1, Data!$A:$A, 0)) -> 0 | C6: =INDEX(Data!E:E, MATCH($C$1, Data!$A:$A, 0)) -> 0 | D6: =INDEX(Data!E:E, MATCH($C$1, Data!$A:$A, 0)) -> 0
A7: Loma Linda University | B7: =INDEX(Data!EX:EX, MATCH($C$1, Data!$A:$A, 0)) -> 0 | C7: =INDEX(Data!F:F, MATCH($C$1, Data!$A:$A, 0)) -> 0 | D7: =INDEX(Data!CB:CB, MATCH($C$1, Data!$A:$A, 0)) -> 1
A8: University of Southern California | B8: =INDEX(Data!EY:EY, MATCH($C$1, Data!$A:$A, 0)) -> 0 | C8: =INDEX(Data!G:G, MATCH($C$1, Data!$A:$A, 0)) -> 0 | D8: =INDEX(Data!CC:CC, MATCH($C$1, Data!$A:$A, 0)) -> 0
A9: University of California - Los Angeles | B9: =INDEX(Data!EZ:EZ, MATCH($C$1, Data!$A:$A, 0)) -> 1 | C9: =INDEX(Data!H:H, MATCH($C$1, Data!$A:$A, 0)) -> 0 | D9: =INDEX(Data!CD:CD, MATCH($C$1, Data!$A:$A, 0)) -> 0
A10: University of California - San Fransisco | B10: =INDEX(Data!FA:FA, MATCH($C$1, Data!$A:$A, 0)) -> 0 | C10: =INDEX(Data!I:I, MATCH($C$1, Data!$A:$A, 0)) -> 0 | D10: =INDEX(Data!CE:CE, MATCH($C$1, Data!$A:$A, 0)) -> 3
A11: University of the Pacific | B11: =INDEX(Data!FB:FB, MATCH($C$1, Data!$A:$A, 0)) -> 0 | C11: =INDEX(Data!J:J, MATCH($C$1, Data!$A:$A, 0)) -> 0 | D11: =INDEX(Data!CF:CF, MATCH($C$1, Data!$A:$A, 0)) -> 0
A12: Western University | B12: =INDEX(Data!FC:FC, MATCH($C$1, Data!$A:$A, 0)) -> 0 | C12: =INDEX(Data!K:K, MATCH($C$1, Data!$A:$A, 0)) -> 1 | D12: =INDEX(Data!CG:CG, MATCH($C$1, Data!$A:$A, 0)) -> 0
A13: California North State (no data co 2024) | B13: =INDEX(Data!FD:FD, MATCH($C$1, Data!$A:$A, 0)) -> 0 | C13: =INDEX(Data!L:L, MATCH($C$1, Data!$A:$A, 0)) -> 0 | D13: =INDEX(Data!CH:CH, MATCH($C$1, Data!$A:$A, 0)) -> 0
A14: Colorado University | B14: =INDEX(Data!FE:FE, MATCH($C$1, Data!$A:$A, 0)) -> 0 | C14: =INDEX(Data!M:M, MATCH($C$1, Data!$A:$A, 0)) -> 0 | D14: =INDEX(Data!CI:CI, MATCH($C$1, Data!$A:$A, 0)) -> 1
A15: University of Connecticut | B15: =INDEX(Data!FF:FF, MATCH($C$1, Data!$A:$A, 0)) -> 0 | C15: =INDEX(Data!N:N, MATCH($C$1, Data!$A:$A, 0)) -> 0 | D15: =INDEX(Data!CJ:CJ, MATCH($C$1, Data!$A:$A, 0)) -> 0
A16: Howard University | B16: =INDEX(Data!FG:FG, MATCH($C$1, Data!$A:$A, 0)) -> 0 | C16: =INDEX(Data!O:O, MATCH($C$1, Data!$A:$A, 0)) -> 0 | D16: =INDEX(Data!CK:CK, MATCH($C$1, Data!$A:$A, 0)) -> 0
A17: Lake Erie College of Medicine | B17: =INDEX(Data!FH:FH, MATCH($C$1, Data!$A:$A, 0)) -> 1 | C17: =INDEX(Data!P:P, MATCH($C$1, Data!$A:$A, 0)) -> 2 | D17: =INDEX(Data!CL:CL, MATCH($C$1, Data!$A:$A, 0)) -> 0
A18: Nova Southeastern University | B18: =INDEX(Data!FI:FI, MATCH($C$1, Data!$A:$A, 0)) -> 1 | C18: =INDEX(Data!Q:Q, MATCH($C$1, Data!$A:$A, 0)) -> 0 | D18: =INDEX(Data!CM:CM, MATCH($C$1, Data!$A:$A, 0)) -> 0
A19: University of Florida | B19: =INDEX(Data!FJ:FJ, MATCH($C$1, Data!$A:$A, 0)) -> 0 | C19: =INDEX(Data!R:R, MATCH($C$1, Data!$A:$A, 0)) -> 0 | D19: =INDEX(Data!CN:CN, MATCH($C$1, Data!$A:$A, 0)) -> 0
A20: Dental College of Georgia - Augusta U | B20: =INDEX(Data!FK:FK, MATCH($C$1, Data!$A:$A, 0)) -> 0 | C20: =INDEX(Data!S:S, MATCH($C$1, Data!$A:$A, 0)) -> 0 | D20: =INDEX(Data!CO:CO, MATCH($C$1, Data!$A:$A, 0)) -> 0
A21: Midwestern University - IL | B21: =INDEX(Data!FL:FL, MATCH($C$1, Data!$A:$A, 0)) -> 9 | C21: =INDEX(Data!T:T, MATCH($C$1, Data!$A:$A, 0)) -> 5 | D21: =INDEX(Data!CP:CP, MATCH($C$1, Data!$A:$A, 0)) -> 1
A22: Southern Illinois University | B22: =INDEX(Data!FM:FM, MATCH($C$1, Data!$A:$A, 0)) -> 0 | C22: =INDEX(Data!U:U, MATCH($C$1, Data!$A:$A, 0)) -> 0 | D22: =INDEX(Data!CQ:CQ, MATCH($C$1, Data!$A:$A, 0)) -> 0
A23: University of Illinois - Chicago | B23: =INDEX(Data!FN:FN, MATCH($C$1, Data!$A:$A, 0)) -> 1 | C23: =INDEX(Data!V:V, MATCH($C$1, Data!$A:$A, 0)) -> 0 | D23: =INDEX(Data!CR:CR, MATCH($C$1, Data!$A:$A, 0)) -> 0
A24: Indiana University | B24: =INDEX(Data!FO:FO, MATCH($C$1, Data!$A:$A, 0)) -> 4 | C24: =INDEX(Data!W:W, MATCH($C$1, Data!$A:$A, 0)) -> 1 | D24: =INDEX(Data!CS:CS, MATCH($C$1, Data!$A:$A, 0)) -> 0
A25: University of Iowa | B25: =INDEX(Data!FP:FP, MATCH($C$1, Data!$A:$A, 0)) -> 6 | C25: =INDEX(Data!X:X, MATCH($C$1, Data!$A:$A, 0)) -> 4 | D25: =INDEX(Data!CT:CT, MATCH($C$1, Data!$A:$A, 0)) -> 5
A26: University of Kentucky | B26: =INDEX(Data!FQ:FQ, MATCH($C$1, Data!$A:$A, 0)) -> 0 | C26: =INDEX(Data!Y:Y, MATCH($C$1, Data!$A:$A, 0)) -> 0 | D26: =INDEX(Data!CU:CU, MATCH($C$1, Data!$A:$A, 0)) -> 0
A27: University of Louisville | B27: =INDEX(Data!FR:FR, MATCH($C$1, Data!$A:$A, 0)) -> 1 | C27: =INDEX(Data!Z:Z, MATCH($C$1, Data!$A:$A, 0)) -> 0 | D27: =INDEX(Data!CV:CV, MATCH($C$1, Data!$A:$A, 0)) -> 0
A28: University of Pikeville (No Data) | B28: =INDEX(Data!FS:FS, MATCH($C$1, Data!$A:$A, 0)) -> 0 | C28: =INDEX(Data!AA:AA, MATCH($C$1, Data!$A:$A, 0)) -> 0 | D28: =INDEX(Data!CW:CW, MATCH($C$1, Data!$A:$A, 0)) -> 0
A29: Louisiana State University | B29: =INDEX(Data!FT:FT, MATCH($C$1, Data!$A:$A, 0)) -> 0 | C29: =INDEX(Data!AB:AB, MATCH($C$1, Data!$A:$A, 0)) -> 0 | D29: =INDEX(Data!CX:CX, MATCH($C$1, Data!$A:$A, 0)) -> 0
A30: University of New England | B30: =INDEX(Data!FU:FU, MATCH($C$1, Data!$A:$A, 0)) -> 1 | C30: =INDEX(Data!AC:AC, MATCH($C$1, Data!$A:$A, 0)) -> 1 | D30: =INDEX(Data!CY:CY, MATCH($C$1, Data!$A:$A, 0)) -> 0
A31: University of Maryland | B31: =INDEX(Data!FV:FV, MATCH($C$1, Data!$A:$A, 0)) -> 0 | C31: =INDEX(Data!AD:AD, MATCH($C$1, Data!$A:$A, 0)) -> 0 | D31: =INDEX(Data!CZ:CZ, MATCH($C$1, Data!$A:$A, 0)) -> 0
A32: Boston University | B32: =INDEX(Data!FW:FW, MATCH($C$1, Data!$A:$A, 0)) -> 1 | C32: =INDEX(Data!AE:AE, MATCH($C$1, Data!$A:$A, 0)) -> 0 | D32: =INDEX(Data!DA:DA, MATCH($C$1, Data!$A:$A, 0)) -> 1
A33: Harvard University | B33: =INDEX(Data!FX:FX, MATCH($C$1, Data!$A:$A, 0)) -> 0 | C33: =INDEX(Data!AF:AF, MATCH($C$1, Data!$A:$A, 0)) -> 0 | D33: =INDEX(Data!DB:DB, MATCH($C$1, Data!$A:$A, 0)) -> 0
A34: Tufts University | B34: =INDEX(Data!FY:FY, MATCH($C$1, Data!$A:$A, 0)) -> 2 | C34: =INDEX(Data!AG:AG, MATCH($C$1, Data!$A:$A, 0)) -> 0 | D34: =INDEX(Data!DC:DC, MATCH($C$1, Data!$A:$A, 0)) -> 0
A35: University of Detroit Mercy | B35: =INDEX(Data!FZ:FZ, MATCH($C$1, Data!$A:$A, 0)) -> 2 | C35: =INDEX(Data!AH:AH, MATCH($C$1, Data!$A:$A, 0)) -> 0 | D35: =INDEX(Data!DD:DD, MATCH($C$1, Data!$A:$A, 0)) -> 1
A36: University of Michigan | B36: =INDEX(Data!GA:GA, MATCH($C$1, Data!$A:$A, 0)) -> 1 | C36: =INDEX(Data!AI:AI, MATCH($C$1, Data!$A:$A, 0)) -> 1 | D36: =INDEX(Data!DE:DE, MATCH($C$1, Data!$A:$A, 0)) -> 1
A37: University of Minnesota | B37: =INDEX(Data!GB:GB, MATCH($C$1, Data!$A:$A, 0)) -> 6 | C37: =INDEX(Data!AJ:AJ, MATCH($C$1, Data!$A:$A, 0)) -> 10 | D37: =INDEX(Data!DF:DF,MATCH($C$1,Data!$A:$A,0)) -> 7
A38: University of Mississippi | B38: =INDEX(Data!GC:GC, MATCH($C$1, Data!$A:$A, 0)) -> 0 | C38: =INDEX(Data!AK:AK, MATCH($C$1, Data!$A:$A, 0)) -> 0 | D38: =INDEX(Data!DG:DG,MATCH($C$1,Data!$A:$A,0)) -> 0
A39: Missouri School of Dentistry | B39: =INDEX(Data!GD:GD, MATCH($C$1, Data!$A:$A, 0)) -> 0 | C39: =INDEX(Data!AL:AL, MATCH($C$1, Data!$A:$A, 0)) -> 1 | D39: =INDEX(Data!DH:DH,MATCH($C$1,Data!$A:$A,0)) -> 1
A40: University of Missouri - Kansas City | B40: =INDEX(Data!GE:GE, MATCH($C$1, Data!$A:$A, 0)) -> 0 | C40: =INDEX(Data!AM:AM, MATCH($C$1, Data!$A:$A, 0)) -> 0 | D40: =INDEX(Data!DI:DI,MATCH($C$1,Data!$A:$A,0)) -> 0
...

Sheet Data
A1: STATE | B1: UAB (2026) | C1: ASDOH (2026) | D1: MWU-AZ (2026) | E1: Lyon (2026) | F1: Loma Linda (2026) | G1: USC (2026) | H1: UCLA (2026) | I1: UCSF (2026) | J1: UoP (2026) | K1: Western U (2026) | L1: CNU (2026) | M1: CU (2026) | N1: Uconn (2026) | O1: Howard (2026) | P1: LECOM (2026) | Q1: NOVA (2026) | R1: UF (2026) | S1: DCG (2026) | T1: MWU-IL (2026) | U1: SIU (2026) | V1: UIC (2026) | W1: IU (2026) | X1: Iowa (2026) | Y1: UK (2026) | Z1: UL (2026) | AA1: Upike (2026) | AB1: LSU (2026) | AC1: UNE (2026) | AD1: UMD (2026) | AE1: BU (2026) | AF1: Harvard (2026) | AG1: TUFTS (2026) | AH1: UDM (2026) | AI1: Umich (2026) | AJ1: UMN (2026) | AK1: UMMC (2026) | AL1: MOSDOH (2026) | AM1: UMKC (2026) | AN1: KCU (2026) | AO1: Creighton (2026) | AP1: Nebraska (2026) | AQ1: UNLV (2026) | AR1: Rutgers (2026) | AS1: Columbia (2026) | AT1: NYU (2026) | AU1: Stony (2026) | AV1: Touro (2026) | AW1: Ubuffalo (2026) | AX1: ECU (2026) | AY1: UNC (2026) | AZ1: HPU (2026) | BA1: CWRU (2026) | BB1: OSU (2026) | BC1: NeoMed (2026) | BD1: Oklahoma (2026) | BE1: OHSU (2026) | BF1: Temple (2026) | BG1: Upenn (2026) | BH1: UPItt (2026) | BI1: MUSC (2026) | BJ1: Meharry (2026) | BK1: UTHSC (2026) | BL1: LMU (2026) | BM1: Texas A&M (2026) | BN1: Texas Tech (2026) | BO1: UT-Houston (2026) | BP1: UT-San Antonio (2026) | BQ1: Roseman (2026) | BR1: UofU (2026) | BS1: VCU (2026) | BT1: UW (2026) | BU1: PNWU (2026) | BV1: WVU (2026) | BW1: Marquette (2026) | BX1: UAB (2026) | BY1: ASDOH (2026) | BZ1: MWU-AZ (2026) | CA1: Lyon (2026) | CB1: Loma Linda (2026) | CC1: USC (2026) | CD1: UCLA (2026) | CE1: UCSF (2026) | CF1: UoP (2026) | CG1: Western U (2026) | CH1: CNU (2026) | CI1: CU (2026) | CJ1: Uconn (2026) | CK1: Howard (2026) | CL1: LECOM (2026) | CM1: NOVA (2026) | CN1: UF (2026) | CO1: DCG (2026) | CP1: MWU-IL (2026) | CQ1: SIU (2026) | CR1: UIC (2026) | CS1: IU (2026) | CT1: Iowa (2026) | CU1: UK (2026) | CV1: UL (2026) | CW1: Upike (2026) | CX1: LSU (2026) | CY1: UNE (2026) | CZ1: UMD (2026) | DA1: BU (2026) | DB1: Harvard (2026) | DC1: TUFTS (2026) | DD1: UDM (2026) | DE1: Umich (2026) | DF1: UMN (2026) | DG1: UMMC (2026) | DH1: MOSDOH (2026) | DI1: UMKC (2026) | DJ1: KCU (2026) | DK1: Creighton (2026) | DL1: Nebraska (2026) | DM1: UNLV (2026) | DN1: Rutgers (2026) | DO1: Columbia (2026) | DP1: NYU (2026) | DQ1: Stony (2026) | DR1: Touro (2026) | DS1: Ubuffalo (2026) | DT1: ECU (2026) | DU1: UNC (2026) | DV1: HPU (2026) | DW1: CWRU (2026) | DX1: OSU (2026) | DY1: NeoMed (2026) | DZ1: Oklahoma (2026) | EA1: OHSU (2026) | EB1: Temple (2026) | EC1: Upenn (2026) | ED1: UPItt (2026) | EE1: MUSC (2026) | EF1: Meharry (2026) | EG1: UTHSC (2026) | EH1: LMU (2026) | EI1: Texas A&M (2026) | EJ1: Texas Tech (2026) | EK1: UT-Houston (2026) | EL1: UT-San Antonio (2026) | EM1: Roseman (2026) | EN1: UofU (2026) | EO1: VCU (2026) | EP1: UW (2026) | EQ1: PNWU (2026) | ER1: WVU (2026) | ES1: Marquette (2026) | ET1: UAB (2026) | EU1: ASDOH (2026) | EV1: MWU-AZ (2026) | EW1: Lyon (2026) | EX1: Loma Linda (2026) | EY1: USC (2026) | EZ1: UCLA (2026) | FA1: UCSF (2026) | FB1: UoP (2026) | FC1: Western U (2026) | FD1: CNU (2026) | FE1: CU (2026) | FF1: Uconn (2026) | FG1: Howard (2026) | FH1: LECOM (2026) | FI1: NOVA (2026) | FJ1: UF (2026) | FK1: DCG (2026) | FL1: MWU-IL (2026) | FM1: SIU (2026) | FN1: UIC (2026) | FO1: IU (2026) | FP1: Iowa (2026) | FQ1: UK (2026) | FR1: UL (2026) | FS1: Upike (2026) | FT1: LSU (2026) | FU1: UNE (2026) | FV1: UMD (2026) | FW1: BU (2026) | FX1: Harvard (2026) | FY1: TUFTS (2026) | FZ1: UDM (2026) | GA1: Umich (2026) | GB1: UMN (2026) | GC1: UMMC (2026) | GD1: MOSDOH (2026) | GE1: UMKC (2026) | GF1: KCU (2026) | GG1: Creighton (2026) | GH1: Nebraska (2026) | GI1: UNLV (2026) | GJ1: Rutgers (2026) | GK1: Columbia (2026) | GL1: NYU (2026) | GM1: Stony (2026) | GN1: Touro (2026) | GO1: Ubuffalo (2026) | GP1: ECU (2026) | GQ1: UNC (2026) | GR1: HPU (2026) | GS1: CWRU (2026) | GT1: OSU (2026) | GU1: NeoMed (2026) | GV1: Oklahoma (2026) | GW1: OHSU (2026) | GX1: Temple (2026) | GY1: Upenn (2026) | GZ1: UPItt (2026) | HA1: MUSC (2026) | HB1: Meharry (2026) | HC1: UTHSC (2026) | HD1: LMU (2026) | HE1: Texas A&M (2026) | HF1: Texas Tech (2026) | HG1: UT-Houston (2026) | HH1: UT-San Antonio (2026) | HI1: Roseman (2026) | HJ1: UofU (2026) | HK1: VCU (2026) | HL1: UW (2026) | HM1: PNWU (2026) | HN1: WVU (2026) | HO1: Marquette (2026)
A2: AL | C2: 1 | G2: 2 | O2: 2 | P2: 1 | R2: 1 | Z2: 1 | AG2: 3 | BJ2: 3 | BK2: 1 | BP2: 1 | BQ2: 2 | CK2: 1 | CM2: 1 | CP2: 2 | CV2: 2 | DA2: 1 | DC2: 2 | DJ2: 1 | DU2: 2 | EF2: 6 | EH2: 5 | EL2: 1 | FH2: 6 | FK2: 1 | FL2: 1 | FO2: 1 | FQ2: 1 | FR2: 3 | FX2: 1 | FY2: 4 | FZ2: 1 | GA2: 1 | GD2: 2 | HA2: 1 | HC2: 2 | HI2: 1 | HN2: 1 | HO2: 1
A3: AK | AG3: 1 | AI3: 1 | AO3: 1 | BE3: 2 | BG3: 1 | BT3: 2 | BW3: 1 | BZ3: 1 | CC3: 1 | CI3: 1 | DK3: 2 | EA3: 2 | ED3: 1 | EE3: 1 | EN3: 1 | EP3: 1 | EU3: 1 | EV3: 2 | FC3: 1 | FY3: 1 | GA3: 1 | GD3: 1 | GG3: 1 | GW3: 1 | GY3: 1 | HI3: 1 | HJ3: 1 | HL3: 2
A4: AZ | B4: 1 | F4: 1 | G4: 1 | H4: 1 | J4: 3 | K4: 1 | M4: 5 | O4: 1 | P4: 1 | Q4: 2 | T4: 2 | W4: 1 | Y4: 2 | Z4: 1 | AD4: 1 | AG4: 1 | AI4: 2 | AL4: 1 | AM4: 1 | AO4: 2 | AP4: 1 | AQ4: 2 | AR4: 1 | AU4: 1 | AW4: 1 | BE4: 2 | BF4: 2 | BG4: 4 | BI4: 1 | BQ4: 2 | BR4: 1 | CB4: 1 | CC4: 1 | CD4: 1 | CF4: 2 | CI4: 4 | CP4: 2 | CQ4: 1 | CT4: 1 | CU4: 1 | CV4: 3 | CX4: 1 | CZ4: 1 | DB4: 1 | DC4: 2 | DD4: 1 | DK4: 5 | EA4: 2 | EB4: 1 | EF4: 1 | EL4: 1 | EM4: 6 | EN4: 2 | EP4: 2 | ES4: 1 | EX4: 1 | EY4: 5 | FA4: 2 | FB4: 2 | FC4: 2 | FE4: 5 | FG4: 1 | FI4: 1 | FL4: 2 | FO4: 1 | FQ4: 1 | FU4: 3 | FV4: 1 | FW4: 1 | FX4: 2 | FY4: 1 | GA4: 1 | GD4: 1 | GE4: 1 | GG4: 1 | GI4: 1 | GK4: 1 | GM4: 1 | GT4: 1 | GW4: 6 | GY4: 4 | HI4: 1 | HJ4: 3 | HO4: 2
A5: AR | W5: 1 | AB5: 2 | AL5: 3 | AM5: 3 | AT5: 1 | BI5: 1 | BJ5: 1 | BK5: 23 | BM5: 3 | BY5: 1 | BZ5: 1 | CI5: 1 | CK5: 1 | CN5: 1 | CP5: 1 | CX5: 5 | DE5: 1 | DI5: 1 | DJ5: 9 | EF5: 3 | EG5: 24 | EI5: 2 | EU5: 1 | EY5: 1 | FJ5: 1 | FL5: 1 | FM5: 1 | FQ5: 1 | FR5: 4 | FT5: 4 | GD5: 5 | GE5: 11 | GK5: 1 | GL5: 1 | GS5: 1 | HB5: 1 | HC5: 23 | HE5: 2 | HI5: 1
A6: CA | C6: 28 | D6: 26 | M6: 2 | O6: 1 | P6: 3 | Q6: 2 | T6: 13 | V6: 1 | X6: 1 | Z6: 1 | AC6: 2 | AD6: 6 | AE6: 5 | AF6: 3 | AG6: 18 | AH6: 7 | AI6: 8 | AJ6: 1 | AL6: 5 | AO6: 3 | AQ6: 16 | AS6: 7 | AT6: 43 | AV6: 18 | AW6: 2 | AY6: 1 | BA6: 4 | BB6: 2 | BE6: 7 | BF6: 1 | BG6: 11 | BH6: 1 | BI6: 1 | BM6: 2 | BN6: 1 | BQ6: 25 | BR6: 5 | BS6: 1 | BT6: 1 | BW6: 3 | BX6: 1 | BY6: 15 | BZ6: 28 | CI6: 2 | CL6: 13 | CM6: 4 | CP6: 8 | CT6: 1 | CV6: 3 | CY6: 4 | CZ6: 1 | DA6: 2 | DB6: 6 | DC6: 20 | DD6: 2 | DE6: 1 | DF6: 3 | DH6: 2 | DJ6: 4 | DK6: 4 | DL6: 1 | DM6: 12 | DN6: 5 | DO6: 12 | DP6: 43 | DR6: 32 | DU6: 1 | DW6: 3 | DX6: 1 | EA6: 9 | EB6: 3 | EC6: 19 | EG6: 1 | EH6: 1 | EK6: 1 | EM6: 19 | EN6: 4 | EO6: 1 | EP6: 1 | ES6: 1 | EU6: 20 | EV6: 34 | FE6: 2 | FF6: 1 | FH6: 3 | FI6: 1 | FK6: 1 | FL6: 11 | FO6: 4 | FP6: 1 | FQ6: 1 | FU6: 2 | FV6: 7 | FW6: 7 | FX6: 1 | FY6: 25 | FZ6: 8 | GA6: 4 | GB6: 3 | GD6: 4 | GG6: 9 | GH6: 1 | GI6: 10 | GJ6: 3 | GK6: 3 | GL6: 28 | GM6: 1 | GN6: 16 | GO6: 2 | GS6: 3 | GT6: 3 | GV6: 1 | GW6: 8 | GX6: 4 | GY6: 11 | GZ6: 3 | HA6: 2 | HB6: 2 | HG6: 1 | HI6: 29 | HJ6: 3 | HL6: 1 | HO6: 2
A7: CO | C7: 1 | D7: 3 | I7: 1 | J7: 1 | L7: 1 | Q7: 1 | AG7: 1 | AJ7: 2 | AO7: 5 | AQ7: 1 | AS7: 1 | BQ7: 2 | BY7: 1 | BZ7: 1 | CB7: 1 | CF7: 1 | CH7: 1 | CM7: 1 | CN7: 1 | CP7: 1 | CT7: 1 | CX7: 1 | DD7: 2 | DJ7: 1 | DK7: 5 | DM7: 1 | DN7: 1 | DO7: 1 | DP7: 1 | DR7: 2 | DZ7: 2 | EC7: 1 | ED7: 1 | EM7: 5 | EN7: 1 | ER7: 1 | EV7: 1 | EX7: 1 | FB7: 1 | FG7: 1 | FH7: 1 | FL7: 1 | FQ7: 1 | FT7: 1 | FU7: 1 | FW7: 1 | FY7: 1 | FZ7: 1 | GA7: 1 | GI7: 1 | GL7: 1 | GS7: 1 | GT7: 1 | HA7: 1 | HE7: 1 | HH7: 1 | HI7: 2 | HJ7: 1
A8: CT | B8: 1 | D8: 1 | K8: 1 | X8: 1 | AC8: 3 | AE8: 1 | AF8: 1 | AG8: 1 | AT8: 2 | AU8: 1 | AV8: 1 | AY8: 1 | BA8: 1 | BR8: 1 | CD8: 1 | CI8: 1 | CP8: 1 | CY8: 2 | DA8: 3 | DC8: 3 | DN8: 1 | DP8: 2 | DQ8: 1 | DR8: 4 | DW8: 1 | EC8: 1 | ED8: 1 | EE8: 1 | FO8: 1 | FU8: 4 | FW8: 3 | FY8: 2 | GJ8: 1 | GK8: 4 | GL8: 6 | GN8: 2 | GO8: 1 | GW8: 1
A9: DE | O9: 1 | BF9: 4 | BG9: 1 | BS9: 1 | BY9: 1 | CK9: 2 | CP9: 1 | CZ9: 2 | DA9: 2 | DC9: 1 | DP9: 3 | EB9: 7 | EH9: 1 | FL9: 1 | FV9: 1 | FY9: 1 | GJ9: 1 | GL9: 1 | GX9: 11 | GY9: 1 | GZ9: 3 | HA9: 1 | HK9: 1
A10: DC | G10: 2 | BG10: 1 | BH10: 1 | CC10: 1 | CG10: 1 | DN10: 1 | DP10: 1 | GY10: 1
A11: FL | B11: 8 | C11: 1 | D11: 10 | F11: 3 | G11: 4 | H11: 1 | I11: 1 | J11: 1 | L11: 2 | M11: 4 | N11: 2 | O11: 6 | S11: 1 | T11: 27 | V11: 1 | W11: 4 | Y11: 2 | Z11: 13 | AB11: 3 | AC11: 4 | AD11: 11 | AE11: 7 | AF11: 3 | AG11: 30 | AH11: 4 | AI11: 2 | AJ11: 1 | AL11: 2 | AQ11: 1 | AR11: 1 | AS11: 10 | AT11: 15 | AV11: 3 | AW11: 4 | AY11: 4 | BA11: 4 | BB11: 1 | BF11: 5 | BG11: 15 | BH11: 5 | BI11: 1 | BJ11: 13 | BO11: 1 | BQ11: 5 | BR11: 1 | BS11: 5 | BW11: 4 | BX11: 6 | BY11: 3 | BZ11: 10 | CB11: 1 | CC11: 2 | CF11: 1 | CG11: 2 | CH11: 1 | CI11: 4 | CJ11: 1 | CK11: 10 | CO11: 3 | CP11: 15 | CS11: 4 | CT11: 2 | CU11: 5 | CV11: 14 | CX11: 2 | CY11: 3 | CZ11: 16 | DA11: 14 | DB11: 5 | DC11: 30 | DD11: 9 | DE11: 2 | DF11: 1 | DH11: 4 | DJ11: 1 | DK11: 1 | DN11: 4 | DO11: 2 | DP11: 24 | DR11: 14 | DS11: 3 | DU11: 2 | DW11: 1 | DX11: 3 | EB11: 5 | EC11: 8 | ED11: 7 | EE11: 1 | EF11: 3 | EH11: 6 | EJ11: 1 | EL11: 1 | EM11: 6 | EO11: 5 | ER11: 1 | ES11: 5 | ET11: 12 | EU11: 6 | EV11: 6 | EX11: 6 | EY11: 1 | EZ11: 1 | FB11: 1 | FC11: 1 | FE11: 5 | FF11: 3 | FG11: 12 | FK11: 2 | FL11: 11 | FO11: 5 | FP11: 4 | FQ11: 6 | FR11: 12 | FT11: 4 | FU11: 3 | FV11: 10 | FW11: 10 | FX11: 5 | FY11: 38 | FZ11: 11 | GA11: 3 | GB11: 2 | GD11: 1 | GG11: 3 | GH11: 2 | GI11: 1 | GJ11: 7 | GK11: 4 | GL11: 27 | GN11: 7 | GO11: 2 | GQ11: 4 | GS11: 4 | GT11: 1 | GX11: 6 | GY11: 15 | GZ11: 5 | HA11: 2 | HB11: 8 | HC11: 2 | HI11: 9 | HK11: 7 | HN11: 1 | HO11: 3
A12: GA | B12: 5 | C12: 2 | D12: 1 | F12: 4 | G12: 3 | I12: 2 | J12: 1 | K12: 3 | L12: 1 | P12: 4 | Q12: 4 | R12: 5 | T12: 1 | W12: 1 | Y12: 3 | Z12: 10 | AD12: 4 | AE12: 1 | AF12: 2 | AG12: 5 | AH12: 1 | AI12: 3 | AL12: 1 | AO12: 1 | AS12: 2 | AV12: 2 | AW12: 1 | AY12: 3 | BF12: 3 | BG12: 1 | BH12: 1 | BJ12: 9 | BQ12: 4 | BS12: 2 | BX12: 13 | BY12: 2 | BZ12: 1 | CB12: 4 | CD12: 1 | CK12: 5 | CL12: 10 | CM12: 1 | CN12: 2 | CP12: 5 | CT12: 1 | CU12: 2 | CV12: 4 | CZ12: 3 | DA12: 2 | DB12: 1 | DC12: 7 | DD12: 2 | DE12: 1 | DH12: 1 | DI12: 1 | DJ12: 2 | DK12: 2 | DN12: 1 | DO12: 2 | DP12: 5 | DR12: 5 | DS12: 1 | DU12: 1 | EE12: 3 | EF12: 11 | EG12: 2 | EH12: 6 | EM12: 1 | EO12: 4 | ET12: 4 | EV12: 2 | EX12: 1 | EY12: 3 | FA12: 1 | FC12: 1 | FE12: 2 | FF12: 3 | FG12: 3 | FH12: 4 | FI12: 1 | FJ12: 5 | FL12: 4 | FQ12: 4 | FR12: 7 | FT12: 1 | FU12: 1 | FV12: 3 | FW12: 3 | FY12: 7 | FZ12: 2 | GA12: 2 | GG12: 1 | GJ12: 1 | GK12: 3 | GL12: 9 | GN12: 3 | GQ12: 1 | GX12: 4 | GY12: 1 | HA12: 1 | HB12: 8 | HC12: 1 | HJ12: 1 | HK12: 3
A13: GU | F13: 1 | K13: 2 | X13: 1 | AE13: 1 | EY13: 1 | FL13: 1 | FY13: 1 | HO13: 1
A14: HI | C14: 1 | D14: 1 | G14: 1 | H14: 1 | J14: 3 | K14: 1 | T14: 1 | AM14: 4 | AO14: 3 | AQ14: 1 | BR14: 1 | BW14: 1 | CC14: 1 | CE14: 1 | CF14: 2 | CG14: 1 | DI14: 4 | DJ14: 1 | DK14: 2 | DM14: 1 | DP14: 1 | EA14: 3 | EF14: 1 | EM14: 1 | EN14: 1 | EX14: 2 | FB14: 4 | FL14: 1 | GE14: 1 | GG14: 2 | GI14: 1 | GJ14: 1 | GL14: 1 | GW14: 2 | HI14: 2
A15: ID | C15: 1 | D15: 7 | F15: 1 | X15: 2 | Y15: 1 | AC15: 4 | AH15: 1 | AL15: 1 | AO15: 8 | AQ15: 2 | BE15: 2 | BI15: 1 | BP15: 1 | BQ15: 1 | BR15: 2 | BT15: 1 | BY15: 1 | BZ15: 6 | CY15: 2 | CZ15: 1 | DD15: 1 | DH15: 1 | DK15: 9 | DM15: 1 | EA15: 1 | EM15: 2 | EN15: 4 | EO15: 1 | EV15: 2 | FP15: 1 | FQ15: 1 | FU15: 1 | FY15: 1 | GD15: 2 | GE15: 1 | GG15: 8 | GI15: 3 | GS15: 1 | GW15: 2 | HA15: 1 | HI15: 2 | HJ15: 5 | HK15: 1 | HL15: 1
A16: IL | B16: 2 | C16: 1 | D16: 6 | F16: 1 | G16: 1 | I16: 1 | J16: 3 | K16: 1 | L16: 1 | M16: 1 | P16: 4 | Q16: 4 | W16: 3 | X16: 5 | Y16: 2 | Z16: 5 | AD16: 1 | AE16: 4 | AF16: 3 | AG16: 6 | AH16: 7 | AI16: 6 | AJ16: 1 | AL16: 5 | AM16: 2 | AO16: 4 | AP16: 1 | AS16: 3 | AT16: 3 | AW16: 1 | AY16: 3 | BA16: 1 | BB16: 1 | BF16: 4 | BG16: 4 | BH16: 1 | BJ16: 1 | BQ16: 3 | BR16: 1 | BW16: 22 | BX16: 1 | BY16: 3 | BZ16: 4 | CB16: 1 | CC16: 3 | CE16: 2 | CF16: 1 | CG16: 1 | CK16: 1 | CL16: 6 | CM16: 1 | CS16: 6 | CT16: 4 | CU16: 1 | CV16: 5 | CY16: 1 | DA16: 2 | DB16: 1 | DC16: 4 | DD16: 4 | DE16: 9 | DF16: 4 | DH16: 7 | DI16: 1 | DJ16: 3 | DK16: 1 | DO16: 3 | DP16: 3 | DR16: 3 | DW16: 2 | DX16: 1 | EA16: 1 | EB16: 3 | EC16: 4 | ED16: 1 | EE16: 1 | EF16: 1 | EG16: 1 | EH16: 1 | EM16: 4 | EN16: 2 | EO16: 1 | ER16: 1 | ES16: 19 | EU16: 2 | EV16: 7 | EY16: 1 | FA16: 1 | FB16: 2 | FG16: 2 | FH16: 4 | FI16: 3 | FJ16: 1 | FO16: 8 | FP16: 3 | FQ16: 1 | FR16: 6 | FU16: 1 | FW16: 2 | FY16: 7 | FZ16: 2 | GA16: 4 | GB16: 1 | GD16: 11 | GE16: 1 | GG16: 7 | GH16: 1 | GK16: 6 | GL16: 1 | GN16: 5 | GS16: 5 | GW16: 1 | GY16: 4 | GZ16: 1 | HB16: 3 | HI16: 2 | HO16: 28
A17: IN | D17: 1 | M17: 1 | O17: 2 | T17: 3 | X17: 1 | Z17: 3 | AC17: 1 | AE17: 1 | AF17: 1 | AG17: 2 | AH17: 1 | AI17: 4 | AL17: 1 | AO17: 1 | AR17: 1 | AT17: 4 | BA17: 1 | BB17: 1 | BG17: 1 | BJ17: 3 | BK17: 1 | BQ17: 1 | BW17: 2 | BX17: 1 | BZ17: 2 | CL17: 1 | CP17: 1 | CU17: 3 | CV17: 5 | DA17: 2 | DB17: 2 | DC17: 3 | DD17: 1 | DJ17: 1 | DP17: 1 | DR17: 1 | DU17: 1 | DX17: 3 | ED17: 2 | EM17: 1 | EU17: 2 | EV17: 1 | EX17: 1 | EY17: 1 | FH17: 1 | FL17: 6 | FN17: 1 | FP17: 1 | FQ17: 3 | FR17: 4 | FV17: 1 | FY17: 6 | FZ17: 1 | GD17: 1 | GG17: 3 | GK17: 1 | GL17: 2 | GY17: 1 | HN17: 1 | HO17: 1
A18: IA | C18: 1 | O18: 1 | P18: 1 | T18: 1 | Z18: 1 | AI18: 1 | AJ18: 2 | AO18: 4 | AP18: 1 | AY18: 1 | BM18: 1 | BQ18: 1 | BZ18: 1 | CC18: 1 | CI18: 1 | DJ18: 1 | DK18: 3 | DU18: 1 | EF18: 1 | EO18: 1 | ES18: 2 | FH18: 1 | FL18: 1 | GB18: 1 | GG18: 3 | GH18: 1 | HI18: 1
A19: KS | G19: 1 | Z19: 1 | AG19: 2 | AL19: 5 | AM19: 32 | AO19: 4 | AP19: 3 | AQ19: 1 | AR19: 1 | CI19: 1 | CP19: 2 | CX19: 1 | DH19: 2 | DI19: 19 | DJ19: 7 | DK19: 5 | DL19: 3 | EB19: 1 | EC19: 1 | EF19: 1 | EX19: 1 | FE19: 1 | FI19: 1 | GA19: 1 | GD19: 1 | GE19: 24 | GG19: 7 | GH19: 1 | GV19: 1 | HI19: 1 | HJ19: 1
A20: KY | O20: 1 | W20: 1 | AH20: 1 | AI20: 1 | AS20: 1 | CL20: 2 | CP20: 2 | DB20: 1 | DE20: 1 | DH20: 1 | DP20: 1 | DU20: 1 | EH20: 7 | FJ20: 1 | FW20: 1 | GK20: 2 | GL20: 1 | GS20: 1
A21: LA | B21: 1 | C21: 1 | D21: 2 | O21: 4 | P21: 2 | Q21: 1 | T21: 1 | Z21: 1 | AC21: 1 | AG21: 5 | AM21: 1 | BB21: 1 | BJ21: 7 | BK21: 1 | BQ21: 1 | BR21: 1 | BV21: 1 | BZ21: 2 | CK21: 1 | CL21: 3 | CM21: 1 | CP21: 2 | CU21: 1 | CV21: 3 | CZ21: 1 | DC21: 2 | DH21: 1 | DJ21: 3 | DP21: 1 | DU21: 1 | ED21: 1 | EE21: 2 | EF21: 5 | EG21: 2 | EH21: 1 | EK21: 2 | EN21: 1 | ET21: 1 | EU21: 1 | FH21: 2 | FR21: 1 | FY21: 7 | GE21: 1 | GQ21: 1 | GX21: 1 | HB21: 3 | HH21: 1 | HO21: 1
A22: ME | AF22: 1 | AG22: 1 | AS22: 1 | BZ22: 1 | CE22: 1 | CL22: 1 | DA22: 1 | DC22: 2 | DE22: 1 | DP22: 1 | DX22: 1 | FW22: 3 | FY22: 2 | GO22: 2 | HA22: 1
A23: MD | D23: 3 | F23: 1 | J23: 1 | O23: 7 | T23: 1 | W23: 1 | Z23: 1 | AE23: 6 | AF23: 1 | AG23: 7 | AJ23: 1 | AL23: 1 | AP23: 1 | AS23: 4 | AT23: 8 | AY23: 1 | BA23: 2 | BF23: 4 | BG23: 3 | BH23: 3 | BI23: 2 | BJ23: 3 | BQ23: 2 | BS23: 4 | BV23: 3 | BZ23: 1 | CB23: 2 | CC23: 1 | CK23: 11 | CP23: 1 | CV23: 2 | CY23: 1 | DA23: 2 | DB23: 1 | DC23: 2 | DD23: 1 | DJ23: 1 | DN23: 1 | DO23: 1 | DP23: 5 | DR23: 4 | DW23: 3 | EA23: 1 | EB23: 3 | EC23: 2 | EE23: 1 | EF23: 2 | EM23: 1 | ER23: 3 | EU23: 1 | EV23: 2 | EY23: 2 | FA23: 1 | FG23: 9 | FH23: 2 | FI23: 1 | FN23: 1 | FU23: 1 | FW23: 2 | FX23: 1 | FY23: 4 | FZ23: 1 | GJ23: 1 | GK23: 3 | GL23: 4 | GN23: 5 | GQ23: 1 | GY23: 3 | GZ23: 4 | HA23: 1 | HB23: 3 | HE23: 1 | HI23: 1 | HK23: 2 | HN23: 1
A24: MA | H24: 1 | N24: 8 | O24: 1 | AC24: 7 | AO24: 1 | AR24: 2 | AS24: 2 | AT24: 3 | AV24: 2 | BF24: 1 | BG24: 7 | BH24: 1 | BQ24: 1 | BT24: 1 | BZ24: 2 | CC24: 3 | CE24: 1 | CG24: 1 | CJ24: 11 | CL24: 1 | CU24: 1 | CY24: 6 | DM24: 1 | DO24: 4 | DP24: 6 | DQ24: 1 | DR24: 2 | EB24: 1 | EC24: 3 | ED24: 1 | EF24: 2 | EM24: 1 | EU24: 1 | EV24: 1 | EX24: 1 | FA24: 2 | FB24: 1 | FC24: 1 | FF24: 9 | FJ24: 1 | FL24: 2 | FQ24: 1 | FU24: 5 | FV24: 2 | GJ24: 1 | GK24: 3 | GL24: 5 | GM24: 1 | GN24: 2 | GO24: 3 | GS24: 2 | GX24: 2 | GY24: 7 | HE24: 1 | HJ24: 1 | HK24: 1 | HL24: 1
A25: MI | C25: 5 | D25: 7 | G25: 1 | J25: 1 | K25: 2 | L25: 1 | M25: 1 | P25: 3 | Q25: 2 | T25: 14 | W25: 2 | X25: 1 | Z25: 12 | AC25: 3 | AD25: 4 | AE25: 4 | AF25: 1 | AG25: 4 | AJ25: 3 | AL25: 4 | AO25: 1 | AS25: 1 | AT25: 5 | AV25: 1 | AW25: 3 | BA25: 12 | BB25: 6 | BF25: 4 | BG25: 5 | BI25: 1 | BJ25: 3 | BM25: 1 | BQ25: 5 | BV25: 2 | BW25: 4 | BY25: 5 | BZ25: 6 | CB25: 4 | CC25: 2 | CD25: 1 | CE25: 2 | CI25: 1 | CL25: 4 | CO25: 1 | CP25: 14 | CS25: 3 | CT25: 1 | CU25: 2 | CV25: 8 | CY25: 5 | CZ25: 3 | DA25: 3 | DC25: 8 | DF25: 5 | DH25: 3 | DJ25: 3 | DM25: 1 | DO25: 1 | DP25: 9 | DR25: 2 | DS25: 1 | DU25: 1 | DW25: 10 | DX25: 3 | EA25: 1 | EC25: 7 | EE25: 1 | EF25: 2 | EG25: 1 | EH25: 7 | EM25: 5 | ER25: 1 | ES25: 7 | EU25: 5 | EV25: 5 | EX25: 1 | EY25: 6 | FB25: 1 | FE25: 2 | FG25: 1 | FH25: 5 | FI25: 1 | FL25: 11 | FO25: 9 | FR25: 3 | FU25: 1 | FV25: 1 | FW25: 1 | FY25: 1 | GB25: 2 | GD25: 3 | GG25: 1 | GN25: 1 | GO25: 1 | GQ25: 1 | GS25: 13 | GT25: 2 | GW25: 1 | GX25: 2 | GY25: 5 | GZ25: 3 | HB25: 2 | HG25: 1 | HO25: 6
A26: MN | C26: 2 | G26: 1 | I26: 1 | K26: 1 | P26: 2 | T26: 2 | X26: 4 | AE26: 1 | AF26: 1 | AG26: 3 | AI26: 1 | AM26: 1 | AO26: 10 | AP26: 1 | AR26: 1 | BB26: 1 | BE26: 1 | BF26: 1 | BG26: 3 | BQ26: 2 | BR26: 1 | BW26: 4 | BY26: 1 | BZ26: 1 | CC26: 2 | CI26: 2 | CL26: 1 | CP26: 2 | CT26: 3 | CY26: 1 | DA26: 1 | DB26: 1 | DD26: 1 | DH26: 2 | DJ26: 2 | DK26: 13 | DO26: 1 | DP26: 2 | DX26: 1 | EC26: 3 | EH26: 1 | EM26: 1 | EN26: 1 | ES26: 3 | EV26: 2 | EY26: 1 | FC26: 3 | FL26: 5 | FO26: 1 | FP26: 2 | FW26: 1 | FX26: 1 | FZ26: 1 | GD26: 2 | GG26: 7 | GH26: 2 | GL26: 1 | GN26: 1 | GT26: 3 | GW26: 2 | GY26: 3 | GZ26: 1 | HI26: 1 | HJ26: 2 | HO26: 4
A27: MS | B27: 2 | R27: 1 | Z27: 1 | AB27: 1 | AG27: 3 | BJ27: 3 | BK27: 9 | BP27: 1 | BX27: 4 | BY27: 1 | CL27: 1 | CV27: 2 | CX27: 1 | DJ27: 1 | DS27: 1 | EF27: 1 | EG27: 3 | EH27: 3 | EL27: 1 | EM27: 1 | EO27: 1 | ER27: 1 | ET27: 1 | FC27: 2 | FE27: 1 | FH27: 1 | FM27: 1 | FO27: 1 | FR27: 1 | FT27: 2 | GD27: 1 | GO27: 1 | HB27: 2 | HC27: 4
A28: MO | K28: 1 | O28: 1 | U28: 3 | Y28: 1 | Z28: 1 | AE28: 2 | AO28: 4 | BG28: 1 | BH28: 1 | BK28: 1 | BR28: 1 | BW28: 1 | BY28: 1 | BZ28: 1 | CP28: 2 | CQ28: 5 | CU28: 1 | CV28: 2 | CY28: 1 | DF28: 1 | DK28: 6 | DL28: 1 | DW28: 1 | EC28: 1 | ED28: 1 | EF28: 2 | EG28: 2 | EV28: 1 | EX28: 1 | EZ28: 1 | FA28: 1 | FC28: 1 | FE28: 1 | FG28: 1 | FL28: 1 | FM28: 5 | FR28: 1 | FX28: 1 | GG28: 1 | GS28: 1 | GV28: 1 | GY28: 1 | HB28: 1 | HI28: 1
A29: MT | K29: 1 | M29: 2 | P29: 1 | AC29: 1 | AI29: 2 | AO29: 3 | BE29: 1 | BR29: 3 | BZ29: 2 | CI29: 2 | DF29: 3 | EM29: 1 | EN29: 2 | EP29: 1 | EU29: 1 | EV29: 3 | FE29: 2 | FH29: 2 | FP29: 1 | GB29: 4 | GD29: 1 | HI29: 3 | HJ29: 1 | HO29: 1
A30: NE | F30: 1 | X30: 1 | AL30: 1 | AS30: 1 | BW30: 2 | CC30: 1 | DE30: 1 | FY30: 1 | GT30: 1
A31: NV | J31: 1 | N31: 1 | O31: 1 | AF31: 1 | AI31: 1 | AO31: 1 | AR31: 1 | AS31: 1 | AT31: 1 | BM31: 1 | BW31: 1 | BY31: 1 | CB31: 1 | CC31: 1 | CF31: 3 | CI31: 1 | CL31: 1 | DC31: 1 | DN31: 1 | DP31: 1 | DR31: 1 | EB31: 1 | EM31: 5 | EY31: 1 | FA31: 1 | FB31: 1 | FE31: 1 | FG31: 1 | FV31: 1 | GH31: 1 | HJ31: 2
A32: NH | N32: 2 | Q32: 1 | AC32: 3 | AE32: 2 | AT32: 1 | BA32: 1 | BG32: 1 | CJ32: 1 | CY32: 3 | DA32: 6 | DC32: 4 | DE32: 1 | DU32: 1 | EB32: 1 | EC32: 1 | EH32: 1 | EM32: 2 | FU32: 4 | FW32: 3 | GY32: 1
A33: NJ | C33: 1 | D33: 1 | F33: 1 | G33: 2 | I33: 1 | J33: 1 | N33: 2 | O33: 3 | P33: 4 | Q33: 6 | R33: 1 | T33: 3 | Z33: 2 | AC33: 1 | AD33: 6 | AE33: 5 | AF33: 4 | AG33: 5 | AI33: 2 | AO33: 1 | AS33: 11 | AT33: 35 | AU33: 1 | AV33: 18 | AW33: 3 | AY33: 1 | BF33: 18 | BG33: 18 | BH33: 2 | BI33: 1 | BJ33: 3 | BQ33: 1 | BS33: 3 | BY33: 1 | CB33: 2 | CC33: 3 | CD33: 1 | CG33: 2 | CH33: 1 | CJ33: 4 | CK33: 1 | CL33: 4 | CM33: 6 | CP33: 3 | CS33: 1 | CT33: 1 | CY33: 5 | CZ33: 2 | DA33: 7 | DB33: 1 | DC33: 4 | DE33: 1 | DH33: 1 | DK33: 1 | DO33: 15 | DP33: 47 | DQ33: 1 | DR33: 21 | DS33: 2 | DW33: 3 | EB33: 26 | EC33: 20 | EF33: 2 | EH33: 3 | EM33: 1 | ET33: 1 | EU33: 2 | FA33: 1 | FB33: 1 | FE33: 1 | FF33: 2 | FG33: 2 | FH33: 2 | FI33: 1 | FL33: 2 | FP33: 1 | FR33: 1 | FV33: 6 | FW33: 5 | FX33: 3 | FY33: 7 | FZ33: 1 | GA33: 1 | GK33: 10 | GL33: 30 | GM33: 5 | GN33: 15 | GO33: 4 | GS33: 2 | GX33: 23 | GY33: 18 | GZ33: 2 | HA33: 1 | HB33: 1 | HC33: 1 | HI33: 3
A34: NM | D34: 3 | M34: 3 | AE34: 1 | AG34: 1 | AM34: 2 | AO34: 2 | BI34: 1 | BN34: 3 | BR34: 1 | BY34: 2 | CF34: 1 | CM34: 1 | DF34: 1 | DI34: 3 | DK34: 7 | DR34: 1 | EI34: 1 | EJ34: 4 | EM34: 3 | EP34: 1 | EU34: 1 | EV34: 1 | EY34: 1 | GE34: 2 | GG34: 2 | GS34: 1 | HE34: 1 | HJ34: 1
A35: NY | C35: 2 | D35: 2 | G35: 5 | H35: 1 | K35: 1 | L35: 1 | N35: 4 | O35: 4 | P35: 7 | Q35: 4 | R35: 1 | T35: 3 | W35: 2 | AB35: 1 | AC35: 4 | AD35: 8 | AE35: 18 | AF35: 2 | AG35: 10 | AH35: 1 | AO35: 1 | AR35: 14 | BA35: 4 | BF35: 9 | BG35: 8 | BH35: 5 | BI35: 1 | BJ35: 2 | BQ35: 2 | BR35: 1 | BS35: 1 | BY35: 4 | BZ35: 1 | CB35: 1 | CC35: 2 | CE35: 3 | CG35: 1 | CJ35: 2 | CK35: 4 | CL35: 6 | CM35: 4 | CO35: 1 | CP35: 5 | CV35: 1 | CY35: 8 | CZ35: 6 | DA35: 5 | DB35: 2 | DC35: 11 | DD35: 1 | DK35: 1 | DM35: 3 | DN35: 11 | DU35: 2 | DW35: 1 | EB35: 8 | EC35: 24 | ED35: 1 | EF35: 2 | EM35: 1 | EN35: 1 | EO35: 2 | ER35: 2 | ES35: 1 | EV35: 1 | EX35: 1 | EY35: 3 | FA35: 1 | FB35: 1 | FC35: 2 | FF35: 2 | FG35: 4 | FH35: 5 | FL35: 3 | FQ35: 1 | FR35: 2 | FU35: 3 | FV35: 4 | FW35: 7 | FX35: 2 | FY35: 8 | FZ35: 1 | GA35: 2 | GG35: 4 | GJ35: 11 | GX35: 4 | GY35: 8 | GZ35: 5 | HB35: 1 | HI35: 2 | HK35: 1 | HN35: 1
A36: NC | C36: 1 | F36: 2 | G36: 1 | L36: 1 | M36: 2 | O36: 4 | Q36: 1 | S36: 4 | T36: 3 | W36: 1 | Z36: 2 | AC36: 2 | AD36: 1 | AE36: 2 | AF36: 2 | AG36: 8 | AH36: 1 | AI36: 1 | AJ36: 1 | AL36: 3 | AS36: 1 | AT36: 1 | AV36: 1 | AW36: 1 | BA36: 2 | BF36: 1 | BG36: 2 | BH36: 1 | BI36: 1 | BJ36: 4 | BP36: 1 | BR36: 1 | BS36: 7 | BX36: 1 | BY36: 1 | CC36: 1 | CK36: 7 | CL36: 2 | CP36: 5 | CU36: 1 | CV36: 5 | CY36: 1 | CZ36: 1 | DC36: 5 | DD36: 1 | DE36: 5 | DH36: 3 | DJ36: 1 | DL36: 1 | DM36: 1 | DP36: 8 | DR36: 1 | DW36: 2 | EB36: 1 | EC36: 4 | EE36: 6 | EF36: 5 | EH36: 7 | EM36: 1 | EN36: 1 | EO36: 10 | ER36: 1 | EU36: 1 | EX36: 1 | EY36: 1 | FA36: 2 | FE36: 1 | FG36: 3 | FH36: 2 | FI36: 3 | FQ36: 1 | FR36: 3 | FU36: 2 | FV36: 4 | FW36: 1 | FY36: 3 | GA36: 3 | GD36: 1 | GE36: 1 | GH36: 1 | GI36: 2 | GK36: 2 | GL36: 3 | GN36: 3 | GO36: 2 | GS36: 5 | GX36: 3 | GY36: 2 | GZ36: 1 | HA36: 7 | HB36: 5 | HK36: 8
A37: ND | M37: 3 | X37: 1 | AJ37: 2 | AO37: 12 | CH37: 1 | CI37: 3 | CT37: 3 | CU37: 1 | CY37: 2 | DF37: 2 | DK37: 10 | EB37: 1 | FA37: 1 | FE37: 1 | FP37: 1 | GB37: 3 | GG37: 15 | GH37: 1 | GW37: 1 | HJ37: 1
A38: OH | C38: 3 | F38: 1 | G38: 1 | K38: 1 | L38: 1 | M38: 1 | O38: 1 | P38: 7 | Q38: 1 | R38: 1 | T38: 2 | X38: 1 | Y38: 3 | Z38: 6 | AC38: 3 | AE38: 1 | AF38: 1 | AG38: 1 | AH38: 5 | AI38: 4 | AJ38: 1 | AL38: 1 | AO38: 1 | AT38: 2 | AW38: 1 | BF38: 1 | BG38: 2 | BH38: 3 | BI38: 4 | BT38: 1 | BV38: 2 | BW38: 1 | BZ38: 2 | CI38: 1 | CL38: 3 | CM38: 1 | CN38: 1 | CP38: 3 | CS38: 1 | CU38: 1 | CV38: 8 | CY38: 1 | CZ38: 1 | DA38: 1 | DB38: 1 | DC38: 3 | DD38: 2 | DE38: 5 | DJ38: 4 | DK38: 1 | DM38: 1 | DO38: 4 | DP38: 1 | DR38: 4 | EB38: 1 | EC38: 1 | ED38: 2 | EF38: 4 | EH38: 1 | EM38: 1 | ER38: 4 | ES38: 1 | EV38: 2 | EX38: 2 | FG38: 2 | FH38: 2 | FI38: 1 | FJ38: 2 | FL38: 4 | FO38: 3 | FP38: 1 | FQ38: 3 | FR38: 8 | FT38: 1 | FU38: 2 | FV38: 1 | FW38: 1 | FX38: 3 | FY38: 4 | FZ38: 6 | GK38: 1 | GL38: 2 | GO38: 2 | GQ38: 1 | GX38: 1 | GY38: 2 | GZ38: 1 | HB38: 1 | HC38: 1 | HI38: 2 | HL38: 1 | HN38: 1 | HO38: 1
A39: OK | D39: 2 | T39: 1 | AB39: 1 | AE39: 2 | AL39: 4 | AM39: 1 | AO39: 1 | AT39: 1 | BO39: 1 | BQ39: 1 | BY39: 1 | BZ39: 1 | CI39: 1 | CP39: 1 | CY39: 1 | DH39: 3 | DI39: 1 | DJ39: 8 | DL39: 1 | DP39: 1 | DR39: 1 | EH39: 1 | EM39: 2 | EU39: 1 | EV39: 1 | FG39: 1 | FW39: 1 | FX39: 1 | GD39: 2 | GG39: 3 | GL39: 1 | GS39: 1 | HB39: 1 | HC39: 2
A40: OR | D40: 2 | F40: 1 | I40: 1 | K40: 1 | L40: 3 | M40: 2 | Q40: 1 | T40: 1 | W40: 1 | AG40: 2 | AO40: 1 | BO40: 1 | BP40: 1 | BQ40: 2 | BY40: 1 | BZ40: 1 | CB40: 1 | CF40: 1 | CH40: 1 | CP40: 1 | CS40: 1 | CU40: 1 | CY40: 2 | DC40: 2 | DK40: 1 | DL40: 1 | DR40: 2 | EC40: 2 | EM40: 2 | EV40: 2 | EX40: 2 | EY40: 1 | FC40: 2 | FI40: 1 | FL40: 1 | FP40: 1 | FQ40: 1 | FU40: 2 | FY40: 1 | GG40: 1 | GL40: 1 | GX40: 1 | GZ40: 1 | HE40: 1 | HG40: 1 | HI40: 1 | HJ40: 2
...
