Workbook

Sheet Graphs
A1: Select State / Country of Residence | C1: WI
A2: Schools | B2: # Enrolled CO 2024 | C2: # Enrolled CO 2026 | D2: # Enrolled CO 2028 | E2: A note from Ryxndek: This data has come directly from the ADEA student guides for CO 2026 & 2028
A3: University of Alabama | B3: =INDEX(Data!ET:ET, MATCH($C$1, Data!$A:$A, 0)) -> 0 | C3: =INDEX(Data!B:B, MATCH($C$1, Data!$A:$A, 0)) -> 0 | D3: =INDEX(Data!BX:BX, MATCH($C$1, Data!$A:$A, 0)) -> 0 | E3: Please remember, this is for OOS enrollment, In-state will appear as zero!
A4: Arizona School of Dentistry | B4: =INDEX(Data!EU:EU, MATCH($C$1, Data!$A:$A, 0)) -> 3 | C4: =INDEX(Data!C:C, MATCH($C$1, Data!$A:$A, 0)) -> 1 | D4: =INDEX(Data!BY:BY, MATCH($C$1, Data!$A:$A, 0)) -> 1 | E4: This data is also not the "End-All-Be-All" either, it's to show you trends and trends only
A5: Midwestern University - AZ | B5: =INDEX(Data!EV:EV, MATCH($C$1, Data!$A:$A, 0)) -> 3 | C5: =INDEX(Data!D:D, MATCH($C$1, Data!$A:$A, 0)) -> 3 | D5: =INDEX(Data!BZ:BZ, MATCH($C$1, Data!$A:$A, 0)) -> 2 | E5: Use this to guide your school list, but also know just because it's zero doesn't mean you can't still apply
A6: Lyon College (No Data) | B6: =INDEX(Data!EW:EW, MATCH($C$1, Data!$A:$A, 0)) -> 0 | C6: =INDEX(Data!E:E, MATCH($C$1, Data!$A:$A, 0)) -> 0 | D6: =INDEX(Data!E:E, MATCH($C$1, Data!$A:$A, 0)) -> 0
A7: Loma Linda University | B7: =INDEX(Data!EX:EX, MATCH($C$1, Data!$A:$A, 0)) -> 0 | C7: =INDEX(Data!F:F, MATCH($C$1, Data!$A:$A, 0)) -> 0 | D7: =INDEX(Data!CB:CB, MATCH($C$1, Data!$A:$A, 0)) -> 1
A8: University of Southern California | B8: =INDEX(Data!EY:EY, MATCH($C$1, Data!$A:$A, 0)) -> 0 | C8: =INDEX(Data!G:G, MATCH($C$1, Data!$A:$A, 0)) -> 0 | D8: =INDEX(Data!CC:CC, MATCH($C$1, Data!$A:$A, 0)) -> 0
A9: University of California - Los Angeles | B9: =INDEX(Data!EZ:EZ, MATCH($C$1, Data!$A:$A, 0)) -> 1 | C9: =INDEX(Data!H:H, MATCH($C$1, Data!$A:$A, 0)) -> 0 | D9: =INDEX(Data!CD:CD, MATCH($C$1, Data!$A:$A, 0)) -> 0
A10: University of California - San Fransisco | B10: =INDEX(Data!FA:FA, MATCH($C$1, Data!$A:$A, 0)) -> 0 | C10: =INDEX(Data!I:I, MATCH($C$1, Data!$A:$A, 0)) -> 0 | D10: =INDEX(Data!CE:CE, MATCH($C$1, Data!$A:$A, 0)) -> 3
A11: University of the Pacific | B11: =INDEX(Data!FB:FB, MATCH($C$1, Data!$A:$A, 0)) -> 0 | C11: =INDEX(Data!J:J, MATCH($C$1, Data!$A:$A, 0)) -> 0 | D11: =INDEX(Data!CF:CF, MATCH($C$1, Data!$A:$A, 0)) -> 0
A12: Western University | B12: =INDEX(Data!FC:FC, MATCH($C$1, Data!$A:$A, 0)) -> 0 | C12: =INDEX(Data!K:K, MATCH($C$1, Data!$A:$A, 0)) -> 1 | D12: =INDEX(Data!CG:CG, MATCH($C$1, Data!$A:$A, 0)) -> 0
A13: California North State (no data co 2024) | B13: =INDEX(Data!FD:FD, MATCH($C$1, Data!$A:$A, 0)) -> 0 | C13: =INDEX(Data!L:L, MATCH($C$1, Data!$A:$A, 0)) -> 0 | D13: =INDEX(Data!CH:CH, MATCH($C$1, Data!$A:$A, 0)) -> 0
A14: Colorado University | B14: =INDEX(Data!FE:FE, MATCH($C$1, Data!$A:$A, 0)) -> 0 | C14: =INDEX(Data!M:M, MATCH($C$1, Data!$A:$A, 0)) -> 0 | D14: =INDEX(Data!CI:CI, MATCH($C$1, Data!$A:$A, 0)) -> 1
A15: University of Connecticut | B15: =INDEX(Data!FF:FF, MATCH($C$1, Data!$A:$A, 0)) -> 0 | C15: =INDEX(Data!N:N, MATCH($C$1, Data!$A:$A, 0)) -> 0 | D15: =INDEX(Data!CJ:CJ, MATCH($C$1, Data!$A:$A, 0)) -> 0
A16: Howard University | B16: =INDEX(Data!FG:FG, MATCH($C$1, Data!$A:$A, 0)) -> 0 | C16: =INDEX(Data!O:O, MATCH($C$1, Data!$A:$A, 0)) -> 0 | D16: =INDEX(Data!CK:CK, MATCH($C$1, Data!$A:$A, 0)) -> 0
A17: Lake Erie College of Medicine | B17: =INDEX(Data!FH:FH, MATCH($C$1, Data!$A:$A, 0)) -> 1 | C17: =INDEX(Data!P:P, MATCH($C$1, Data!$A:$A, 0)) -> 2 | D17: =INDEX(Data!CL:CL, MATCH($C$1, Data!$A:$A, 0)) -> 0
A18: Nova Southeastern University | B18: =INDEX(Data!FI:FI, MATCH($C$1, Data!$A:$A, 0)) -> 1 | C18: =INDEX(Data!Q:Q, MATCH($C$1, Data!$A:$A, 0)) -> 0 | D18: =INDEX(Data!CM:CM, MATCH($C$1, Data!$A:$A, 0)) -> 0
A19: University of Florida | B19: =INDEX(Data!FJ:FJ, MATCH($C$1, Data!$A:$A, 0)) -> 0 | C19: =INDEX(Data!R:R, MATCH($C$1, Data!$A:$A, 0)) -> 0 | D19: =INDEX(Data!CN:CN, MATCH($C$1, Data!$A:$A, 0)) -> 0
A20: Dental College of Georgia - Augusta U | B20: =INDEX(Data!FK:FK, MATCH($C$1, Data!$A:$A, 0)) -> 0 | C20: =INDEX(Data!S:S, MATCH($C$1, Data!$A:$A, 0)) -> 0 | D20: =INDEX(Data!CO:CO, MATCH($C$1, Data!$A:$A, 0)) -> 0
A21: Midwestern University - IL | B21: =INDEX(Data!FL:FL, MATCH($C$1, Data!$A:$A, 0)) -> 9 | C21: =INDEX(Data!T:T, MATCH($C$1, Data!$A:$A, 0)) -> 5 | D21: =INDEX(Data!CP:CP, MATCH($C$1, Data!$A:$A, 0)) -> 1
A22: Southern Illinois University | B22: =INDEX(Data!FM:FM, MATCH($C$1, Data!$A:$A, 0)) -> 0 | C22: =INDEX(Data!U:U, MATCH($C$1, Data!$A:$A, 0)) -> 0 | D22: =INDEX(Data!CQ:CQ, MATCH($C$1, Data!$A:$A, 0)) -> 0
A23: University of Illinois - Chicago | B23: =INDEX(Data!FN:FN, MATCH($C$1, Data!$A:$A, 0)) -> 1 | C23: =INDEX(Data!V:V, MATCH($C$1, Data!$A:$A, 0)) -> 0 | D23: =INDEX(Data!CR:CR, MATCH($C$1, Data!$A:$A, 0)) -> 0
A24: Indiana University | B24: =INDEX(Data!FO:FO, MATCH($C$1, Data!$A:$A, 0)) -> 4 | C24: =INDEX(Data!W:W, MATCH($C$1, Data!$A:$A, 0)) -> 1 | D24: =INDEX(Data!CS:CS, MATCH($C$1, Data!$A:$A, 0)) -> 0
A25: University of Iowa | B25: =INDEX(Data!FP:FP, MATCH($C$1, Data!$A:$A, 0)) -> 6 | C25: =INDEX(Data!X:X, MATCH($C$1, Data!$A:$A, 0)) -> 4 | D25: =INDEX(Data!CT:CT, MATCH($C$1, Data!$A:$A, 0)) -> 5
A26: University of Kentucky | B26: =INDEX(Data!FQ:FQ, MATCH($C$1, Data!$A:$A, 0)) -> 0 | C26: =INDEX(Data!Y:Y, MATCH($C$1, Data!$A:$A, 0)) -> 0 | D26: =INDEX(Data!CU:CU, MATCH($C$1, Data!$A:$A, 0)) -> 0
A27: University of Louisville | B27: =INDEX(Data!FR:FR, MATCH($C$1, Data!$A:$A, 0)) -> 1 | C27: =INDEX(Data!Z:Z, MATCH($C$1, Data!$A:$A, 0)) -> 0 | D27: =INDEX(Data!CV:CV, MATCH($C$1, Data!$A:$A, 0)) -> 0
A28: University of Pikeville (No Data) | B28: =INDEX(Data!FS:FS, MATCH($C$1, Data!$A:$A, 0)) -> 0 | C28: =INDEX(Data!AA:AA, MATCH($C$1, Data!$A:$A, 0)) -> 0 | D28: =INDEX(Data!CW:CW, MATCH($C$1, Data!$A:$A, 0)) -> 0
A29: Louisiana State University | B29: =INDEX(Data!FT:FT, MATCH($C$1, Data!$A:$A, 0)) -> 0 | C29: =INDEX(Data!AB:AB, MATCH($C$1, Data!$A:$A, 0)) -> 0 | D29: =INDEX(Data!CX:CX, MATCH($C$1, Data!$A:$A, 0)) -> 0
A30: University of New England | B30: =INDEX(Data!FU:FU, MATCH($C$1, Data!$A:$A, 0)) -> 1 | C30: =INDEX(Data!AC:AC, MATCH($C$1, Data!$A:$A, 0)) -> 1 | D30: =INDEX(Data!CY:CY, MATCH($C$1, Data!$A:$A, 0)) -> 0
A31: University of Maryland | B31: =INDEX(Data!FV:FV, MATCH($C$1, Data!$A:$A, 0)) -> 0 | C31: =INDEX(Data!AD:AD, MATCH($C$1, Data!$A:$A, 0)) -> 0 | D31: =INDEX(Data!CZ:CZ, MATCH($C$1, Data!$A:$A, 0)) -> 0
A32: Boston University | B32: =INDEX(Data!FW:FW, MATCH($C$1, Data!$A:$A, 0)) -> 1 | C32: =INDEX(Data!AE:AE, MATCH($C$1, Data!$A:$A, 0)) -> 0 | D32: =INDEX(Data!DA:DA, MATCH($C$1, Data!$A:$A, 0)) -> 1
A33: Harvard University | B33: =INDEX(Data!FX:FX, MATCH($C$1, Data!$A:$A, 0)) -> 0 | C33: =INDEX(Data!AF:AF, MATCH($C$1, Data!$A:$A, 0)) -> 0 | D33: =INDEX(Data!DB:DB, MATCH($C$1, Data!$A:$A, 0)) -> 0
A34: Tufts University | B34: =INDEX(Data!FY:FY, MATCH($C$1, Data!$A:$A, 0)) -> 2 | C34: =INDEX(Data!AG:AG, MATCH($C$1, Data!$A:$A, 0)) -> 0 | D34: =INDEX(Data!DC:DC, MATCH($C$1, Data!$A:$A, 0)) -> 0
A35: University of Detroit Mercy | B35: =INDEX(Data!FZ:FZ, MATCH($C$1, Data!$A:$A, 0)) -> 2 | C35: =INDEX(Data!AH:AH, MATCH($C$1, Data!$A:$A, 0)) -> 0 | D35: =INDEX(Data!DD:DD, MATCH($C$1, Data!$A:$A, 0)) -> 1
A36: University of Michigan | B36: =INDEX(Data!GA:GA, MATCH($C$1, Data!$A:$A, 0)) -> 1 | C36: =INDEX(Data!AI:AI, MATCH($C$1, Data!$A:$A, 0)) -> 1 | D36: =INDEX(Data!DE:DE, MATCH($C$1, Data!$A:$A, 0)) -> 1
A37: University of Minnesota | B37: =INDEX(Data!GB:GB, MATCH($C$1, Data!$A:$A, 0)) -> 6 | C37: =INDEX(Data!AJ:AJ, MATCH($C$1, Data!$A:$A, 0)) -> 10 | D37: =INDEX(Data!DF:DF,MATCH($C$1,Data!$A:$A,0)) -> 7
A38: University of Mississippi | B38: =INDEX(Data!GC:GC, MATCH($C$1, Data!$A:$A, 0)) -> 0 | C38: =INDEX(Data!AK:AK, MATCH($C$1, Data!$A:$A, 0)) -> 0 | D38: =INDEX(Data!DG:DG,MATCH($C$1,Data!$A:$A,0)) -> 0
A39: Missouri School of Dentistry | B39: =INDEX(Data!GD:GD, MATCH($C$1, Data!$A:$A, 0)) -> 0 | C39: =INDEX(Data!AL:AL, MATCH($C$1, Data!$A:$A, 0)) -> 1 | D39: =INDEX(Data!DH:DH,MATCH($C$1,Data!$A:$A,0)) -> 1
A40: University of Missouri - Kansas City | B40: =INDEX(Data!GE:GE, MATCH($C$1, Data!$A:$A, 0)) -> 0 | C40: =INDEX(Data!AM:AM, MATCH($C$1, Data!$A:$A, 0)) -> 0 | D40: =INDEX(Data!DI:DI,MATCH($C$1,Data!$A:$A,0)) -> 0
A41: Kansas City University (2028 only) | B41: =INDEX(Data!GF:GF, MATCH($C$1, Data!$A:$A, 0)) -> 0 | C41: =INDEX(Data!AN:AN, MATCH($C$1, Data!$A:$A, 0)) -> 0 | D41: =INDEX(Data!DJ:DJ,MATCH($C$1,Data!$A:$A,0)) -> 0
A42: Creighton University | B42: =INDEX(Data!GG:GG, MATCH($C$1, Data!$A:$A, 0)) -> 6 | C42: =INDEX(Data!AO:AO, MATCH($C$1, Data!$A:$A, 0)) -> 3 | D42: =INDEX(Data!DK:DK,MATCH($C$1,Data!$A:$A,0)) -> 11
A43: University of Nebraska | B43: =INDEX(Data!GH:GH, MATCH($C$1, Data!$A:$A, 0)) -> 0 | C43: =INDEX(Data!AP:AP, MATCH($C$1, Data!$A:$A, 0)) -> 0 | D43: =INDEX(Data!DL:DL,MATCH($C$1,Data!$A:$A,0)) -> 0
A44: University of Nevada | B44: =INDEX(Data!GI:GI, MATCH($C$1, Data!$A:$A, 0)) -> 0 | C44: =INDEX(Data!AQ:AQ, MATCH($C$1, Data!$A:$A, 0)) -> 0 | D44: =INDEX(Data!DM:DM,MATCH($C$1,Data!$A:$A,0)) -> 1
A45: Rutgers University | B45: =INDEX(Data!GJ:GJ, MATCH($C$1, Data!$A:$A, 0)) -> 0 | C45: =INDEX(Data!AR:AR, MATCH($C$1, Data!$A:$A, 0)) -> 1 | D45: =INDEX(Data!DN:DN,MATCH($C$1,Data!$A:$A,0)) -> 0
A46: Columbia University | B46: =INDEX(Data!GK:GK, MATCH($C$1, Data!$A:$A, 0)) -> 1 | C46: =INDEX(Data!AS:AS, MATCH($C$1, Data!$A:$A, 0)) -> 1 | D46: =INDEX(Data!DO:DO,MATCH($C$1,Data!$A:$A,0)) -> 1
A47: New York University | B47: =INDEX(Data!GL:GL, MATCH($C$1, Data!$A:$A, 0)) -> 0 | C47: =INDEX(Data!AT:AT, MATCH($C$1, Data!$A:$A, 0)) -> 1 | D47: =INDEX(Data!DP:DP,MATCH($C$1,Data!$A:$A,0)) -> 0
A48: Stony Brook University | B48: =INDEX(Data!GM:GM, MATCH($C$1, Data!$A:$A, 0)) -> 0 | C48: =INDEX(Data!AU:AU, MATCH($C$1, Data!$A:$A, 0)) -> 0 | D48: =INDEX(Data!DQ:DQ,MATCH($C$1,Data!$A:$A,0)) -> 0
A49: Touro College of Dental Medicine | B49: =INDEX(Data!GN:GN, MATCH($C$1, Data!$A:$A, 0)) -> 0 | C49: =INDEX(Data!AV:AV, MATCH($C$1, Data!$A:$A, 0)) -> 0 | D49: =INDEX(Data!DR:DR,MATCH($C$1,Data!$A:$A,0)) -> 0
A50: State University of Buffalo - New York | B50: =INDEX(Data!GO:GO, MATCH($C$1, Data!$A:$A, 0)) -> 0 | C50: =INDEX(Data!AW:AW, MATCH($C$1, Data!$A:$A, 0)) -> 1 | D50: =INDEX(Data!DS:DS,MATCH($C$1,Data!$A:$A,0)) -> 0
A51: East Carolina University | B51: =INDEX(Data!GP:GP, MATCH($C$1, Data!$A:$A, 0)) -> 0 | C51: =INDEX(Data!AX:AX, MATCH($C$1, Data!$A:$A, 0)) -> 0 | D51: =INDEX(Data!DT:DT,MATCH($C$1,Data!$A:$A,0)) -> 0
A52: University of North Carolina | B52: =INDEX(Data!GQ:GQ, MATCH($C$1, Data!$A:$A, 0)) -> 0 | C52: =INDEX(Data!AY:AY, MATCH($C$1, Data!$A:$A, 0)) -> 0 | D52: =INDEX(Data!DU:DU,MATCH($C$1,Data!$A:$A,0)) -> 0
A53: High Point University (No Data) | B53: =INDEX(Data!GR:GR, MATCH($C$1, Data!$A:$A, 0)) -> 0 | C53: =INDEX(Data!AZ:AZ, MATCH($C$1, Data!$A:$A, 0)) -> 0 | D53: =INDEX(Data!DV:DV,MATCH($C$1,Data!$A:$A,0)) -> 0
A54: Case Western Reserve University | B54: =INDEX(Data!GS:GS, MATCH($C$1, Data!$A:$A, 0)) -> 0 | C54: =INDEX(Data!BA:BA, MATCH($C$1, Data!$A:$A, 0)) -> 1 | D54: =INDEX(Data!DW:DW,MATCH($C$1,Data!$A:$A,0)) -> 0
A55: Ohio State University | B55: =INDEX(Data!GT:GT, MATCH($C$1, Data!$A:$A, 0)) -> 0 | C55: =INDEX(Data!BB:BB, MATCH($C$1, Data!$A:$A, 0)) -> 1 | D55: =INDEX(Data!DX:DX,MATCH($C$1,Data!$A:$A,0)) -> 1
A56: North East Ohio Medical University (No Data) | B56: =INDEX(Data!GU:GU, MATCH($C$1, Data!$A:$A, 0)) -> 0 | C56: =INDEX(Data!BC:BC, MATCH($C$1, Data!$A:$A, 0)) -> 0 | D56: =INDEX(Data!DY:DY,MATCH($C$1,Data!$A:$A,0)) -> 0
A57: University of Oklahoma | B57: =INDEX(Data!GV:GV, MATCH($C$1, Data!$A:$A, 0)) -> 0 | C57: =INDEX(Data!BD:BD, MATCH($C$1, Data!$A:$A, 0)) -> 0 | D57: =INDEX(Data!DZ:DZ,MATCH($C$1,Data!$A:$A,0)) -> 0
A58: Oregan Health & Science University | B58: =INDEX(Data!GW:GW, MATCH($C$1, Data!$A:$A, 0)) -> 1 | C58: =INDEX(Data!BE:BE, MATCH($C$1, Data!$A:$A, 0)) -> 2 | D58: =INDEX(Data!EA:EA,MATCH($C$1,Data!$A:$A,0)) -> 0
A59: Temple University | B59: =INDEX(Data!GX:GX, MATCH($C$1, Data!$A:$A, 0)) -> 1 | C59: =INDEX(Data!BF:BF, MATCH($C$1, Data!$A:$A, 0)) -> 0 | D59: =INDEX(Data!EB:EB,MATCH($C$1,Data!$A:$A,0)) -> 0
A60: University of Pennsylvania | B60: =INDEX(Data!GY:GY, MATCH($C$1, Data!$A:$A, 0)) -> 1 | C60: =INDEX(Data!BG:BG, MATCH($C$1, Data!$A:$A, 0)) -> 1 | D60: =INDEX(Data!EC:EC,MATCH($C$1,Data!$A:$A,0)) -> 0
A61: University of Pittsburgh | B61: =INDEX(Data!GZ:GZ, MATCH($C$1, Data!$A:$A, 0)) -> 0 | C61: =INDEX(Data!BH:BH, MATCH($C$1, Data!$A:$A, 0)) -> 0 | D61: =INDEX(Data!ED:ED,MATCH($C$1,Data!$A:$A,0)) -> 0
A62: Medical University of South Carolina | B62: =INDEX(Data!HA:HA, MATCH($C$1, Data!$A:$A, 0)) -> 0 | C62: =INDEX(Data!BI:BI, MATCH($C$1, Data!$A:$A, 0)) -> 0 | D62: =INDEX(Data!EE:EE,MATCH($C$1,Data!$A:$A,0)) -> 0
A63: Meharry Medical College | B63: =INDEX(Data!HB:HB, MATCH($C$1, Data!$A:$A, 0)) -> 0 | C63: =INDEX(Data!BJ:BJ, MATCH($C$1, Data!$A:$A, 0)) -> 0 | D63: =INDEX(Data!EF:EF,MATCH($C$1,Data!$A:$A,0)) -> 0
A64: University of Tennessee | B64: =INDEX(Data!HC:HC, MATCH($C$1, Data!$A:$A, 0)) -> 0 | C64: =INDEX(Data!BK:BK, MATCH($C$1, Data!$A:$A, 0)) -> 1 | D64: =INDEX(Data!EG:EG,MATCH($C$1,Data!$A:$A,0)) -> 1
A65: Lincoln Memorial University (0nly 2028) | B65: =INDEX(Data!HD:HD, MATCH($C$1, Data!$A:$A, 0)) -> 0 | C65: =INDEX(Data!BL:BL, MATCH($C$1, Data!$A:$A, 0)) -> 0 | D65: =INDEX(Data!EH:EH,MATCH($C$1,Data!$A:$A,0)) -> 0
A66: Texas A&M University | B66: =INDEX(Data!HE:HE, MATCH($C$1, Data!$A:$A, 0)) -> 0 | C66: =INDEX(Data!BM:BM, MATCH($C$1, Data!$A:$A, 0)) -> 0 | D66: =INDEX(Data!EI:EI,MATCH($C$1,Data!$A:$A,0)) -> 0
A67: Texas Tech University | B67: =INDEX(Data!HF:HF, MATCH($C$1, Data!$A:$A, 0)) -> 0 | C67: =INDEX(Data!BN:BN, MATCH($C$1, Data!$A:$A, 0)) -> 0 | D67: =INDEX(Data!EJ:EJ,MATCH($C$1,Data!$A:$A,0)) -> 0
A68: University of Texas - Houston | B68: =INDEX(Data!HG:HG, MATCH($C$1, Data!$A:$A, 0)) -> 0 | C68: =INDEX(Data!BO:BO, MATCH($C$1, Data!$A:$A, 0)) -> 0 | D68: =INDEX(Data!EK:EK,MATCH($C$1,Data!$A:$A,0)) -> 0
A69: University of Texas - San Antonio | B69: =INDEX(Data!HH:HH, MATCH($C$1, Data!$A:$A, 0)) -> 0 | C69: =INDEX(Data!BP:BP, MATCH($C$1, Data!$A:$A, 0)) -> 0 | D69: =INDEX(Data!EL:EL,MATCH($C$1,Data!$A:$A,0)) -> 0
A70: Roseman University | B70: =INDEX(Data!HI:HI, MATCH($C$1, Data!$A:$A, 0)) -> 1 | C70: =INDEX(Data!BQ:BQ, MATCH($C$1, Data!$A:$A, 0)) -> 1 | D70: =INDEX(Data!EM:EM,MATCH($C$1,Data!$A:$A,0)) -> 0
A71: University of Utah | B71: =INDEX(Data!HJ:HJ, MATCH($C$1, Data!$A:$A, 0)) -> 2 | C71: =INDEX(Data!BR:BR, MATCH($C$1, Data!$A:$A, 0)) -> 1 | D71: =INDEX(Data!EN:EN,MATCH($C$1,Data!$A:$A,0)) -> 1
A72: Virginia Commonwealth University | B72: =INDEX(Data!HK:HK, MATCH($C$1, Data!$A:$A, 0)) -> 0 | C72: =INDEX(Data!BS:BS, MATCH($C$1, Data!$A:$A, 0)) -> 0 | D72: =INDEX(Data!EO:EO,MATCH($C$1,Data!$A:$A,0)) -> 0
A73: University of Washington | B73: =INDEX(Data!HL:HL, MATCH($C$1, Data!$A:$A, 0)) -> 0 | C73: =INDEX(Data!BT:BT, MATCH($C$1, Data!$A:$A, 0)) -> 0 | D73: =INDEX(Data!EP:EP,MATCH($C$1,Data!$A:$A,0)) -> 0
A74: Pacific Northwest University (No Data) | B74: =INDEX(Data!HM:HM, MATCH($C$1, Data!$A:$A, 0)) -> 0 | C74: =INDEX(Data!BU:BU, MATCH($C$1, Data!$A:$A, 0)) -> 0 | D74: =INDEX(Data!EQ:EQ,MATCH($C$1,Data!$A:$A,0)) -> 0
A75: West Virginia University | B75: =INDEX(Data!HN:HN, MATCH($C$1, Data!$A:$A, 0)) -> 0 | C75: =INDEX(Data!BV:BV, MATCH($C$1, Data!$A:$A, 0)) -> 0 | D75: =INDEX(Data!ER:ER,MATCH($C$1,Data!$A:$A,0)) -> 0
A76: Marquette University | B76: =INDEX(Data!HO:HO, MATCH($C$1, Data!$A:$A, 0)) -> 0 | C76: =INDEX(Data!BW:BW, MATCH($C$1, Data!$A:$A, 0)) -> 0 | D76: =INDEX(Data!ES:ES,MATCH($C$1,Data!$A:$A,0)) -> 0

Sheet Data
A1: STATE | B1: UAB (2026) | C1: ASDOH (2026) | D1: MWU-AZ (2026) | E1: Lyon (2026) | F1: Loma Linda (2026) | G1: USC (2026) | H1: UCLA (2026) | I1: UCSF (2026) | J1: UoP (2026) | K1: Western U (2026) | L1: CNU (2026) | M1: CU (2026) | N1: Uconn (2026) | O1: Howard (2026) | P1: LECOM (2026) | Q1: NOVA (2026) | R1: UF (2026) | S1: DCG (2026) | T1: MWU-IL (2026) | U1: SIU (2026) | V1: UIC (2026) | W1: IU (2026) | X1: Iowa (2026) | Y1: UK (2026) | Z1: UL (2026) | AA1: Upike (2026) | AB1: LSU (2026) | AC1: UNE (2026) | AD1: UMD (2026) | AE1: BU (2026) | AF1: Harvard (2026) | AG1: TUFTS (2026) | AH1: UDM (2026) | AI1: Umich (2026) | AJ1: UMN (2026) | AK1: UMMC (2026) | AL1: MOSDOH (2026) | AM1: UMKC (2026) | AN1: KCU (2026) | AO1: Creighton (2026) | AP1: Nebraska (2026) | AQ1: UNLV (2026) | AR1: Rutgers (2026) | AS1: Columbia (2026) | AT1: NYU (2026) | AU1: Stony (2026) | AV1: Touro (2026) | AW1: Ubuffalo (2026) | AX1: ECU (2026) | AY1: UNC (2026) | AZ1: HPU (2026) | BA1: CWRU (2026) | BB1: OSU (2026) | BC1: NeoMed (2026) | BD1: Oklahoma (2026) | BE1: OHSU (2026) | BF1: Temple (2026) | BG1: Upenn (2026) | BH1: UPItt (2026) | BI1: MUSC (2026) | BJ1: Meharry (2026) | BK1: UTHSC (2026) | BL1: LMU (2026) | BM1: Texas A&M (2026) | BN1: Texas Tech (2026) | BO1: UT-Houston (2026) | BP1: UT-San Antonio (2026) | BQ1: Roseman (2026) | BR1: UofU (2026) | BS1: VCU (2026) | BT1: UW (2026) | BU1: PNWU (2026) | BV1: WVU (2026) | BW1: Marquette (2026) | BX1: UAB (2026) | BY1: ASDOH (2026) | BZ1: MWU-AZ (2026) | CA1: Lyon (2026) | CB1: Loma Linda (2026) | CC1: USC (2026) | CD1: UCLA (2026) | CE1: UCSF (2026) | CF1: UoP (2026) | CG1: Western U (2026) | CH1: CNU (2026) | CI1: CU (2026) | CJ1: Uconn (2026) | CK1: Howard (2026) | CL1: LECOM (2026) | CM1: NOVA (2026) | CN1: UF (2026) | CO1: DCG (2026) | CP1: MWU-IL (2026) | CQ1: SIU (2026) | CR1: UIC (2026) | CS1: IU (2026) | CT1: Iowa (2026) | CU1: UK (2026) | CV1: UL (2026) | CW1: Upike (2026) | CX1: LSU (2026) | CY1: UNE (2026) | CZ1: UMD (2026) | DA1: BU (2026) | DB1: Harvard (2026) | DC1: TUFTS (2026) | DD1: UDM (2026) | DE1: Umich (2026) | DF1: UMN (2026) | DG1: UMMC (2026) | DH1: MOSDOH (2026) | DI1: UMKC (2026) | DJ1: KCU (2026) | DK1: Creighton (2026) | DL1: Nebraska (2026) | DM1: UNLV (2026) | DN1: Rutgers (2026) | DO1: Columbia (2026) | DP1: NYU (2026) | DQ1: Stony (2026) | DR1: Touro (2026) | DS1: Ubuffalo (2026) | DT1: ECU (2026) | DU1: UNC (2026) | DV1: HPU (2026) | DW1: CWRU (2026) | DX1: OSU (2026) | DY1: NeoMed (2026) | DZ1: Oklahoma (2026) | EA1: OHSU (2026) | EB1: Temple (2026) | EC1: Upenn (2026) | ED1: UPItt (2026) | EE1: MUSC (2026) | EF1: Meharry (2026) | EG1: UTHSC (2026) | EH1: LMU (2026) | EI1: Texas A&M (2026) | EJ1: Texas Tech (2026) | EK1: UT-Houston (2026) | EL1: UT-San Antonio (2026) | EM1: Roseman (2026) | EN1: UofU (2026) | EO1: VCU (2026) | EP1: UW (2026) | EQ1: PNWU (2026) | ER1: WVU (2026) | ES1: Marquette (2026) | ET1: UAB (2026) | EU1: ASDOH (2026) | EV1: MWU-AZ (2026) | EW1: Lyon (2026) | EX1: Loma Linda (2026) | EY1: USC (2026) | EZ1: UCLA (2026) | FA1: UCSF (2026) | FB1: UoP (2026) | FC1: Western U (2026) | FD1: CNU (2026) | FE1: CU (2026) | FF1: Uconn (2026) | FG1: Howard (2026) | FH1: LECOM (2026) | FI1: NOVA (2026) | FJ1: UF (2026) | FK1: DCG (2026) | FL1: MWU-IL (2026) | FM1: SIU (2026) | FN1: UIC (2026) | FO1: IU (2026) | FP1: Iowa (2026) | FQ1: UK (2026) | FR1: UL (2026) | FS1: Upike (2026) | FT1: LSU (2026) | FU1: UNE (2026) | FV1: UMD (2026) | FW1: BU (2026) | FX1: Harvard (2026) | FY1: TUFTS (2026) | FZ1: UDM (2026) | GA1: Umich (2026) | GB1: UMN (2026) | GC1: UMMC (2026) | GD1: MOSDOH (2026) | GE1: UMKC (2026) | GF1: KCU (2026) | GG1: Creighton (2026) | GH1: Nebraska (2026) | GI1: UNLV (2026) | GJ1: Rutgers (2026) | GK1: Columbia (2026) | GL1: NYU (2026) | GM1: Stony (2026) | GN1: Touro (2026) | GO1: Ubuffalo (2026) | GP1: ECU (2026) | GQ1: UNC (2026) | GR1: HPU (2026) | GS1: CWRU (2026) | GT1: OSU (2026) | GU1: NeoMed (2026) | GV1: Oklahoma (2026) | GW1: OHSU (2026) | GX1: Temple (2026) | GY1: Upenn (2026) | GZ1: UPItt (2026) | HA1: MUSC (2026) | HB1: Meharry (2026) | HC1: UTHSC (2026) | HD1: LMU (2026) | HE1: Texas A&M (2026) | HF1: Texas Tech (2026) | HG1: UT-Houston (2026) | HH1: UT-San Antonio (2026) | HI1: Roseman (2026) | HJ1: UofU (2026) | HK1: VCU (2026) | HL1: UW (2026) | HM1: PNWU (2026) | HN1: WVU (2026) | HO1: Marquette (2026)
A2: AL | C2: 1 | G2: 2 | O2: 2 | P2: 1 | R2: 1 | Z2: 1 | AG2: 3 | BJ2: 3 | BK2: 1 | BP2: 1 | BQ2: 2 | CK2: 1 | CM2: 1 | CP2: 2 | CV2: 2 | DA2: 1 | DC2: 2 | DJ2: 1 | DU2: 2 | EF2: 6 | EH2: 5 | EL2: 1 | FH2: 6 | FK2: 1 | FL2: 1 | FO2: 1 | FQ2: 1 | FR2: 3 | FX2: 1 | FY2: 4 | FZ2: 1 | GA2: 1 | GD2: 2 | HA2: 1 | HC2: 2 | HI2: 1 | HN2: 1 | HO2: 1
A3: AK | AG3: 1 | AI3: 1 | AO3: 1 | BE3: 2 | BG3: 1 | BT3: 2 | BW3: 1 | BZ3: 1 | CC3: 1 | CI3: 1 | DK3: 2 | EA3: 2 | ED3: 1 | EE3: 1 | EN3: 1 | EP3: 1 | EU3: 1 | EV3: 2 | FC3: 1 | FY3: 1 | GA3: 1 | GD3: 1 | GG3: 1 | GW3: 1 | GY3: 1 | HI3: 1 | HJ3: 1 | HL3: 2
A4: AZ | B4: 1 | F4: 1 | G4: 1 | H4: 1 | J4: 3 | K4: 1 | M4: 5 | O4: 1 | P4: 1 | Q4: 2 | T4: 2 | W4: 1 | Y4: 2 | Z4: 1 | AD4: 1 | AG4: 1 | AI4: 2 | AL4: 1 | AM4: 1 | AO4: 2 | AP4: 1 | AQ4: 2 | AR4: 1 | AU4: 1 | AW4: 1 | BE4: 2 | BF4: 2 | BG4: 4 | BI4: 1 | BQ4: 2 | BR4: 1 | CB4: 1 | CC4: 1 | CD4: 1 | CF4: 2 | CI4: 4 | CP4: 2 | CQ4: 1 | CT4: 1 | CU4: 1 | CV4: 3 | CX4: 1 | CZ4: 1 | DB4: 1 | DC4: 2 | DD4: 1 | DK4: 5 | EA4: 2 | EB4: 1 | EF4: 1 | EL4: 1 | EM4: 6 | EN4: 2 | EP4: 2 | ES4: 1 | EX4: 1 | EY4: 5 | FA4: 2 | FB4: 2 | FC4: 2 | FE4: 5 | FG4: 1 | FI4: 1 | FL4: 2 | FO4: 1 | FQ4: 1 | FU4: 3 | FV4: 1 | FW4: 1 | FX4: 2 | FY4: 1 | GA4: 1 | GD4: 1 | GE4: 1 | GG4: 1 | GI4: 1 | GK4: 1 | GM4: 1 | GT4: 1 | GW4: 6 | GY4: 4 | HI4: 1 | HJ4: 3 | HO4: 2
A5: AR | W5: 1 | AB5: 2 | AL5: 3 | AM5: 3 | AT5: 1 | BI5: 1 | BJ5: 1 | BK5: 23 | BM5: 3 | BY5: 1 | BZ5: 1 | CI5: 1 | CK5: 1 | CN5: 1 | CP5: 1 | CX5: 5 | DE5: 1 | DI5: 1 | DJ5: 9 | EF5: 3 | EG5: 24 | EI5: 2 | EU5: 1 | EY5: 1 | FJ5: 1 | FL5: 1 | FM5: 1 | FQ5: 1 | FR5: 4 | FT5: 4 | GD5: 5 | GE5: 11 | GK5: 1 | GL5: 1 | GS5: 1 | HB5: 1 | HC5: 23 | HE5: 2 | HI5: 1
A6: CA | C6: 28 | D6: 26 | M6: 2 | O6: 1 | P6: 3 | Q6: 2 | T6: 13 | V6: 1 | X6: 1 | Z6: 1 | AC6: 2 | AD6: 6 | AE6: 5 | AF6: 3 | AG6: 18 | AH6: 7 | AI6: 8 | AJ6: 1 | AL6: 5 | AO6: 3 | AQ6: 16 | AS6: 7 | AT6: 43 | AV6: 18 | AW6: 2 | AY6: 1 | BA6: 4 | BB6: 2 | BE6: 7 | BF6: 1 | BG6: 11 | BH6: 1 | BI6: 1 | BM6: 2 | BN6: 1 | BQ6: 25 | BR6: 5 | BS6: 1 | BT6: 1 | BW6: 3 | BX6: 1 | BY6: 15 | BZ6: 28 | CI6: 2 | CL6: 13 | CM6: 4 | CP6: 8 | CT6: 1 | CV6: 3 | CY6: 4 | CZ6: 1 | DA6: 2 | DB6: 6 | DC6: 20 | DD6: 2 | DE6: 1 | DF6: 3 | DH6: 2 | DJ6: 4 | DK6: 4 | DL6: 1 | DM6: 12 | DN6: 5 | DO6: 12 | DP6: 43 | DR6: 32 | DU6: 1 | DW6: 3 | DX6: 1 | EA6: 9 | EB6: 3 | EC6: 19 | EG6: 1 | EH6: 1 | EK6: 1 | EM6: 19 | EN6: 4 | EO6: 1 | EP6: 1 | ES6: 1 | EU6: 20 | EV6: 34 | FE6: 2 | FF6: 1 | FH6: 3 | FI6: 1 | FK6: 1 | FL6: 11 | FO6: 4 | FP6: 1 | FQ6: 1 | FU6: 2 | FV6: 7 | FW6: 7 | FX6: 1 | FY6: 25 | FZ6: 8 | GA6: 4 | GB6: 3 | GD6: 4 | GG6: 9 | GH6: 1 | GI6: 10 | GJ6: 3 | GK6: 3 | GL6: 28 | GM6: 1 | GN6: 16 | GO6: 2 | GS6: 3 | GT6: 3 | GV6: 1 | GW6: 8 | GX6: 4 | GY6: 11 | GZ6: 3 | HA6: 2 | HB6: 2 | HG6: 1 | HI6: 29 | HJ6: 3 | HL6: 1 | HO6: 2
A7: CO | C7: 1 | D7: 3 | I7: 1 | J7: 1 | L7: 1 | Q7: 1 | AG7: 1 | AJ7: 2 | AO7: 5 | AQ7: 1 | AS7: 1 | BQ7: 2 | BY7: 1 | BZ7: 1 | CB7: 1 | CF7: 1 | CH7: 1 | CM7: 1 | CN7: 1 | CP7: 1 | CT7: 1 | CX7: 1 | DD7: 2 | DJ7: 1 | DK7: 5 | DM7: 1 | DN7: 1 | DO7: 1 | DP7: 1 | DR7: 2 | DZ7: 2 | EC7: 1 | ED7: 1 | EM7: 5 | EN7: 1 | ER7: 1 | EV7: 1 | EX7: 1 | FB7: 1 | FG7: 1 | FH7: 1 | FL7: 1 | FQ7: 1 | FT7: 1 | FU7: 1 | FW7: 1 | FY7: 1 | FZ7: 1 | GA7: 1 | GI7: 1 | GL7: 1 | GS7: 1 | GT7: 1 | HA7: 1 | HE7: 1 | HH7: 1 | HI7: 2 | HJ7: 1
A8: CT | B8: 1 | D8: 1 | K8: 1 | X8: 1 | AC8: 3 | AE8: 1 | AF8: 1 | AG8: 1 | AT8: 2 | AU8: 1 | AV8: 1 | AY8: 1 | BA8: 1 | BR8: 1 | CD8: 1 | CI8: 1 | CP8: 1 | CY8: 2 | DA8: 3 | DC8: 3 | DN8: 1 | DP8: 2 | DQ8: 1 | DR8: 4 | DW8: 1 | EC8: 1 | ED8: 1 | EE8: 1 | FO8: 1 | FU8: 4 | FW8: 3 | FY8: 2 | GJ8: 1 | GK8: 4 | GL8: 6 | GN8: 2 | GO8: 1 | GW8: 1
A9: DE | O9: 1 | BF9: 4 | BG9: 1 | BS9: 1 | BY9: 1 | CK9: 2 | CP9: 1 | CZ9: 2 | DA9: 2 | DC9: 1 | DP9: 3 | EB9: 7 | EH9: 1 | FL9: 1 | FV9: 1 | FY9: 1 | GJ9: 1 | GL9: 1 | GX9: 11 | GY9: 1 | GZ9: 3 | HA9: 1 | HK9: 1
A10: DC | G10: 2 | BG10: 1 | BH10: 1 | CC10: 1 | CG10: 1 | DN10: 1 | DP10: 1 | GY10: 1
A11: FL | B11: 8 | C11: 1 | D11: 10 | F11: 3 | G11: 4 | H11: 1 | I11: 1 | J11: 1 | L11: 2 | M11: 4 | N11: 2 | O11: 6 | S11: 1 | T11: 27 | V11: 1 | W11: 4 | Y11: 2 | Z11: 13 | AB11: 3 | AC11: 4 | AD11: 11 | AE11: 7 | AF11: 3 | AG11: 30 | AH11: 4 | AI11: 2 | AJ11: 1 | AL11: 2 | AQ11: 1 | AR11: 1 | AS11: 10 | AT11: 15 | AV11: 3 | AW11: 4 | AY11: 4 | BA11: 4 | BB11: 1 | BF11: 5 | BG11: 15 | BH11: 5 | BI11: 1 | BJ11: 13 | BO11: 1 | BQ11: 5 | BR11: 1 | BS11: 5 | BW11: 4 | BX11: 6 | BY11: 3 | BZ11: 10 | CB11: 1 | CC11: 2 | CF11: 1 | CG11: 2 | CH11: 1 | CI11: 4 | CJ11: 1 | CK11: 10 | CO11: 3 | CP11: 15 | CS11: 4 | CT11: 2 | CU11: 5 | CV11: 14 | CX11: 2 | CY11: 3 | CZ11: 16 | DA11: 14 | DB11: 5 | DC11: 30 | DD11: 9 | DE11: 2 | DF11: 1 | DH11: 4 | DJ11: 1 | DK11: 1 | DN11: 4 | DO11: 2 | DP11: 24 | DR11: 14 | DS11: 3 | DU11: 2 | DW11: 1 | DX11: 3 | EB11: 5 | EC11: 8 | ED11: 7 | EE11: 1 | EF11: 3 | EH11: 6 | EJ11: 1 | EL11: 1 | EM11: 6 | EO11: 5 | ER11: 1 | ES11: 5 | ET11: 12 | EU11: 6 | EV11: 6 | EX11: 6 | EY11: 1 | EZ11: 1 | FB11: 1 | FC11: 1 | FE11: 5 | FF11: 3 | FG11: 12 | FK11: 2 | FL11: 11 | FO11: 5 | FP11: 4 | FQ11: 6 | FR11: 12 | FT11: 4 | FU11: 3 | FV11: 10 | FW11: 10 | FX11: 5 | FY11: 38 | FZ11: 11 | GA11: 3 | GB11: 2 | GD11: 1 | GG11: 3 | GH11: 2 | GI11: 1 | GJ11: 7 | GK11: 4 | GL11: 27 | GN11: 7 | GO11: 2 | GQ11: 4 | GS11: 4 | GT11: 1 | GX11: 6 | GY11: 15 | GZ11: 5 | HA11: 2 | HB11: 8 | HC11: 2 | HI11: 9 | HK11: 7 | HN11: 1 | HO11: 3
A12: GA | B12: 5 | C12: 2 | D12: 1 | F12: 4 | G12: 3 | I12: 2 | J12: 1 | K12: 3 | L12: 1 | P12: 4 | Q12: 4 | R12: 5 | T12: 1 | W12: 1 | Y12: 3 | Z12: 10 | AD12: 4 | AE12: 1 | AF12: 2 | AG12: 5 | AH12: 1 | AI12: 3 | AL12: 1 | AO12: 1 | AS12: 2 | AV12: 2 | AW12: 1 | AY12: 3 | BF12: 3 | BG12: 1 | BH12: 1 | BJ12: 9 | BQ12: 4 | BS12: 2 | BX12: 13 | BY12: 2 | BZ12: 1 | CB12: 4 | CD12: 1 | CK12: 5 | CL12: 10 | CM12: 1 | CN12: 2 | CP12: 5 | CT12: 1 | CU12: 2 | CV12: 4 | CZ12: 3 | DA12: 2 | DB12: 1 | DC12: 7 | DD12: 2 | DE12: 1 | DH12: 1 | DI12: 1 | DJ12: 2 | DK12: 2 | DN12: 1 | DO12: 2 | DP12: 5 | DR12: 5 | DS12: 1 | DU12: 1 | EE12: 3 | EF12: 11 | EG12: 2 | EH12: 6 | EM12: 1 | EO12: 4 | ET12: 4 | EV12: 2 | EX12: 1 | EY12: 3 | FA12: 1 | FC12: 1 | FE12: 2 | FF12: 3 | FG12: 3 | FH12: 4 | FI12: 1 | FJ12: 5 | FL12: 4 | FQ12: 4 | FR12: 7 | FT12: 1 | FU12: 1 | FV12: 3 | FW12: 3 | FY12: 7 | FZ12: 2 | GA12: 2 | GG12: 1 | GJ12: 1 | GK12: 3 | GL12: 9 | GN12: 3 | GQ12: 1 | GX12: 4 | GY12: 1 | HA12: 1 | HB12: 8 | HC12: 1 | HJ12: 1 | HK12: 3
A13: GU | F13: 1 | K13: 2 | X13: 1 | AE13: 1 | EY13: 1 | FL13: 1 | FY13: 1 | HO13: 1
A14: HI | C14: 1 | D14: 1 | G14: 1 | H14: 1 | J14: 3 | K14: 1 | T14: 1 | AM14: 4 | AO14: 3 | AQ14: 1 | BR14: 1 | BW14: 1 | CC14: 1 | CE14: 1 | CF14: 2 | CG14: 1 | DI14: 4 | DJ14: 1 | DK14: 2 | DM14: 1 | DP14: 1 | EA14: 3 | EF14: 1 | EM14: 1 | EN14: 1 | EX14: 2 | FB14: 4 | FL14: 1 | GE14: 1 | GG14: 2 | GI14: 1 | GJ14: 1 | GL14: 1 | GW14: 2 | HI14: 2
A15: ID | C15: 1 | D15: 7 | F15: 1 | X15: 2 | Y15: 1 | AC15: 4 | AH15: 1 | AL15: 1 | AO15: 8 | AQ15: 2 | BE15: 2 | BI15: 1 | BP15: 1 | BQ15: 1 | BR15: 2 | BT15: 1 | BY15: 1 | BZ15: 6 | CY15: 2 | CZ15: 1 | DD15: 1 | DH15: 1 | DK15: 9 | DM15: 1 | EA15: 1 | EM15: 2 | EN15: 4 | EO15: 1 | EV15: 2 | FP15: 1 | FQ15: 1 | FU15: 1 | FY15: 1 | GD15: 2 | GE15: 1 | GG15: 8 | GI15: 3 | GS15: 1 | GW15: 2 | HA15: 1 | HI15: 2 | HJ15: 5 | HK15: 1 | HL15: 1
A16: IL | B16: 2 | C16: 1 | D16: 6 | F16: 1 | G16: 1 | I16: 1 | J16: 3 | K16: 1 | L16: 1 | M16: 1 | P16: 4 | Q16: 4 | W16: 3 | X16: 5 | Y16: 2 | Z16: 5 | AD16: 1 | AE16: 4 | AF16: 3 | AG16: 6 | AH16: 7 | AI16: 6 | AJ16: 1 | AL16: 5 | AM16: 2 | AO16: 4 | AP16: 1 | AS16: 3 | AT16: 3 | AW16: 1 | AY16: 3 | BA16: 1 | BB16: 1 | BF16: 4 | BG16: 4 | BH16: 1 | BJ16: 1 | BQ16: 3 | BR16: 1 | BW16: 22 | BX16: 1 | BY16: 3 | BZ16: 4 | CB16: 1 | CC16: 3 | CE16: 2 | CF16: 1 | CG16: 1 | CK16: 1 | CL16: 6 | CM16: 1 | CS16: 6 | CT16: 4 | CU16: 1 | CV16: 5 | CY16: 1 | DA16: 2 | DB16: 1 | DC16: 4 | DD16: 4 | DE16: 9 | DF16: 4 | DH16: 7 | DI16: 1 | DJ16: 3 | DK16: 1 | DO16: 3 | DP16: 3 | DR16: 3 | DW16: 2 | DX16: 1 | EA16: 1 | EB16: 3 | EC16: 4 | ED16: 1 | EE16: 1 | EF16: 1 | EG16: 1 | EH16: 1 | EM16: 4 | EN16: 2 | EO16: 1 | ER16: 1 | ES16: 19 | EU16: 2 | EV16: 7 | EY16: 1 | FA16: 1 | FB16: 2 | FG16: 2 | FH16: 4 | FI16: 3 | FJ16: 1 | FO16: 8 | FP16: 3 | FQ16: 1 | FR16: 6 | FU16: 1 | FW16: 2 | FY16: 7 | FZ16: 2 | GA16: 4 | GB16: 1 | GD16: 11 | GE16: 1 | GG16: 7 | GH16: 1 | GK16: 6 | GL16: 1 | GN16: 5 | GS16: 5 | GW16: 1 | GY16: 4 | GZ16: 1 | HB16: 3 | HI16: 2 | HO16: 28
A17: IN | D17: 1 | M17: 1 | O17: 2 | T17: 3 | X17: 1 | Z17: 3 | AC17: 1 | AE17: 1 | AF17: 1 | AG17: 2 | AH17: 1 | AI17: 4 | AL17: 1 | AO17: 1 | AR17: 1 | AT17: 4 | BA17: 1 | BB17: 1 | BG17: 1 | BJ17: 3 | BK17: 1 | BQ17: 1 | BW17: 2 | BX17: 1 | BZ17: 2 | CL17: 1 | CP17: 1 | CU17: 3 | CV17: 5 | DA17: 2 | DB17: 2 | DC17: 3 | DD17: 1 | DJ17: 1 | DP17: 1 | DR17: 1 | DU17: 1 | DX17: 3 | ED17: 2 | EM17: 1 | EU17: 2 | EV17: 1 | EX17: 1 | EY17: 1 | FH17: 1 | FL17: 6 | FN17: 1 | FP17: 1 | FQ17: 3 | FR17: 4 | FV17: 1 | FY17: 6 | FZ17: 1 | GD17: 1 | GG17: 3 | GK17: 1 | GL17: 2 | GY17: 1 | HN17: 1 | HO17: 1
A18: IA | C18: 1 | O18: 1 | P18: 1 | T18: 1 | Z18: 1 | AI18: 1 | AJ18: 2 | AO18: 4 | AP18: 1 | AY18: 1 | BM18: 1 | BQ18: 1 | BZ18: 1 | CC18: 1 | CI18: 1 | DJ18: 1 | DK18: 3 | DU18: 1 | EF18: 1 | EO18: 1 | ES18: 2 | FH18: 1 | FL18: 1 | GB18: 1 | GG18: 3 | GH18: 1 | HI18: 1
A19: KS | G19: 1 | Z19: 1 | AG19: 2 | AL19: 5 | AM19: 32 | AO19: 4 | AP19: 3 | AQ19: 1 | AR19: 1 | CI19: 1 | CP19: 2 | CX19: 1 | DH19: 2 | DI19: 19 | DJ19: 7 | DK19: 5 | DL19: 3 | EB19: 1 | EC19: 1 | EF19: 1 | EX19: 1 | FE19: 1 | FI19: 1 | GA19: 1 | GD19: 1 | GE19: 24 | GG19: 7 | GH19: 1 | GV19: 1 | HI19: 1 | HJ19: 1
A20: KY | O20: 1 | W20: 1 | AH20: 1 | AI20: 1 | AS20: 1 | CL20: 2 | CP20: 2 | DB20: 1 | DE20: 1 | DH20: 1 | DP20: 1 | DU20: 1 | EH20: 7 | FJ20: 1 | FW20: 1 | GK20: 2 | GL20: 1 | GS20: 1
A21: LA | B21: 1 | C21: 1 | D21: 2 | O21: 4 | P21: 2 | Q21: 1 | T21: 1 | Z21: 1 | AC21: 1 | AG21: 5 | AM21: 1 | BB21: 1 | BJ21: 7 | BK21: 1 | BQ21: 1 | BR21: 1 | BV21: 1 | BZ21: 2 | CK21: 1 | CL21: 3 | CM21: 1 | CP21: 2 | CU21: 1 | CV21: 3 | CZ21: 1 | DC21: 2 | DH21: 1 | DJ21: 3 | DP21: 1 | DU21: 1 | ED21: 1 | EE21: 2 | EF21: 5 | EG21: 2 | EH21: 1 | EK21: 2 | EN21: 1 | ET21: 1 | EU21: 1 | FH21: 2 | FR21: 1 | FY21: 7 | GE21: 1 | GQ21: 1 | GX21: 1 | HB21: 3 | HH21: 1 | HO21: 1
A22: ME | AF22: 1 | AG22: 1 | AS22: 1 | BZ22: 1 | CE22: 1 | CL22: 1 | DA22: 1 | DC22: 2 | DE22: 1 | DP22: 1 | DX22: 1 | FW22: 3 | FY22: 2 | GO22: 2 | HA22: 1
A23: MD | D23: 3 | F23: 1 | J23: 1 | O23: 7 | T23: 1 | W23: 1 | Z23: 1 | AE23: 6 | AF23: 1 | AG23: 7 | AJ23: 1 | AL23: 1 | AP23: 1 | AS23: 4 | AT23: 8 | AY23: 1 | BA23: 2 | BF23: 4 | BG23: 3 | BH23: 3 | BI23: 2 | BJ23: 3 | BQ23: 2 | BS23: 4 | BV23: 3 | BZ23: 1 | CB23: 2 | CC23: 1 | CK23: 11 | CP23: 1 | CV23: 2 | CY23: 1 | DA23: 2 | DB23: 1 | DC23: 2 | DD23: 1 | DJ23: 1 | DN23: 1 | DO23: 1 | DP23: 5 | DR23: 4 | DW23: 3 | EA23: 1 | EB23: 3 | EC23: 2 | EE23: 1 | EF23: 2 | EM23: 1 | ER23: 3 | EU23: 1 | EV23: 2 | EY23: 2 | FA23: 1 | FG23: 9 | FH23: 2 | FI23: 1 | FN23: 1 | FU23: 1 | FW23: 2 | FX23: 1 | FY23: 4 | FZ23: 1 | GJ23: 1 | GK23: 3 | GL23: 4 | GN23: 5 | GQ23: 1 | GY23: 3 | GZ23: 4 | HA23: 1 | HB23: 3 | HE23: 1 | HI23: 1 | HK23: 2 | HN23: 1
A24: MA | H24: 1 | N24: 8 | O24: 1 | AC24: 7 | AO24: 1 | AR24: 2 | AS24: 2 | AT24: 3 | AV24: 2 | BF24: 1 | BG24: 7 | BH24: 1 | BQ24: 1 | BT24: 1 | BZ24: 2 | CC24: 3 | CE24: 1 | CG24: 1 | CJ24: 11 | CL24: 1 | CU24: 1 | CY24: 6 | DM24: 1 | DO24: 4 | DP24: 6 | DQ24: 1 | DR24: 2 | EB24: 1 | EC24: 3 | ED24: 1 | EF24: 2 | EM24: 1 | EU24: 1 | EV24: 1 | EX24: 1 | FA24: 2 | FB24: 1 | FC24: 1 | FF24: 9 | FJ24: 1 | FL24: 2 | FQ24: 1 | FU24: 5 | FV24: 2 | GJ24: 1 | GK24: 3 | GL24: 5 | GM24: 1 | GN24: 2 | GO24: 3 | GS24: 2 | GX24: 2 | GY24: 7 | HE24: 1 | HJ24: 1 | HK24: 1 | HL24: 1
A25: MI | C25: 5 | D25: 7 | G25: 1 | J25: 1 | K25: 2 | L25: 1 | M25: 1 | P25: 3 | Q25: 2 | T25: 14 | W25: 2 | X25: 1 | Z25: 12 | AC25: 3 | AD25: 4 | AE25: 4 | AF25: 1 | AG25: 4 | AJ25: 3 | AL25: 4 | AO25: 1 | AS25: 1 | AT25: 5 | AV25: 1 | AW25: 3 | BA25: 12 | BB25: 6 | BF25: 4 | BG25: 5 | BI25: 1 | BJ25: 3 | BM25: 1 | BQ25: 5 | BV25: 2 | BW25: 4 | BY25: 5 | BZ25: 6 | CB25: 4 | CC25: 2 | CD25: 1 | CE25: 2 | CI25: 1 | CL25: 4 | CO25: 1 | CP25: 14 | CS25: 3 | CT25: 1 | CU25: 2 | CV25: 8 | CY25: 5 | CZ25: 3 | DA25: 3 | DC25: 8 | DF25: 5 | DH25: 3 | DJ25: 3 | DM25: 1 | DO25: 1 | DP25: 9 | DR25: 2 | DS25: 1 | DU25: 1 | DW25: 10 | DX25: 3 | EA25: 1 | EC25: 7 | EE25: 1 | EF25: 2 | EG25: 1 | EH25: 7 | EM25: 5 | ER25: 1 | ES25: 7 | EU25: 5 | EV25: 5 | EX25: 1 | EY25: 6 | FB25: 1 | FE25: 2 | FG25: 1 | FH25: 5 | FI25: 1 | FL25: 11 | FO25: 9 | FR25: 3 | FU25: 1 | FV25: 1 | FW25: 1 | FY25: 1 | GB25: 2 | GD25: 3 | GG25: 1 | GN25: 1 | GO25: 1 | GQ25: 1 | GS25: 13 | GT25: 2 | GW25: 1 | GX25: 2 | GY25: 5 | GZ25: 3 | HB25: 2 | HG25: 1 | HO25: 6
A26: MN | C26: 2 | G26: 1 | I26: 1 | K26: 1 | P26: 2 | T26: 2 | X26: 4 | AE26: 1 | AF26: 1 | AG26: 3 | AI26: 1 | AM26: 1 | AO26: 10 | AP26: 1 | AR26: 1 | BB26: 1 | BE26: 1 | BF26: 1 | BG26: 3 | BQ26: 2 | BR26: 1 | BW26: 4 | BY26: 1 | BZ26: 1 | CC26: 2 | CI26: 2 | CL26: 1 | CP26: 2 | CT26: 3 | CY26: 1 | DA26: 1 | DB26: 1 | DD26: 1 | DH26: 2 | DJ26: 2 | DK26: 13 | DO26: 1 | DP26: 2 | DX26: 1 | EC26: 3 | EH26: 1 | EM26: 1 | EN26: 1 | ES26: 3 | EV26: 2 | EY26: 1 | FC26: 3 | FL26: 5 | FO26: 1 | FP26: 2 | FW26: 1 | FX26: 1 | FZ26: 1 | GD26: 2 | GG26: 7 | GH26: 2 | GL26: 1 | GN26: 1 | GT26: 3 | GW26: 2 | GY26: 3 | GZ26: 1 | HI26: 1 | HJ26: 2 | HO26: 4
A27: MS | B27: 2 | R27: 1 | Z27: 1 | AB27: 1 | AG27: 3 | BJ27: 3 | BK27: 9 | BP27: 1 | BX27: 4 | BY27: 1 | CL27: 1 | CV27: 2 | CX27: 1 | DJ27: 1 | DS27: 1 | EF27: 1 | EG27: 3 | EH27: 3 | EL27: 1 | EM27: 1 | EO27: 1 | ER27: 1 | ET27: 1 | FC27: 2 | FE27: 1 | FH27: 1 | FM27: 1 | FO27: 1 | FR27: 1 | FT27: 2 | GD27: 1 | GO27: 1 | HB27: 2 | HC27: 4
A28: MO | K28: 1 | O28: 1 | U28: 3 | Y28: 1 | Z28: 1 | AE28: 2 | AO28: 4 | BG28: 1 | BH28: 1 | BK28: 1 | BR28: 1 | BW28: 1 | BY28: 1 | BZ28: 1 | CP28: 2 | CQ28: 5 | CU28: 1 | CV28: 2 | CY28: 1 | DF28: 1 | DK28: 6 | DL28: 1 | DW28: 1 | EC28: 1 | ED28: 1 | EF28: 2 | EG28: 2 | EV28: 1 | EX28: 1 | EZ28: 1 | FA28: 1 | FC28: 1 | FE28: 1 | FG28: 1 | FL28: 1 | FM28: 5 | FR28: 1 | FX28: 1 | GG28: 1 | GS28: 1 | GV28: 1 | GY28: 1 | HB28: 1 | HI28: 1
A29: MT | K29: 1 | M29: 2 | P29: 1 | AC29: 1 | AI29: 2 | AO29: 3 | BE29: 1 | BR29: 3 | BZ29: 2 | CI29: 2 | DF29: 3 | EM29: 1 | EN29: 2 | EP29: 1 | EU29: 1 | EV29: 3 | FE29: 2 | FH29: 2 | FP29: 1 | GB29: 4 | GD29: 1 | HI29: 3 | HJ29: 1 | HO29: 1
A30: NE | F30: 1 | X30: 1 | AL30: 1 | AS30: 1 | BW30: 2 | CC30: 1 | DE30: 1 | FY30: 1 | GT30: 1
A31: NV | J31: 1 | N31: 1 | O31: 1 | AF31: 1 | AI31: 1 | AO31: 1 | AR31: 1 | AS31: 1 | AT31: 1 | BM31: 1 | BW31: 1 | BY31: 1 | CB31: 1 | CC31: 1 | CF31: 3 | CI31: 1 | CL31: 1 | DC31: 1 | DN31: 1 | DP31: 1 | DR31: 1 | EB31: 1 | EM31: 5 | EY31: 1 | FA31: 1 | FB31: 1 | FE31: 1 | FG31: 1 | FV31: 1 | GH31: 1 | HJ31: 2
A32: NH | N32: 2 | Q32: 1 | AC32: 3 | AE32: 2 | AT32: 1 | BA32: 1 | BG32: 1 | CJ32: 1 | CY32: 3 | DA32: 6 | DC32: 4 | DE32: 1 | DU32: 1 | EB32: 1 | EC32: 1 | EH32: 1 | EM32: 2 | FU32: 4 | FW32: 3 | GY32: 1
A33: NJ | C33: 1 | D33: 1 | F33: 1 | G33: 2 | I33: 1 | J33: 1 | N33: 2 | O33: 3 | P33: 4 | Q33: 6 | R33: 1 | T33: 3 | Z33: 2 | AC33: 1 | AD33: 6 | AE33: 5 | AF33: 4 | AG33: 5 | AI33: 2 | AO33: 1 | AS33: 11 | AT33: 35 | AU33: 1 | AV33: 18 | AW33: 3 | AY33: 1 | BF33: 18 | BG33: 18 | BH33: 2 | BI33: 1 | BJ33: 3 | BQ33: 1 | BS33: 3 | BY33: 1 | CB33: 2 | CC33: 3 | CD33: 1 | CG33: 2 | CH33: 1 | CJ33: 4 | CK33: 1 | CL33: 4 | CM33: 6 | CP33: 3 | CS33: 1 | CT33: 1 | CY33: 5 | CZ33: 2 | DA33: 7 | DB33: 1 | DC33: 4 | DE33: 1 | DH33: 1 | DK33: 1 | DO33: 15 | DP33: 47 | DQ33: 1 | DR33: 21 | DS33: 2 | DW33: 3 | EB33: 26 | EC33: 20 | EF33: 2 | EH33: 3 | EM33: 1 | ET33: 1 | EU33: 2 | FA33: 1 | FB33: 1 | FE33: 1 | FF33: 2 | FG33: 2 | FH33: 2 | FI33: 1 | FL33: 2 | FP33: 1 | FR33: 1 | FV33: 6 | FW33: 5 | FX33: 3 | FY33: 7 | FZ33: 1 | GA33: 1 | GK33: 10 | GL33: 30 | GM33: 5 | GN33: 15 | GO33: 4 | GS33: 2 | GX33: 23 | GY33: 18 | GZ33: 2 | HA33: 1 | HB33: 1 | HC33: 1 | HI33: 3
A34: NM | D34: 3 | M34: 3 | AE34: 1 | AG34: 1 | AM34: 2 | AO34: 2 | BI34: 1 | BN34: 3 | BR34: 1 | BY34: 2 | CF34: 1 | CM34: 1 | DF34: 1 | DI34: 3 | DK34: 7 | DR34: 1 | EI34: 1 | EJ34: 4 | EM34: 3 | EP34: 1 | EU34: 1 | EV34: 1 | EY34: 1 | GE34: 2 | GG34: 2 | GS34: 1 | HE34: 1 | HJ34: 1
A35: NY | C35: 2 | D35: 2 | G35: 5 | H35: 1 | K35: 1 | L35: 1 | N35: 4 | O35: 4 | P35: 7 | Q35: 4 | R35: 1 | T35: 3 | W35: 2 | AB35: 1 | AC35: 4 | AD35: 8 | AE35: 18 | AF35: 2 | AG35: 10 | AH35: 1 | AO35: 1 | AR35: 14 | BA35: 4 | BF35: 9 | BG35: 8 | BH35: 5 | BI35: 1 | BJ35: 2 | BQ35: 2 | BR35: 1 | BS35: 1 | BY35: 4 | BZ35: 1 | CB35: 1 | CC35: 2 | CE35: 3 | CG35: 1 | CJ35: 2 | CK35: 4 | CL35: 6 | CM35: 4 | CO35: 1 | CP35: 5 | CV35: 1 | CY35: 8 | CZ35: 6 | DA35: 5 | DB35: 2 | DC35: 11 | DD35: 1 | DK35: 1 | DM35: 3 | DN35: 11 | DU35: 2 | DW35: 1 | EB35: 8 | EC35: 24 | ED35: 1 | EF35: 2 | EM35: 1 | EN35: 1 | EO35: 2 | ER35: 2 | ES35: 1 | EV35: 1 | EX35: 1 | EY35: 3 | FA35: 1 | FB35: 1 | FC35: 2 | FF35: 2 | FG35: 4 | FH35: 5 | FL35: 3 | FQ35: 1 | FR35: 2 | FU35: 3 | FV35: 4 | FW35: 7 | FX35: 2 | FY35: 8 | FZ35: 1 | GA35: 2 | GG35: 4 | GJ35: 11 | GX35: 4 | GY35: 8 | GZ35: 5 | HB35: 1 | HI35: 2 | HK35: 1 | HN35: 1
A36: NC | C36: 1 | F36: 2 | G36: 1 | L36: 1 | M36: 2 | O36: 4 | Q36: 1 | S36: 4 | T36: 3 | W36: 1 | Z36: 2 | AC36: 2 | AD36: 1 | AE36: 2 | AF36: 2 | AG36: 8 | AH36: 1 | AI36: 1 | AJ36: 1 | AL36: 3 | AS36: 1 | AT36: 1 | AV36: 1 | AW36: 1 | BA36: 2 | BF36: 1 | BG36: 2 | BH36: 1 | BI36: 1 | BJ36: 4 | BP36: 1 | BR36: 1 | BS36: 7 | BX36: 1 | BY36: 1 | CC36: 1 | CK36: 7 | CL36: 2 | CP36: 5 | CU36: 1 | CV36: 5 | CY36: 1 | CZ36: 1 | DC36: 5 | DD36: 1 | DE36: 5 | DH36: 3 | DJ36: 1 | DL36: 1 | DM36: 1 | DP36: 8 | DR36: 1 | DW36: 2 | EB36: 1 | EC36: 4 | EE36: 6 | EF36: 5 | EH36: 7 | EM36: 1 | EN36: 1 | EO36: 10 | ER36: 1 | EU36: 1 | EX36: 1 | EY36: 1 | FA36: 2 | FE36: 1 | FG36: 3 | FH36: 2 | FI36: 3 | FQ36: 1 | FR36: 3 | FU36: 2 | FV36: 4 | FW36: 1 | FY36: 3 | GA36: 3 | GD36: 1 | GE36: 1 | GH36: 1 | GI36: 2 | GK36: 2 | GL36: 3 | GN36: 3 | GO36: 2 | GS36: 5 | GX36: 3 | GY36: 2 | GZ36: 1 | HA36: 7 | HB36: 5 | HK36: 8
A37: ND | M37: 3 | X37: 1 | AJ37: 2 | AO37: 12 | CH37: 1 | CI37: 3 | CT37: 3 | CU37: 1 | CY37: 2 | DF37: 2 | DK37: 10 | EB37: 1 | FA37: 1 | FE37: 1 | FP37: 1 | GB37: 3 | GG37: 15 | GH37: 1 | GW37: 1 | HJ37: 1
A38: OH | C38: 3 | F38: 1 | G38: 1 | K38: 1 | L38: 1 | M38: 1 | O38: 1 | P38: 7 | Q38: 1 | R38: 1 | T38: 2 | X38: 1 | Y38: 3 | Z38: 6 | AC38: 3 | AE38: 1 | AF38: 1 | AG38: 1 | AH38: 5 | AI38: 4 | AJ38: 1 | AL38: 1 | AO38: 1 | AT38: 2 | AW38: 1 | BF38: 1 | BG38: 2 | BH38: 3 | BI38: 4 | BT38: 1 | BV38: 2 | BW38: 1 | BZ38: 2 | CI38: 1 | CL38: 3 | CM38: 1 | CN38: 1 | CP38: 3 | CS38: 1 | CU38: 1 | CV38: 8 | CY38: 1 | CZ38: 1 | DA38: 1 | DB38: 1 | DC38: 3 | DD38: 2 | DE38: 5 | DJ38: 4 | DK38: 1 | DM38: 1 | DO38: 4 | DP38: 1 | DR38: 4 | EB38: 1 | EC38: 1 | ED38: 2 | EF38: 4 | EH38: 1 | EM38: 1 | ER38: 4 | ES38: 1 | EV38: 2 | EX38: 2 | FG38: 2 | FH38: 2 | FI38: 1 | FJ38: 2 | FL38: 4 | FO38: 3 | FP38: 1 | FQ38: 3 | FR38: 8 | FT38: 1 | FU38: 2 | FV38: 1 | FW38: 1 | FX38: 3 | FY38: 4 | FZ38: 6 | GK38: 1 | GL38: 2 | GO38: 2 | GQ38: 1 | GX38: 1 | GY38: 2 | GZ38: 1 | HB38: 1 | HC38: 1 | HI38: 2 | HL38: 1 | HN38: 1 | HO38: 1
A39: OK | D39: 2 | T39: 1 | AB39: 1 | AE39: 2 | AL39: 4 | AM39: 1 | AO39: 1 | AT39: 1 | BO39: 1 | BQ39: 1 | BY39: 1 | BZ39: 1 | CI39: 1 | CP39: 1 | CY39: 1 | DH39: 3 | DI39: 1 | DJ39: 8 | DL39: 1 | DP39: 1 | DR39: 1 | EH39: 1 | EM39: 2 | EU39: 1 | EV39: 1 | FG39: 1 | FW39: 1 | FX39: 1 | GD39: 2 | GG39: 3 | GL39: 1 | GS39: 1 | HB39: 1 | HC39: 2
A40: OR | D40: 2 | F40: 1 | I40: 1 | K40: 1 | L40: 3 | M40: 2 | Q40: 1 | T40: 1 | W40: 1 | AG40: 2 | AO40: 1 | BO40: 1 | BP40: 1 | BQ40: 2 | BY40: 1 | BZ40: 1 | CB40: 1 | CF40: 1 | CH40: 1 | CP40: 1 | CS40: 1 | CU40: 1 | CY40: 2 | DC40: 2 | DK40: 1 | DL40: 1 | DR40: 2 | EC40: 2 | EM40: 2 | EV40: 2 | EX40: 2 | EY40: 1 | FC40: 2 | FI40: 1 | FL40: 1 | FP40: 1 | FQ40: 1 | FU40: 2 | FY40: 1 | GG40: 1 | GL40: 1 | GX40: 1 | GZ40: 1 | HE40: 1 | HG40: 1 | HI40: 1 | HJ40: 2
A41: PA | B41: 1 | I41: 1 | M41: 2 | N41: 1 | O41: 3 | P41: 8 | T41: 2 | Z41: 1 | AC41: 4 | AD41: 4 | AE41: 1 | AG41: 2 | AI41: 1 | AR41: 4 | AS41: 4 | AT41: 6 | AW41: 2 | BA41: 2 | BE41: 1 | BI41: 2 | BJ41: 2 | BQ41: 4 | BS41: 1 | BV41: 3 | CC41: 1 | CH41: 1 | CI41: 1 | CK41: 2 | CL41: 5 | CP41: 3 | CS41: 1 | CV41: 2 | CY41: 6 | CZ41: 5 | DB41: 1 | DC41: 6 | DD41: 1 | DE41: 1 | DK41: 1 | DN41: 4 | DO41: 5 | DP41: 14 | DR41: 5 | DS41: 1 | DU41: 1 | DW41: 5 | EH41: 1 | EM41: 2 | ER41: 6 | EU41: 1 | EV41: 3 | EY41: 1 | FA41: 1 | FB41: 1 | FE41: 1 | FH41: 5 | FI41: 1 | FQ41: 1 | FR41: 1 | FU41: 2 | FV41: 1 | FW41: 1 | FX41: 2 | FY41: 4 | FZ41: 1 | GA41: 1 | GB41: 1 | GG41: 1 | GJ41: 1 | GK41: 4 | GL41: 15 | GM41: 1 | GN41: 3 | GO41: 5 | GS41: 4 | HB41: 3 | HI41: 1 | HK41: 1 | HN41: 5
A42: PR | CM42: 1 | DP42: 1 | EC42: 1 | FF42: 1 | FG42: 1 | HO42: 1
A43: RI | J43: 1 | M43: 1 | AC43: 2 | AE43: 1 | AG43: 1 | AI43: 1 | AT43: 1 | BZ43: 1 | CP43: 1 | DA43: 1 | DC43: 2 | DE43: 1 | EC43: 1 | EE43: 1 | FG43: 1 | FU43: 2 | FW43: 1 | FY43: 1 | GL43: 1 | GZ43: 2 | HO43: 1
A44: SC | B44: 1 | D44: 1 | J44: 2 | M44: 3 | O44: 1 | R44: 2 | S44: 3 | Y44: 2 | AC44: 1 | AG44: 2 | AT44: 1 | AU44: 1 | BJ44: 2 | BS44: 2 | BX44: 2 | CI44: 1 | CO44: 3 | CV44: 2 | DA44: 2 | DC44: 2 | DJ44: 1 | DO44: 1 | DR44: 1 | DU44: 1 | DW44: 3 | EC44: 2 | EF44: 1 | EH44: 1 | EK44: 1 | EM44: 1 | ET44: 1 | EY44: 2 | FH44: 1 | FI44: 1 | FK44: 4 | FR44: 2 | FY44: 3 | GQ44: 2 | GX44: 2 | GZ44: 1 | HN44: 2
A45: SD | D45: 1 | F45: 1 | X45: 1 | AJ45: 2 | AO45: 5 | AP45: 4 | BR45: 1 | BW45: 1 | CI45: 1 | CT45: 1 | DF45: 6 | DJ45: 1 | DK45: 2 | DL45: 2 | DU45: 1 | EB45: 1 | ES45: 3 | FL45: 1 | FP45: 1 | GB45: 1 | GG45: 7 | GH45: 7
A46: TN | C46: 1 | F46: 1 | N46: 1 | O46: 2 | Q46: 1 | T46: 1 | Y46: 1 | Z46: 3 | AC46: 1 | AF46: 1 | AG46: 2 | AH46: 1 | AL46: 1 | AO46: 1 | AS46: 1 | AT46: 1 | AX46: 1 | BB46: 1 | CB46: 3 | CN46: 1 | CU46: 3 | CV46: 2 | DC46: 1 | DO46: 2 | DP46: 1 | DW46: 1 | EB46: 1 | EK46: 1 | EM46: 1 | EO46: 1 | EX46: 1 | EY46: 1 | EZ46: 1 | FB46: 1 | FI46: 1 | FR46: 8 | FT46: 2 | FU46: 1 | FY46: 2 | GD46: 1 | GE46: 1 | GK46: 1 | GL46: 3 | GQ46: 1 | HA46: 1 | HI46: 1
A47: TX | C47: 7 | D47: 14 | F47: 2 | G47: 3 | H47: 1 | J47: 3 | K47: 3 | L47: 5 | O47: 1 | P47: 10 | Q47: 1 | T47: 5 | W47: 2 | X47: 3 | Y47: 1 | Z47: 5 | AB47: 3 | AC47: 1 | AE47: 2 | AG47: 12 | AH47: 7 | AJ47: 1 | AL47: 11 | AO47: 1 | AQ47: 1 | AR47: 1 | AS47: 3 | AT47: 15 | AU47: 1 | AV47: 3 | AY47: 1 | BA47: 3 | BD47: 1 | BE47: 1 | BF47: 1 | BG47: 4 | BH47: 1 | BJ47: 4 | BQ47: 5 | BS47: 1 | BW47: 3 | BY47: 10 | BZ47: 9 | CB47: 1 | CC47: 1 | CD47: 1 | CE47: 2 | CF47: 3 | CG47: 1 | CH47: 1 | CI47: 2 | CK47: 3 | CL47: 4 | CM47: 4 | CP47: 12 | CQ47: 1 | CS47: 1 | CT47: 1 | CU47: 2 | CV47: 3 | CX47: 1 | CY47: 4 | CZ47: 1 | DA47: 3 | DB47: 1 | DC47: 4 | DD47: 4 | DF47: 1 | DH47: 14 | DJ47: 8 | DK47: 2 | DO47: 3 | DP47: 12 | DR47: 6 | DU47: 2 | DW47: 1 | DZ47: 1 | EA47: 1 | EB47: 2 | EC47: 2 | ED47: 1 | EF47: 8 | EM47: 10 | EN47: 4 | EP47: 1 | ES47: 3 | ET47: 1 | EU47: 9 | EV47: 12 | EX47: 1 | EY47: 2 | FA47: 2 | FC47: 7 | FE47: 3 | FG47: 9 | FH47: 7 | FI47: 1 | FK47: 1 | FL47: 5 | FM47: 1 | FO47: 2 | FR47: 1 | FT47: 2 | FU47: 4 | FV47: 1 | FW47: 5 | FX47: 1 | FY47: 13 | FZ47: 5 | GA47: 1 | GD47: 10 | GE47: 1 | GG47: 3 | GI47: 4 | GK47: 3 | GL47: 13 | GN47: 3 | GO47: 3 | GS47: 2 | GV47: 6 | GW47: 1 | GX47: 3 | GY47: 4 | GZ47: 2 | HA47: 1 | HB47: 4 | HC47: 1 | HI47: 7
A48: UT | C48: 3 | D48: 8 | G48: 2 | J48: 6 | N48: 1 | P48: 1 | T48: 1 | X48: 1 | Y48: 2 | Z48: 10 | AC48: 2 | AD48: 1 | AL48: 3 | AO48: 3 | AP48: 1 | AQ48: 16 | AT48: 1 | AY48: 1 | BA48: 1 | BB48: 1 | BD48: 1 | BE48: 1 | BG48: 1 | BI48: 1 | BN48: 1 | BO48: 3 | BP48: 1 | BS48: 1 | BT48: 1 | BY48: 4 | BZ48: 9 | CB48: 1 | CC48: 1 | CD48: 1 | CF48: 10 | CG48: 1 | CI48: 2 | CL48: 6 | CM48: 1 | CP48: 1 | CS48: 1 | CU48: 1 | CV48: 3 | CY48: 2 | DA48: 1 | DB48: 2 | DE48: 5 | DH48: 3 | DJ48: 1 | DK48: 3 | DM48: 13 | DO48: 1 | DU48: 2 | DW48: 1 | DX48: 1 | EA48: 2 | ED48: 1 | EG48: 1 | EI48: 1 | EJ48: 1 | EL48: 3 | ER48: 1 | ES48: 1 | EV48: 6 | EX48: 2 | EY48: 1 | EZ48: 1 | FA48: 1 | FB48: 7 | FC48: 2 | FE48: 1 | FH48: 1 | FI48: 1 | FL48: 1 | FP48: 1 | FQ48: 1 | FR48: 9 | FU48: 3 | FW48: 1 | FX48: 1 | FY48: 2 | GB48: 1 | GG48: 4 | GI48: 9 | GK48: 1 | GN48: 1 | GQ48: 2 | GT48: 4 | GV48: 1 | GW48: 3 | GY48: 1 | HA48: 2 | HE48: 1 | HG48: 4 | HH48: 1 | HK48: 5 | HL48: 1 | HO48: 1
A49: VT | AG49: 2 | AU49: 1 | BK49: 1 | CY49: 1 | DA49: 1 | DM49: 1 | EM49: 1 | FX49: 1 | FY49: 2 | HB49: 1
A50: VA | B50: 1 | C50: 1 | D50: 1 | F50: 1 | G50: 1 | I50: 1 | K50: 1 | L50: 1 | M50: 1 | N50: 1 | O50: 9 | P50: 2 | Q50: 1 | R50: 1 | T50: 3 | W50: 2 | Y50: 2 | Z50: 4 | AC50: 1 | AD50: 9 | AE50: 1 | AF50: 2 | AG50: 9 | AH50: 2 | AJ50: 1 | AL50: 1 | AO50: 1 | AR50: 2 | AS50: 1 | AT50: 7 | AV50: 4 | AW50: 1 | AY50: 2 | BB50: 1 | BF50: 3 | BG50: 10 | BH50: 1 | BI50: 2 | BQ50: 4 | BV50: 4 | BY50: 1 | BZ50: 2 | CD50: 1 | CF50: 1 | CG50: 1 | CI50: 1 | CK50: 12 | CL50: 1 | CM50: 1 | CP50: 6 | CU50: 2 | CV50: 5 | CY50: 3 | CZ50: 12 | DA50: 5 | DB50: 1 | DC50: 7 | DD50: 1 | DE50: 2 | DJ50: 1 | DM50: 1 | DN50: 2 | DO50: 2 | DP50: 9 | DR50: 3 | DU50: 2 | DW50: 2 | DX50: 2 | EA50: 1 | EB50: 2 | EC50: 8 | ED50: 1 | EF50: 3 | EH50: 6 | EM50: 1 | ER50: 5 | ES50: 1 | EV50: 2 | FA50: 1 | FG50: 8 | FH50: 8 | FL50: 5 | FQ50: 1 | FR50: 4 | FU50: 6 | FV50: 20 | FW50: 3 | FY50: 11 | FZ50: 3 | GA50: 2 | GD50: 1 | GK50: 1 | GL50: 12 | GM50: 1 | GN50: 2 | GO50: 2 | GQ50: 2 | GS50: 3 | GT50: 1 | GX50: 1 | GY50: 10 | GZ50: 4 | HB50: 2 | HG50: 1 | HJ50: 1 | HO50: 1
A51: WA | B51: 1 | C51: 3 | D51: 4 | F51: 4 | G51: 4 | H51: 1 | J51: 7 | K51: 2 | W51: 2 | X51: 1 | AC51: 1 | AD51: 2 | AG51: 3 | AI51: 2 | AO51: 1 | AT51: 6 | AV51: 1 | BA51: 1 | BE51: 9 | BG51: 1 | BJ51: 1 | BO51: 1 | BQ51: 2 | BR51: 2 | BZ51: 7 | CB51: 5 | CC51: 5 | CD51: 2 | CE51: 3 | CF51: 2 | CG51: 4 | CI51: 1 | CJ51: 1 | CL51: 2 | CM51: 1 | CP51: 1 | CS51: 1 | CU51: 1 | CV51: 1 | CY51: 1 | DA51: 2 | DC51: 2 | DE51: 1 | DH51: 1 | DM51: 1 | DO51: 1 | DP51: 3 | DR51: 1 | EA51: 6 | EC51: 6 | EI51: 1 | EL51: 1 | EM51: 5 | EN51: 2 | EO51: 1 | ES51: 1 | EU51: 2 | EV51: 4 | EX51: 6 | EY51: 5 | FA51: 4 | FB51: 4 | FC51: 2 | FE51: 3 | FG51: 1 | FH51: 3 | FI51: 1 | FP51: 1 | FU51: 1 | FW51: 2 | FZ51: 2 | GA51: 1 | GB51: 1 | GG51: 1 | GI51: 2 | GJ51: 1 | GN51: 1 | GS51: 1 | GW51: 2 | GY51: 1 | HB51: 1 | HI51: 5 | HK51: 1
A52: WV | W52: 1 | AC52: 1 | AG52: 1 | AO52: 2 | BR52: 1 | CM52: 1 | CU52: 1 | CV52: 1 | CY52: 1 | DP52: 1 | DX52: 1 | ED52: 1 | EM52: 1 | GY52: 1 | GZ52: 2
A53: WI | C53: 1 | D53: 3 | K53: 1 | P53: 2 | T53: 5 | W53: 1 | X53: 4 | AC53: 1 | AI53: 1 | AJ53: 10 | AL53: 1 | AO53: 3 | AR53: 1 | AS53: 1 | AT53: 1 | AW53: 1 | BA53: 1 | BB53: 1 | BE53: 2 | BG53: 1 | BK53: 1 | BQ53: 1 | BR53: 1 | BY53: 1 | BZ53: 2 | CB53: 1 | CE53: 3 | CI53: 1 | CP53: 1 | CT53: 5 | DA53: 1 | DD53: 1 | DE53: 1 | DF53: 7 | DH53: 1 | DK53: 11 | DM53: 1 | DO53: 1 | DX53: 1 | EG53: 1 | EN53: 1 | EU53: 3 | EV53: 3 | EZ53: 1 | FH53: 1 | FI53: 1 | FL53: 9 | FN53: 1 | FO53: 4 | FP53: 6 | FR53: 1 | FU53: 1 | FW53: 1 | FY53: 2 | FZ53: 2 | GA53: 1 | GB53: 6 | GG53: 6 | GK53: 1 | GW53: 1 | GX53: 1 | GY53: 1 | HI53: 1 | HJ53: 2
A54: WY | D54: 1 | AO54: 5 | AP54: 1 | BF54: 1 | BQ54: 1 | DK54: 4 | DL54: 2 | EM54: 1 | EN54: 1 | FB54: 1 | FP54: 2 | GG54: 1 | GH54: 2 | GW54: 1
A55: Afghanistan | DF55: 1
A56: Albania | GA56: 1
A57: Bahamas | O57: 1 | CK57: 1
A58: Bahrain | GW58: 1
A59: Bangladesh | AT59: 1 | DS59: 1 | GL59: 1
A60: Barbados | BG60: 1 | GY60: 1
A61: Benin | GX61: 1
A62: Brazil | DP62: 1
A63: Canada | B63: 1 | D63: 1 | F63: 3 | G63: 4 | P63: 1 | Q63: 3 | T63: 4 | W63: 1 | Y63: 1 | Z63: 1 | AC63: 2 | AE63: 2 | AG63: 2 | AH63: 16 | AJ63: 5 | AS63: 1 | AT63: 45 | AV63: 4 | AW63: 4 | BA63: 11 | BF63: 8 | BG63: 3 | BH63: 3 | BQ63: 1 | BW63: 3 | BX63: 1 | BZ63: 3 | CC63: 3 | CF63: 2 | CM63: 6 | CP63: 1 | CS63: 1 | DA63: 6 | DC63: 9 | DD63: 21 | DF63: 1 | DK63: 1 | DM63: 1 | DO63: 1 | DP63: 27 | DR63: 5 | DS63: 2 | DW63: 10 | EB63: 13 | EC63: 7 | EE63: 1 | EF63: 1 | EM63: 4 | EV63: 4 | EY63: 3 | FA63: 2 | FB63: 2 | FG63: 1 | FI63: 1 | FL63: 1 | FO63: 1 | FQ63: 1 | FR63: 1 | FU63: 2 | FV63: 1 | FX63: 1 | FZ63: 15 | GA63: 1 | GB63: 7 | GI63: 1 | GJ63: 1 | GK63: 1 | GL63: 5 | GN63: 1 | GO63: 3 | GS63: 3 | GT63: 1 | GX63: 3 | GY63: 3 | GZ63: 4
A64: Chile | AW64: 1
A65: China | D65: 1 | G65: 3 | K65: 1 | M65: 1 | AD65: 2 | AE65: 2 | AF65: 2 | AG65: 3 | AI65: 4 | AJ65: 2 | AS65: 3 | AT65: 6 | AU65: 1 | AV65: 1 | AW65: 1 | BA65: 1 | BF65: 2 | BG65: 6 | BZ65: 1 | CC65: 1 | CD65: 1 | CE65: 2 | CF65: 1 | CZ65: 1 | DA65: 2 | DB65: 1 | DD65: 1 | DE65: 3 | DF65: 2 | DO65: 1 | DP65: 3 | DR65: 2 | DW65: 4 | EB65: 4 | EC65: 9 | EM65: 1 | EP65: 2 | EV65: 1 | EX65: 1 | EY65: 1 | EZ65: 1 | FA65: 2 | FB65: 1 | FV65: 1 | FW65: 2 | FX65: 1 | GA65: 2 | GB65: 1 | GG65: 1 | GM65: 1 | GN65: 1 | GS65: 1 | GY65: 6 | GZ65: 1
A66: Columbia | AH66: 1 | FE66: 1 | FV66: 1 | GX66: 1
A67: Denmark | AE67: 1
A68: Egypt | DN68: 1 | DQ68: 1 | EI68: 2 | EO68: 1 | ES68: 1 | GX68: 1
A69: El Salvador | EO69: 1
A70: Ethiopia | AR70: 1 | CK70: 1 | DB70: 1
A71: France | Q71: 2 | DM71: 1 | FX71: 1 | GN71: 1
A72: Ghana | BD72: 1 | FZ72: 1
A73: Greece | DC73: 1
A74: Guyana | AT74: 1
A75: Haiti | CK75: 1
A76: Honduras | Z76: 1
A77: Hungary | BZ77: 1
A78: Italy | CJ78: 1 | FI78: 2
A79: Iran | F79: 1 | G79: 1 | AT79: 2 | BF79: 1 | CC79: 1 | DD79: 1 | DR79: 2 | EI79: 1 | FA79: 1 | GG79: 1 | GL79: 2 | GN79: 1 | GO79: 1
A80: Iraq | AI80: 1 | DD80: 1 | EV80: 1 | EY80: 1 | FZ80: 1
A81: India | J81: 1 | O81: 1 | Q81: 2 | S81: 1 | AH81: 1 | AS81: 1 | AT81: 1 | BH81: 1 | CF81: 1 | CV81: 1 | DC81: 1 | DF81: 1 | DR81: 1 | DU81: 1 | EI81: 1 | EM81: 1 | EV81: 1 | EX81: 1 | FB81: 1 | FL81: 1 | GL81: 2 | GT81: 1
A82: Indonesia | AT82: 2 | BF82: 1 | GK82: 1
A83: Kuwait | G83: 1 | AM83: 1 | AO83: 2 | BF83: 3 | BS83: 4 | BV83: 1 | DI83: 2 | DK83: 3 | DP83: 1 | EO83: 6 | ER83: 1 | EY83: 1 | GE83: 3 | GG83: 2 | GL83: 1 | GX83: 3 | HK83: 1
A84: Jamaica | Q84: 1 | CK84: 1 | FG84: 1
A85: Joran | F85: 1 | AG85: 1 | DO85: 1
A86: Malaysia | AJ86: 1 | EX86: 1
A87: Mexico | AD87: 1 | AG87: 1 | AO87: 1 | AQ87: 2 | EI87: 2 | FA87: 1 | GA87: 1
A88: Moldova | M88: 1
A89: Morocco | AT89: 2
A90: Nepal | FZ90: 1
A91: Nigeria | DU91: 1 | FI91: 1 | FW91: 1
A92: Pakistan | BF92: 1 | GO92: 1 | GZ92: 1
A93: Palestine | AJ93: 1 | BF93: 1
A94: Peru | G94: 1
A95: Poland | AT95: 1
A96: Russia | AT96: 1 | ED96: 1
A97: Saint Lucia | O97: 1
A98: Singapore | EI98: 1
A99: South Korea | F99: 5 | G99: 1 | H99: 1 | J99: 3 | K99: 1 | Q99: 1 | AE99: 1 | AH99: 1 | AR99: 2 | AS99: 1 | AT99: 18 | AV99: 3 | BA99: 2 | BB99: 1 | BE99: 1 | BG99: 1 | BJ99: 1 | BM99: 1 | CC99: 1 | CF99: 3 | CM99: 1 | DD99: 3 | DF99: 1 | DN99: 1 | DO99: 1 | DP99: 17 | DQ99: 1 | DR99: 2 | DW99: 3 | EB99: 1 | EC99: 2 | EX99: 9 | EY99: 3 | FA99: 2 | FB99: 4 | FE99: 2 | FO99: 1 | FW99: 3 | FX99: 1 | FZ99: 1 | GJ99: 1 | GM99: 2 | GN99: 1 | GS99: 1 | GX99: 1 | GY99: 1 | GZ99: 2
A100: Sweden | HK100: 1
...
