Workbook

Sheet Rank
A1: id | B1: Name | C1: State | D1: Living Expenses | E1: LivingRank | F1: In State tuition | G1: InState Rank | H1: Total In State | I1: Total InState Rank | J1: Out of State tuition | K1: Out of State Rank | L1: Total Out Of State | M1: Total Out of State Rank | N1: NAVLE Pass | O1: MapPosX | P1: MapPosY | Q1: VetSupplyImg | R1: Note
A2: aub | B2: Auburn | C2: Alabama | D2: 83319 | E2: =RANK(D2,D2:D32) -> 10 | F2: 88030 | G2: =RANK(F2,F2:F32,1) -> 9 | H2: =F2+D2 -> 171349 | I2: =RANK(H2,H2:H32,1) -> 13 | J2: 194402 | K2: =RANK(J2,J2:J32,1) -> 16 | L2: =J2+D2 -> 277721 | M2: =RANK(L2,L2:L32,1) -> 19 | N2: 98 | O2: 530 | P2: 385 | Q2: Auburn.png
A3: cos | B3: Colorado | C3: Colorado | D3: 61997 | E3: =RANK(D3,D2:D32) -> 27 | F3: 113140 | G3: =RANK(F3,F2:F32,1) -> 19 | H3: =F3+D3 -> 175137 | I3: =RANK(H3,H2:H32,1) -> 15 | J3: 238533 | K3: =RANK(J3,J2:J32,1) -> 28 | L3: =J3+D3 -> 300530 | M3: =RANK(L3,L2:L32,1) -> 24 | N3: 98 | O3: 250 | P3: 250 | Q3: Colorado.png
A4: cor | B4: Cornell | C4: New York | D4: 74134 | E4: =RANK(D4,D2:D32) -> 15 | F4: 131776 | G4: =RANK(F4,F2:F32,1) -> 23 | H4: =F4+D4 -> 205910 | I4: =RANK(H4,H2:H32,1) -> 22 | J4: 198337 | K4: =RANK(J4,J2:J32,1) -> 18 | L4: =J4+D4 -> 272471 | M4: =RANK(L4,L2:L32,1) -> 18 | N4: 98 | O4: 658 | P4: 135 | Q4: Cornell.png
A5: fls | B5: Florida | C5: Florida | D5: 69867 | E5: =RANK(D5,D2:D32) -> 21 | F5: 125950 | G5: =RANK(F5,F2:F32,1) -> 21 | H5: =F5+D5 -> 195817 | I5: =RANK(H5,H2:H32,1) -> 20 | J5: 219968 | K5: =RANK(J5,J2:J32,1) -> 26 | L5: =J5+D5 -> 289835 | M5: =RANK(L5,L2:L32,1) -> 23 | N5: 100 | O5: 608 | P5: 420 | Q5: Florida.png
A6: gas | B6: Georgia | C6: Georgia | D6: 70471 | E6: =RANK(D6,D2:D32) -> 20 | F6: 76547 | G6: =RANK(F6,F2:F32,1) -> 3 | H6: =F6+D6 -> 147018 | I6: =RANK(H6,H2:H32,1) -> 4 | J6: 190359 | K6: =RANK(J6,J2:J32,1) -> 14 | L6: =J6+D6 -> 260830 | M6: =RANK(L6,L2:L32,1) -> 14 | N6: 98 | O6: 580 | P6: 370 | Q6: Georgia.png
A7: ils | B7: Illinois | C7: Illinois | D7: 76832 | E7: =RANK(D7,D2:D32) -> 14 | F7: 110889 | G7: =RANK(F7,F2:F32,1) -> 18 | H7: =F7+D7 -> 187721 | I7: =RANK(H7,H2:H32,1) -> 19 | J7: 184684 | K7: =RANK(J7,J2:J32,1) -> 12 | L7: =J7+D7 -> 261516 | M7: =RANK(L7,L2:L32,1) -> 15 | N7: 95 | O7: 475 | P7: 225 | Q7: Illinois.png
A8: isu | B8: ISU | C8: Iowa | D8: 53997 | E8: =RANK(D8,D2:D32) -> 28 | F8: 85879 | G8: =RANK(F8,F2:F32,1) -> 6 | H8: =F8+D8 -> 139876 | I8: =RANK(H8,H2:H32,1) -> 2 | J8: 188458 | K8: =RANK(J8,J2:J32,1) -> 13 | L8: =J8+D8 -> 242455 | M8: =RANK(L8,L2:L32,1) -> 6 | N8: 99 | O8: 415 | P8: 200 | Q8: Iowa.png
A9: ksu | B9: K State | C9: Kansas | D9: 50833 | E9: =RANK(D9,D2:D32) -> 29 | F9: 104874 | G9: =RANK(F9,F2:F32,1) -> 16 | H9: =F9+D9 -> 155707 | I9: =RANK(H9,H2:H32,1) -> 8 | J9: 229273 | K9: =RANK(J9,J2:J32,1) -> 27 | L9: =J9+D9 -> 280106 | M9: =RANK(L9,L2:L32,1) -> 20 | N9: 98 | O9: 350 | P9: 260 | Q9: Kansas.png
A10: lsu | B10: LSU | C10: Louisianna | D10: 50070 | E10: =RANK(D10,D2:D32) -> 30 | F10: 87905 | G10: =RANK(F10,F2:F32,1) -> 8 | H10: =F10+D10 -> 137975 | I10: =RANK(H10,H2:H32,1) -> 1 | J10: 203545 | K10: =RANK(J10,J2:J32,1) -> 19 | L10: =J10+D10 -> 253615 | M10: =RANK(L10,L2:L32,1) -> 10 | N10: 97 | O10: 435 | P10: 400 | Q10: LSU.png
A11: mic | B11: Michigan | C11: Michigan | D11: 82582 | E11: =RANK(D11,D2:D32) -> 12 | F11: 122313 | G11: =RANK(F11,F2:F32,1) -> 20 | H11: =F11+D11 -> 204895 | I11: =RANK(H11,H2:H32,1) -> 21 | J11: 244957 | K11: =RANK(J11,J2:J32,1) -> 29 | L11: =J11+D11 -> 327539 | M11: =RANK(L11,L2:L32,1) -> 30 | O11: 530 | P11: 170 | Q11: Michigan.png
A12: mns | B12: Minnesota | C12: Minnesota | D12: 62609 | E12: =RANK(D12,D2:D32) -> 26 | F12: 145474 | G12: =RANK(F12,F2:F32,1) -> 24 | H12: =F12+D12 -> 208083 | I12: =RANK(H12,H2:H32,1) -> 23 | J12: 251944 | K12: =RANK(J12,J2:J32,1) -> 31 | L12: =J12+D12 -> 314553 | M12: =RANK(L12,L2:L32,1) -> 28 | N12: 97 | O12: 400 | P12: 140 | Q12: Minnesota.png
A13: mss | B13: Mississippi State | C13: Mississippi | D13: 73953 | E13: =RANK(D13,D2:D32) -> 16 | F13: 80729 | G13: =RANK(F13,F2:F32,1) -> 4 | H13: =F13+D13 -> 154682 | I13: =RANK(H13,H2:H32,1) -> 7 | J13: 192784 | K13: =RANK(J13,J2:J32,1) -> 15 | L13: =J13+D13 -> 266737 | M13: =RANK(L13,L2:L32,1) -> 17 | N13: 94 | O13: 480 | P13: 375 | T13: 217535.6
A14: mrs | B14: Missouri | C14: Missouri | D14: 81530 | E14: =RANK(D14,D2:D32) -> 13 | F14: 90056 | G14: =RANK(F14,F2:F32,1) -> 10 | H14: =F14+D14 -> 171586 | I14: =RANK(H14,H2:H32,1) -> 14 | J14: 119362 | K14: =RANK(J14,J2:J32,1) -> 3 | L14: =J14+D14 -> 200892 | M14: =RANK(L14,L2:L32,1) -> 3 | N14: 100 | O14: 430 | P14: 260 | Q14: missouri.png | R14: Tuition fees of up to $221,411 can be expected if the student does not establish in-state residency after the first year.
A15: ncs | B15: NC State | C15: North Carolina | D15: 88711 | E15: =RANK(D15,D2:D32) -> 9 | F15: 72782 | G15: =RANK(F15,F2:F32,1) -> 2 | H15: =F15+D15 -> 161493 | I15: =RANK(H15,H2:H32,1) -> 12 | J15: 95544 | K15: =RANK(J15,J2:J32,1) -> 1 | L15: =J15+D15 -> 184255 | M15: =RANK(L15,L2:L32,1) -> 1 | N15: 99 | O15: 650 | P15: 295 | Q15: North_Carolina.png | R15: Tuition fees of up to $217,535 can be expected if the student does not establish in-state residency after the first year.
A16: oks | B16: Oklahoma | C16: Oklahoma | D16: 71548 | E16: =RANK(D16,D2:D32) -> 18 | F16: 71853 | G16: =RANK(F16,F2:F32,1) -> 1 | H16: =F16+D16 -> 143401 | I16: =RANK(H16,H2:H32,1) -> 3 | J16: 162662 | K16: =RANK(J16,J2:J32,1) -> 8 | L16: =J16+D16 -> 234210 | M16: =RANK(L16,L2:L32,1) -> 5 | N16: 98 | O16: 365 | P16: 315 | Q16: Oklahoma.png
A17: ors | B17: Oregon State | C17: Oregon | D17: 62919 | E17: =RANK(D17,D2:D32) -> 25 | F17: 94449 | G17: =RANK(F17,F2:F32,1) -> 11 | H17: =F17+D17 -> 157368 | I17: =RANK(H17,H2:H32,1) -> 9 | J17: 179619 | K17: =RANK(J17,J2:J32,1) -> 10 | L17: =J17+D17 -> 242538 | M17: =RANK(L17,L2:L32,1) -> 7 | N17: 98 | O17: 65 | P17: 125 | Q17: Oregon.png
A18: ohs | B18: OSU-Ohio | C18: Ohio | D18: 94599 | E18: =RANK(D18,D2:D32) -> 6 | F18: 130172 | G18: =RANK(F18,F2:F32,1) -> 22 | H18: =F18+D18 -> 224771 | I18: =RANK(H18,H2:H32,1) -> 24 | J18: 163646 | K18: =RANK(J18,J2:J32,1) -> 9 | L18: =J18+D18 -> 258245 | M18: =RANK(L18,L2:L32,1) -> 11 | N18: 98 | O18: 563 | P18: 220 | Q18: Ohio.png | R18: Tuition fees of up to $280,209 can be expected if the student does not establish in-state residency after the first year.
A19: pur | B19: Purdue | C19: Indiana | D19: 64212 | E19: =RANK(D19,D2:D32) -> 24 | F19: 86623 | G19: =RANK(F19,F2:F32,1) -> 7 | H19: =F19+D19 -> 150835 | I19: =RANK(H19,H2:H32,1) -> 6 | J19: 197907 | K19: =RANK(J19,J2:J32,1) -> 17 | L19: =J19+D19 -> 262119 | M19: =RANK(L19,L2:L32,1) -> 16 | O19: 520 | P19: 240 | Q19: Purdue.png
A20: ros | B20: Ross | C20: Islands | D20: 102322 | E20: =RANK(D20,D2:D32) -> 2 | F20: 211975 | G20: =RANK(F20,F2:F32,1) -> 30 | H20: =F20+D20 -> 314297 | I20: =RANK(H20,H2:H32,1) -> 31 | J20: 211975 | K20: =RANK(J20,J2:J32,1) -> 21 | L20: =J20+D20 -> 314297 | M20: =RANK(L20,L2:L32,1) -> 27 | N20: 94 | O20: 315 | P20: 525 | Q20: ross_shortage.png
A21: stg | B21: St Georges | C21: Islands | D21: 102322 | E21: =RANK(D21,D2:D32) -> 2 | F21: 183064 | G21: =RANK(F21,F2:F32,1) -> 28 | H21: =F21+D21 -> 285386 | I21: =RANK(H21,H2:H32,1) -> 28 | J21: 183064 | K21: =RANK(J21,J2:J32,1) -> 11 | L21: =J21+D21 -> 285386 | M21: =RANK(L21,L2:L32,1) -> 21 | O21: 475 | P21: 525
A22: stm | B22: St Matthews | C22: Islands | D22: 102322 | E22: =RANK(D22,D2:D32) -> 2 | F22: 158427 | G22: =RANK(F22,F2:F32,1) -> 26 | H22: =F22+D22 -> 260749 | I22: =RANK(H22,H2:H32,1) -> 26 | J22: 158427 | K22: =RANK(J22,J2:J32,1) -> 5 | L22: =J22+D22 -> 260749 | M22: =RANK(L22,L2:L32,1) -> 13 | O22: 665 | P22: 525
A23: tam | B23: TAMU | C23: Texas | D23: 66091 | E23: =RANK(D23,D2:D32) -> 23 | F23: 95105 | G23: =RANK(F23,F2:F32,1) -> 12 | H23: =F23+D23 -> 161196 | I23: =RANK(H23,H2:H32,1) -> 11 | J23: 143256 | K23: =RANK(J23,J2:J32,1) -> 4 | L23: =J23+D23 -> 209347 | M23: =RANK(L23,L2:L32,1) -> 4 | N23: 99 | O23: 330 | P23: 385 | Q23: Texas.png
A24: tuf | B24: Tufts | C24: Massacheusetts | D24: 71440 | E24: =RANK(D24,D2:D32) -> 19 | F24: 189400 | G24: =RANK(F24,F2:F32,1) -> 29 | H24: =F24+D24 -> 260840 | I24: =RANK(H24,H2:H32,1) -> 27 | J24: 215161 | K24: =RANK(J24,J2:J32,1) -> 25 | L24: =J24+D24 -> 286601 | M24: =RANK(L24,L2:L32,1) -> 22 | N24: 99 | O24: 717 | P24: 156 | Q24: Tufts.png
A25: tus | B25: Tuskegee | C25: Alabama | D25: 83319 | E25: =RANK(D25,D2:D32) -> 10 | F25: 97353 | G25: =RANK(F25,F2:F32,1) -> 13 | H25: =F25+D25 -> 180672 | I25: =RANK(H25,H2:H32,1) -> 17 | J25: 162569 | K25: =RANK(J25,J2:J32,1) -> 7 | L25: =J25+D25 -> 245888 | M25: =RANK(L25,L2:L32,1) -> 8 | O25: 523 | P25: 347
A26: upn | B26: U Penn | C26: Pennsylvania | D26: 124347 | E26: =RANK(D26,D2:D32) -> 1 | F26: 171462 | G26: =RANK(F26,F2:F32,1) -> 27 | H26: =F26+D26 -> 295809 | I26: =RANK(H26,H2:H32,1) -> 29 | J26: 214890 | K26: =RANK(J26,J2:J32,1) -> 24 | L26: =J26+D26 -> 339237 | M26: =RANK(L26,L2:L32,1) -> 31 | N26: 99 | O26: 630 | P26: 200 | Q26: penn.png
A27: ucd | B27: UCDavis | C27: California | D27: 92530 | E27: =RANK(D27,D2:D32) -> 7 | F27: 148320 | G27: =RANK(F27,F2:F32,1) -> 25 | H27: =F27+D27 -> 240850 | I27: =RANK(H27,H2:H32,1) -> 25 | J27: 160565 | K27: =RANK(J27,J2:J32,1) -> 6 | L27: =J27+D27 -> 253095 | M27: =RANK(L27,L2:L32,1) -> 9 | N27: 97 | O27: 30 | P27: 200 | Q27: Davis.png | R27: Tuition fees of up to $203,205 can be expected if the student does not establish in-state residency after the first year.
A28: utn | B28: U Tenn | C28: Tennessee | D28: 89176 | E28: =RANK(D28,D2:D32) -> 8 | F28: 98312 | G28: =RANK(F28,F2:F32,1) -> 14 | H28: =F28+D28 -> 187488 | I28: =RANK(H28,H2:H32,1) -> 18 | J28: 211864 | K28: =RANK(J28,J2:J32,1) -> 20 | L28: =J28+D28 -> 301040 | M28: =RANK(L28,L2:L32,1) -> 25 | N28: 100 | O28: 520 | P28: 310 | Q28: tennessee.png
A29: vam | B29: VA MD | C29: Virginia | D29: 47411 | E29: =RANK(D29,D2:D32) -> 31 | F29: 99783 | G29: =RANK(F29,F2:F32,1) -> 15 | H29: =F29+D29 -> 147194 | I29: =RANK(H29,H2:H32,1) -> 5 | J29: 212810 | K29: =RANK(J29,J2:J32,1) -> 22 | L29: =J29+D29 -> 260221 | M29: =RANK(L29,L2:L32,1) -> 12 | N29: 100 | O29: 630 | P29: 262 | Q29: virginia.png
A30: was | B30: Washington | C30: Washington | D30: 67376 | E30: =RANK(D30,D2:D32) -> 22 | F30: 108496 | G30: =RANK(F30,F2:F32,1) -> 17 | H30: =F30+D30 -> 175872 | I30: =RANK(H30,H2:H32,1) -> 16 | J30: 247686 | K30: =RANK(J30,J2:J32,1) -> 30 | L30: =J30+D30 -> 315062 | M30: =RANK(L30,L2:L32,1) -> 29 | N30: 97 | O30: 85 | P30: 65 | Q30: Washington.png
A31: wst | B31: Western | C31: California | D31: 96508 | E31: =RANK(D31,D2:D32) -> 5 | F31: 214679 | G31: =RANK(F31,F2:F32,1) -> 31 | H31: =F31+D31 -> 311187 | I31: =RANK(H31,H2:H32,1) -> 30 | J31: 214679 | K31: =RANK(J31,J2:J32,1) -> 23 | L31: =J31+D31 -> 311187 | M31: =RANK(L31,L2:L32,1) -> 26 | N31: 96 | O31: 45 | P31: 275 | Q31: Western.png
A32: wis | B32: Wisconsin | C32: Wisconsin | D32: 72798 | E32: =RANK(D32,D2:D32) -> 17 | F32: 85323 | G32: =RANK(F32,F2:F32,1) -> 5 | H32: =F32+D32 -> 158121 | I32: =RANK(H32,H2:H32,1) -> 10 | J32: 115999 | K32: =RANK(J32,J2:J32,1) -> 2 | L32: =J32+D32 -> 188797 | M32: =RANK(L32,L2:L32,1) -> 2 | N32: 98 | O32: 460 | P32: 145 | Q32: Wisconsin.png

Sheet Tuition
A1: In-state tuition | F1: CLASS OF 2016 | G1: Out-of-state Tuition
A2: year 1 | B2: year 2 | C2: year 3 | D2: year 4 | H2: year 1 | I2: year 2 | J2: year 3 | K2: year 4
A3: 12-13 in | B3: 13-14 in | C3: 14-15 in | D3: 15-16 in | F3: % annual increase | H3: 12-13out | I3: 13-14 out | J3: 14-15out | K3: 15-16out
E4: TOTAL | F4: 0.0764 | G4: TOTAL
A5: 19640 | B5: =A5*(1+$F$4) -> 21140.496 | C5: =B5*(1+$F$4) -> 22755.63 | D5: =C5*(1+$F$4) -> 24494.16 | E5: =SUM(A5:D5) -> 88030.286 | F5: Auburn University College of Veterinary Medicine | G5: =SUM(H5:K5) -> 194401.71 | H5: 43372 | I5: =H5*(1+$F$4) -> 46685.621 | J5: =I5*(1+$F$4) -> 50252.402 | K5: =J5*(1+$F$4) -> 54091.686
A6: 29400 | B6: =A6*(1+$F$4) -> 31646.16 | C6: =B6*(1+$F$4) -> 34063.927 | D6: =C6*(1+$F$4) -> 36666.411 | E6: =SUM(A6:D6) -> 131776.5 | F6: Cornell University College of Veterinary Medicine | G6: =SUM(H6:K6) -> 198337.07 | H6: 44250 | I6: =H6*(1+$F$4) -> 47630.7 | J6: =I6*(1+$F$4) -> 51269.685 | K6: =J6*(1+$F$4) -> 55186.689
A7: 25242 | B7: =A7*(1+$F$4) -> 27170.489 | C7: =B7*(1+$F$4) -> 29246.314 | D7: =C7*(1+$F$4) -> 31480.733 | E7: =SUM(A7:D7) -> 113139.54 | F7: Colorado State University College of Veterinary Medicine | G7: =SUM(H7:K7) -> 238533.39 | H7: 53218 | I7: =H7*(1+$F$4) -> 57283.855 | J7: =I7*(1+$F$4) -> 61660.342 | K7: =J7*(1+$F$4) -> 66371.192
A8: 28100 | B8: =A8*(1+$F$4) -> 30246.84 | C8: =B8*(1+$F$4) -> 32557.699 | D8: =C8*(1+$F$4) -> 35045.107 | E8: =SUM(A8:D8) -> 125949.65 | F8: University of Florida College of Veterinary Medicine | G8: =SUM(H8:K8) -> 219968.14 | H8: 49076 | I8: =H8*(1+$F$4) -> 52825.406 | J8: =I8*(1+$F$4) -> 56861.267 | K8: =J8*(1+$F$4) -> 61205.468
A9: 24740 | B9: =A9*(1+$F$4) -> 26630.136 | C9: =B9*(1+$F$4) -> 28664.678 | D9: =C9*(1+$F$4) -> 30854.66 | E9: =SUM(A9:D9) -> 110889.47 | F9: University of Illinois College of Veterinary Medicine | G9: =SUM(H9:K9) -> 184684.31 | H9: 41204 | I9: =H9*(1+$F$4) -> 44351.986 | J9: =I9*(1+$F$4) -> 47740.477 | K9: =J9*(1+$F$4) -> 51387.85
A10: 19160 | B10: =A10*(1+$F$4) -> 20623.824 | C10: =B10*(1+$F$4) -> 22199.484 | D10: =C10*(1+$F$4) -> 23895.525 | E10: =SUM(A10:D10) -> 85878.833 | F10: Iowa State University College of Veterinary Medicine | G10: =SUM(H10:K10) -> 188458.32 | H10: 42046 | I10: =H10*(1+$F$4) -> 45258.314 | J10: =I10*(1+$F$4) -> 48716.05 | K10: =J10*(1+$F$4) -> 52437.956
A11: 23398 | B11: =A11*(1+$F$4) -> 25185.607 | C11: =B11*(1+$F$4) -> 27109.788 | D11: =C11*(1+$F$4) -> 29180.975 | E11: =SUM(A11:D11) -> 104874.37 | F11: Kansas State University College of Veterinary Medicine | G11: =SUM(H11:K11) -> 229273.18 | H11: 51152 | I11: =H11*(1+$F$4) -> 55060.013 | J11: =I11*(1+$F$4) -> 59266.598 | K11: =J11*(1+$F$4) -> 63794.566
A12: 19612 | B12: =A12*(1+$F$4) -> 21110.357 | C12: =B12*(1+$F$4) -> 22723.188 | D12: =C12*(1+$F$4) -> 24459.24 | E12: =SUM(A12:D12) -> 87904.784 | F12: Louisiana State University College of Veterinary Medicine | G12: =SUM(H12:K12) -> 203545.38 | H12: 45412 | I12: =H12*(1+$F$4) -> 48881.477 | J12: =I12*(1+$F$4) -> 52616.022 | K12: =J12*(1+$F$4) -> 56635.886
A13: 32456 | B13: =A13*(1+$F$4) -> 34935.638 | C13: =B13*(1+$F$4) -> 37604.721 | D13: =C13*(1+$F$4) -> 40477.722 | E13: =SUM(A13:D13) -> 145474.08 | F13: University of Minnesota College of Veterinary Medicine | G13: =SUM(H13:K13) -> 251944.11 | H13: 56210 | I13: =H13*(1+$F$4) -> 60504.444 | J13: =I13*(1+$F$4) -> 65126.984 | K13: =J13*(1+$F$4) -> 70102.685
A14: 18011 | B14: =A14*(1+$F$4) -> 19387.04 | C14: =B14*(1+$F$4) -> 20868.21 | D14: =C14*(1+$F$4) -> 22462.542 | E14: =SUM(A14:D14) -> 80728.792 | F14: Mississippi State University College of Veterinary Medicine | G14: =SUM(H14:K14) -> 192783.64 | H14: 43011 | I14: =H14*(1+$F$4) -> 46297.04 | J14: =I14*(1+$F$4) -> 49834.134 | K14: =J14*(1+$F$4) -> 53641.462
A15: 26016 | B15: =A15*(1+$F$4) -> 28003.622 | C15: 15072 | D15: 53221 | E15: =SUM(A15:D15) -> 122312.62 | F15: Michigan State University College of Veterinary Medicine | G15: =SUM(H15:K15) -> 244956.54 | H15: 52206 | I15: =H15*(1+$F$4) -> 56194.538 | J15: 30244 | K15: 106312
A16: 16238 | B16: =A16*(1+$F$4) -> 17478.583 | C16: =B16*(1+$F$4) -> 18813.947 | D16: =C16*(1+$F$4) -> 20251.333 | E16: =SUM(A16:D16) -> 72781.863 | F16: North Carolina State University College Veterinary Medicine NONRESx4 | G16: =SUM(H16:K16) -> 174805.56 | H16: 39000 | I16: =H16*(1+$F$4) -> 41979.6 | J16: =I16*(1+$F$4) -> 45186.841 | K16: =J16*(1+$F$4) -> 48639.116
A17: 16238 | B17: =A17*(1+$F$4) -> 17478.583 | C17: =B17*(1+$F$4) -> 18813.947 | D17: =C17*(1+$F$4) -> 20251.333 | E17: =SUM(A17:D17) -> 72781.863 | F17: North Carolina State University College of Veterinary Medicine | G17: =SUM(H17:K17) -> 95544 | H17: 39000 | I17: 17479 | J17: 18814 | K17: 20251
A18: 15835 | B18: 17316 | C18: 18639 | D18: 20063 | E18: =SUM(A18:D18) -> 71853 | F18: Oklahoma State University College of Veterinary Medicine | G18: =SUM(H18:K18) -> 162662 | H18: 36095 | I18: 39124 | J18: 42113 | K18: 45330
A19: 21072 | B19: =A19*(1+$F$4) -> 22681.901 | C19: =B19*(1+$F$4) -> 24414.798 | D19: =C19*(1+$F$4) -> 26280.089 | E19: =SUM(A19:D19) -> 94448.787 | F19: Oregon State University College of Veterinary Medicine | G19: =SUM(H19:K19) -> 179619.43 | H19: 40074 | I19: =H19*(1+$F$4) -> 43135.654 | J19: =I19*(1+$F$4) -> 46431.218 | K19: =J19*(1+$F$4) -> 49978.563
A20: 29042 | B20: =A20*(1+$F$4) -> 31260.809 | C20: =B20*(1+$F$4) -> 33649.135 | D20: =C20*(1+$F$4) -> 36219.928 | E20: =SUM(A20:D20) -> 130171.87 | F20: The Ohio State University College Veterinary Medicine NONRESx4 | G20: =SUM(H20:K20) -> 280208.83 | H20: 62516 | I20: =H20*(1+$F$4) -> 67292.222 | J20: =I20*(1+$F$4) -> 72433.348 | K20: =J20*(1+$F$4) -> 77967.256
A21: 29042 | B21: =A21*(1+$F$4) -> 31260.809 | C21: =B21*(1+$F$4) -> 33649.135 | D21: =C21*(1+$F$4) -> 36219.928 | E21: =SUM(A21:D21) -> 130171.87 | F21: The Ohio State University College of Veterinary Medicine | G21: =SUM(H21:K21) -> 163645.87 | H21: 62516 | I21: 31260.809 | J21: 33649.135 | K21: 36219.928
A22: 38254 | B22: =A22*(1+$F$4) -> 41176.606 | C22: =B22*(1+$F$4) -> 44322.498 | D22: =C22*(1+$F$4) -> 47708.737 | E22: =SUM(A22:D22) -> 171461.84 | F22: University of Pennsylvania School of Veterinary Medicine | G22: =SUM(H22:K22) -> 214889.82 | H22: 47943 | I22: =H22*(1+$F$4) -> 51605.845 | J22: =I22*(1+$F$4) -> 55548.532 | K22: =J22*(1+$F$4) -> 59792.44
A23: 19326 | B23: =A23*(1+$F$4) -> 20802.506 | C23: =B23*(1+$F$4) -> 22391.818 | D23: =C23*(1+$F$4) -> 24102.553 | E23: =SUM(A23:D23) -> 86622.877 | F23: Purdue University School of Veterinary Medicine | G23: =SUM(H23:K23) -> 197906.78 | H23: 44154 | I23: =H23*(1+$F$4) -> 47527.366 | J23: =I23*(1+$F$4) -> 51158.456 | K23: =J23*(1+$F$4) -> 55066.962
A24: 20478 | B24: =A24*(1+$F$4) -> 22042.519 | C24: =B24*(1+$F$4) -> 23726.568 | D24: =C24*(1+$F$4) -> 25539.277 | E24: =SUM(A24:D24) -> 91786.364 | F24: Texas A&M University College of Veterinary Medicine | G24: =SUM(H24:K24) -> 140194.06 | H24: 31278 | I24: =H24*(1+$F$4) -> 33667.639 | J24: =I24*(1+$F$4) -> 36239.847 | K24: =J24*(1+$F$4) -> 39008.571
A25: 21934 | B25: =A25*(1+$F$4) -> 23609.758 | C25: =B25*(1+$F$4) -> 25413.543 | D25: =C25*(1+$F$4) -> 27355.138 | E25: =SUM(A25:D25) -> 98312.438 | F25: University of Tennessee College of Veterinary Medicine | G25: =SUM(H25:K25) -> 211864.34 | H25: 47268 | I25: =H25*(1+$F$4) -> 50879.275 | J25: =I25*(1+$F$4) -> 54766.452 | K25: =J25*(1+$F$4) -> 58950.609
A26: =(((41062+3360)+214)+50)+150 -> 44836 | B26: =(((41062+3360)+214)+50)+1.0764 -> 44687.076 | C26: =B26*(1+$F$4) -> 48101.169 | D26: =C26*(1+$F$4) -> 51776.098 | E26: =SUM(A26:D26) -> 189400.34 | F26: Tufts University Cummings School of Veterinary Medicine | G26: =SUM(H26:K26) -> 215160.84 | H26: =(((44346+3360)+214)+50)+150 -> 48120 | I26: =(((44346+3360)+214)+50)*1.0764 -> 51634.908 | J26: =I26*(1+$F$4) -> 55579.815 | K26: =J26*(1+$F$4) -> 59826.113
A27: 21720 | B27: =A27*(1+$F$4) -> 23379.408 | C27: =B27*(1+$F$4) -> 25165.595 | D27: =C27*(1+$F$4) -> 27088.246 | E27: =SUM(A27:D27) -> 97353.249 | F27: Tuskegee University School of Veterinary Medicine | G27: =SUM(H27:K27) -> 162569.17 | H27: 36270 | I27: =H27*(1+$F$4) -> 39041.028 | J27: =I27*(1+$F$4) -> 42023.763 | K27: =J27*(1+$F$4) -> 45234.378
A28: 33091 | B28: =A28*(1+$F$4) -> 35619.152 | C28: =B28*(1+$F$4) -> 38340.456 | D28: =C28*(1+$F$4) -> 41269.666 | E28: =SUM(A28:D28) -> 148320.27 | F28: University of California, Davis School Veterinary Medicine NONRESx4 | G28: =SUM(H28:K28) -> 203204.74 | H28: 45336 | I28: =H28*(1+$F$4) -> 48799.67 | J28: =I28*(1+$F$4) -> 52527.965 | K28: =J28*(1+$F$4) -> 56541.102
A29: 33091 | B29: =A29*(1+$F$4) -> 35619.152 | C29: =B29*(1+$F$4) -> 38340.456 | D29: =C29*(1+$F$4) -> 41269.666 | E29: =SUM(A29:D29) -> 148320.27 | F29: University of California, Davis School of Veterinary Medicine | G29: =SUM(H29:K29) -> 160565.27 | H29: 45336 | I29: 35619.152 | J29: 38340.456 | K29: 41269.666
A30: 17078 | B30: =A30*(1+$F$4) -> 18382.759 | C30: =B30*(1+$F$4) -> 19787.202 | D30: =C30*(1+$F$4) -> 21298.944 | E30: =SUM(A30:D30) -> 76546.905 | F30: University of Georgia College of Veterinary Medicine | G30: =SUM(H30:K30) -> 190358.77 | H30: 42470 | I30: =H30*(1+$F$4) -> 45714.708 | J30: =I30*(1+$F$4) -> 49207.312 | K30: =J30*(1+$F$4) -> 52966.75
A31: 20092 | B31: =A31*(1+$F$4) -> 21627.029 | C31: =B31*(1+$F$4) -> 23279.334 | D31: =C31*(1+$F$4) -> 25057.875 | E31: =SUM(A31:D31) -> 90056.238 | F31: University of Missouri College Veterinary Medicine NONRESx4 | G31: =SUM(H31:K31) -> 221411.41 | H31: 49398 | I31: =H31*(1+$F$4) -> 53172.007 | J31: =I31*(1+$F$4) -> 57234.349 | K31: =J31*(1+$F$4) -> 61607.053
A32: 20092 | B32: =A32*(1+$F$4) -> 21627.029 | C32: =B32*(1+$F$4) -> 23279.334 | D32: =C32*(1+$F$4) -> 25057.875 | E32: =SUM(A32:D32) -> 90056.238 | F32: University of Missouri College of Veterinary Medicine | G32: =SUM(H32:K32) -> 119362.24 | H32: 49398 | I32: 21627.029 | J32: 23279.334 | K32: 25057.875
A33: 22740 | B33: =A33*(1+$F$4) -> 24477.336 | C33: =B33*(1+$F$4) -> 26347.404 | D33: =C33*(1+$F$4) -> 28360.346 | E33: =SUM(A33:D33) -> 101925.09 | F33: Utah State University | G33: =SUM(H33:K33) -> 191981.32 | H33: 42832 | I33: =H33*(1+$F$4) -> 46104.365 | J33: =I33*(1+$F$4) -> 49626.738 | K33: =J33*(1+$F$4) -> 53418.221
A34: 22262 | B34: =A34*(1+$F$4) -> 23962.817 | C34: =B34*(1+$F$4) -> 25793.576 | D34: =C34*(1+$F$4) -> 27764.205 | E34: =SUM(A34:D34) -> 99782.598 | F34: Virginia-Maryland Regional College of Veterinary Medicine | G34: =SUM(H34:K34) -> 212810.08 | H34: 47479 | I34: =H34*(1+$F$4) -> 51106.396 | J34: =I34*(1+$F$4) -> 55010.924 | K34: =J34*(1+$F$4) -> 59213.759
A35: 47896 | B35: =A35*(1+$F$4) -> 51555.254 | C35: =B35*(1+$F$4) -> 55494.076 | D35: =C35*(1+$F$4) -> 59733.823 | E35: =SUM(A35:D35) -> 214679.15 | F35: Western University of Health Sciences College of Veterinary Medicine | G35: =SUM(H35:K35) -> 214679.15 | H35: 47896 | I35: =H35*(1+$F$4) -> 51555.254 | J35: =I35*(1+$F$4) -> 55494.076 | K35: =J35*(1+$F$4) -> 59733.823
A36: 19036 | B36: =A36*(1+$F$4) -> 20490.35 | C36: =B36*(1+$F$4) -> 22055.813 | D36: =C36*(1+$F$4) -> 23740.877 | E36: =SUM(A36:D36) -> 85323.041 | F36: University of Wisconsin at Madison School of Veterinary Medicine | G36: =SUM(H36:K36) -> 115999.18 | H36: 25880 | I36: =H36*(1+$F$4) -> 27857.232 | J36: =I36*(1+$F$4) -> 29985.525 | K36: =J36*(1+$F$4) -> 32276.419
A37: 24206 | B37: =A37*(1+$F$4) -> 26055.338 | C37: =B37*(1+$F$4) -> 28045.966 | D37: =C37*(1+$F$4) -> 30188.678 | E37: =SUM(A37:D37) -> 108495.98 | F37: Washington State University College of Veterinary Medicine | G37: =SUM(H37:K37) -> 247686.03 | H37: 55260 | I37: =H37*(1+$F$4) -> 59481.864 | J37: =I37*(1+$F$4) -> 64026.278 | K37: =J37*(1+$F$4) -> 68917.886
A40: In-state tuition | F40: CLASS OF 2017 | G40: Out-of-state Tuition
A41: year 1 | B41: year 2 | C41: year 3 | D41: year 4 | H41: year 1 | I41: year 2 | J41: year 3 | K41: year 4
A42: 12-13 in | B42: 13-14 in | C42: 14-15 in | D42: 15-16 in | F42: % annual increase | H42: 12-13out | I42: 13-14 out | J42: 14-15out | K42: 15-16out
...

Sheet Loan Payoff Comparison
A1: Assumptions: Stafford loans of up to 40500 were taken out each year, followed by GradPLUS loans to cover tuition and fees only. Interest is assumed to have been paid during all 4 years of school.
A3: CLASS OF 2016 | B3: IS Tuition | C3: IS Tuition: Monthly Payments | E3: OOS Tuition | F3: OOS Tuition: Monthly Payments | I3: IS Tuition: Total Paid | K3: OOS Tuition: Total Paid
C5: 10 years | D5: 25 years | F5: 10 years | G5: 25 years | I5: 10 years | J5: 25 years | K5: 10 years | L5: 25 years
A6: Auburn University College of Veterinary Medicine | B6: 88030.286 | C6: =(IF(Tuition!A5<(40500),PMT(6.8%/12,120,Tuition!A5+(Tuition!A5*0.0105),0,0),PMT(6.8%/12,120,Tuition!A5+((40500)*0.0105),0,0)+PMT(7.9%/12,120,(Tuition!A5-(40500))+((Tuition!A5-(40500))*0.042),0,0)))+(IF(Tuition!B5<(40500),PMT(6.8%/12,120,Tuition!B5+(Tuition!B5*0.0105),0,0),PMT(6.8%/12,120,Tuition!B5+((40500)*0.0105),0,0)+PMT(7.9%/12,120,(Tuition!B5-(40500))+((Tuition!B5-(40500))*0.042),0,0)))+(IF(Tuition!C5<(40500),PMT(6.8%/12,120,Tuition!C5+(Tuition!C5*0.0105),0,0),PMT(6.8%/12,120,Tuition!C5+((40500)*0.0105),0,0)+PMT(7.9%/12,120,(Tuition!C5-(40500))+((Tuition!C5-(40500))*0.042),0,0)))+(IF(Tuition!D5<(40500),PMT(6.8%/12,120,Tuition!D5+(Tuition!D5*0.0105),0,0),PMT(6.8%/12,120,Tuition!D5+((40500)*0.0105),0,0)+PMT(7.9%/12,120,(Tuition!D5-(40500))+((Tuition!D5-(40500))*0.042),0,0))) -> -1023.6925 | D6: =(IF(Tuition!A5<(40500),PMT(6.8%/12,300,Tuition!A5+(Tuition!A5*0.0105),0,0),PMT(6.8%/12,300,Tuition!A5+((40500)*0.0105),0,0)+PMT(7.9%/12,300,(Tuition!A5-(40500))+((Tuition!A5-(40500))*0.042),0,0)))+(IF(Tuition!B5<(40500),PMT(6.8%/12,300,Tuition!B5+(Tuition!B5*0.0105),0,0),PMT(6.8%/12,300,Tuition!B5+((40500)*0.0105),0,0)+PMT(7.9%/12,300,(Tuition!B5-(40500))+((Tuition!B5-(40500))*0.042),0,0)))+(IF(Tuition!C5<(40500),PMT(6.8%/12,300,Tuition!C5+(Tuition!C5*0.0105),0,0),PMT(6.8%/12,300,Tuition!C5+((40500)*0.0105),0,0)+PMT(7.9%/12,300,(Tuition!C5-(40500))+((Tuition!C5-(40500))*0.042),0,0)))+(IF(Tuition!D5<(40500),PMT(6.8%/12,300,Tuition!D5+(Tuition!D5*0.0105),0,0),PMT(6.8%/12,300,Tuition!D5+((40500)*0.0105),0,0)+PMT(7.9%/12,300,(Tuition!D5-(40500))+((Tuition!D5-(40500))*0.042),0,0))) -> -617.40909 | E6: 194401.71 | F6: =(IF(Tuition!H5<(40500),PMT(6.8%/12,120,Tuition!H5+(Tuition!H5*0.0105),0,0),PMT(6.8%/12,120,Tuition!H5+((40500)*0.0105),0,0)+PMT(7.9%/12,120,(Tuition!H5-(40500))+((Tuition!H5-(40500))*0.042),0,0)))+(IF(Tuition!I5<(40500),PMT(6.8%/12,120,Tuition!I5+(Tuition!I5*0.0105),0,0),PMT(6.8%/12,120,Tuition!I5+((40500)*0.0105),0,0)+PMT(7.9%/12,120,(Tuition!I5-(40500))+((Tuition!I5-(40500))*0.042),0,0)))+(IF(Tuition!J5<(40500),PMT(6.8%/12,120,Tuition!J5+(Tuition!J5*0.0105),0,0),PMT(6.8%/12,120,Tuition!J5+((40500)*0.0105),0,0)+PMT(7.9%/12,120,(Tuition!J5-(40500))+((Tuition!J5-(40500))*0.042),0,0)))+(IF(Tuition!K5<(40500),PMT(6.8%/12,120,Tuition!K5+(Tuition!K5*0.0105),0,0),PMT(6.8%/12,120,Tuition!K5+((40500)*0.0105),0,0)+PMT(7.9%/12,120,(Tuition!K5-(40500))+((Tuition!K5-(40500))*0.042),0,0))) -> -2664.6079 | G6: =(IF(Tuition!H5<(40500),PMT(6.8%/12,300,Tuition!H5+(Tuition!H5*0.0105),0,0),PMT(6.8%/12,300,Tuition!H5+((40500)*0.0105),0,0)+PMT(7.9%/12,300,(Tuition!H5-(40500))+((Tuition!H5-(40500))*0.042),0,0)))+(IF(Tuition!I5<(40500),PMT(6.8%/12,300,Tuition!I5+(Tuition!I5*0.0105),0,0),PMT(6.8%/12,300,Tuition!I5+((40500)*0.0105),0,0)+PMT(7.9%/12,300,(Tuition!I5-(40500))+((Tuition!I5-(40500))*0.042),0,0)))+(IF(Tuition!J5<(40500),PMT(6.8%/12,300,Tuition!J5+(Tuition!J5*0.0105),0,0),PMT(6.8%/12,300,Tuition!J5+((40500)*0.0105),0,0)+PMT(7.9%/12,300,(Tuition!J5-(40500))+((Tuition!J5-(40500))*0.042),0,0)))+(IF(Tuition!K5<(40500),PMT(6.8%/12,300,Tuition!K5+(Tuition!K5*0.0105),0,0),PMT(6.8%/12,300,Tuition!K5+((40500)*0.0105),0,0)+PMT(7.9%/12,300,(Tuition!K5-(40500))+((Tuition!K5-(40500))*0.042),0,0))) -> -1619.4466 | I6: =C6*120 -> -122843.1 | J6: =D6*300 -> -185222.73 | K6: =F6*120 -> -319752.95 | L6: =G6*300 -> -485833.99
A7: Cornell University College of Veterinary Medicine | B7: 131776.5 | C7: =(IF(Tuition!A6<(40500),PMT(6.8%/12,120,Tuition!A6+(Tuition!A6*0.0105),0,0),PMT(6.8%/12,120,Tuition!A6+((40500)*0.0105),0,0)+PMT(7.9%/12,120,(Tuition!A6-(40500))+((Tuition!A6-(40500))*0.042),0,0)))+(IF(Tuition!B6<(40500),PMT(6.8%/12,120,Tuition!B6+(Tuition!B6*0.0105),0,0),PMT(6.8%/12,120,Tuition!B6+((40500)*0.0105),0,0)+PMT(7.9%/12,120,(Tuition!B6-(40500))+((Tuition!B6-(40500))*0.042),0,0)))+(IF(Tuition!C6<(40500),PMT(6.8%/12,120,Tuition!C6+(Tuition!C6*0.0105),0,0),PMT(6.8%/12,120,Tuition!C6+((40500)*0.0105),0,0)+PMT(7.9%/12,120,(Tuition!C6-(40500))+((Tuition!C6-(40500))*0.042),0,0)))+(IF(Tuition!D6<(40500),PMT(6.8%/12,120,Tuition!D6+(Tuition!D6*0.0105),0,0),PMT(6.8%/12,120,Tuition!D6+((40500)*0.0105),0,0)+PMT(7.9%/12,120,(Tuition!D6-(40500))+((Tuition!D6-(40500))*0.042),0,0))) -> -1532.4114 | D7: =(IF(Tuition!A6<(40500),PMT(6.8%/12,300,Tuition!A6+(Tuition!A6*0.0105),0,0),PMT(6.8%/12,300,Tuition!A6+((40500)*0.0105),0,0)+PMT(7.9%/12,300,(Tuition!A6-(40500))+((Tuition!A6-(40500))*0.042),0,0)))+(IF(Tuition!B6<(40500),PMT(6.8%/12,300,Tuition!B6+(Tuition!B6*0.0105),0,0),PMT(6.8%/12,300,Tuition!B6+((40500)*0.0105),0,0)+PMT(7.9%/12,300,(Tuition!B6-(40500))+((Tuition!B6-(40500))*0.042),0,0)))+(IF(Tuition!C6<(40500),PMT(6.8%/12,300,Tuition!C6+(Tuition!C6*0.0105),0,0),PMT(6.8%/12,300,Tuition!C6+((40500)*0.0105),0,0)+PMT(7.9%/12,300,(Tuition!C6-(40500))+((Tuition!C6-(40500))*0.042),0,0)))+(IF(Tuition!D6<(40500),PMT(6.8%/12,300,Tuition!D6+(Tuition!D6*0.0105),0,0),PMT(6.8%/12,300,Tuition!D6+((40500)*0.0105),0,0)+PMT(7.9%/12,300,(Tuition!D6-(40500))+((Tuition!D6-(40500))*0.042),0,0))) -> -924.22745 | E7: 198337.07 | F7: =(IF(Tuition!H6<(40500),PMT(6.8%/12,120,Tuition!H6+(Tuition!H6*0.0105),0,0),PMT(6.8%/12,120,Tuition!H6+((40500)*0.0105),0,0)+PMT(7.9%/12,120,(Tuition!H6-(40500))+((Tuition!H6-(40500))*0.042),0,0)))+(IF(Tuition!I6<(40500),PMT(6.8%/12,120,Tuition!I6+(Tuition!I6*0.0105),0,0),PMT(6.8%/12,120,Tuition!I6+((40500)*0.0105),0,0)+PMT(7.9%/12,120,(Tuition!I6-(40500))+((Tuition!I6-(40500))*0.042),0,0)))+(IF(Tuition!J6<(40500),PMT(6.8%/12,120,Tuition!J6+(Tuition!J6*0.0105),0,0),PMT(6.8%/12,120,Tuition!J6+((40500)*0.0105),0,0)+PMT(7.9%/12,120,(Tuition!J6-(40500))+((Tuition!J6-(40500))*0.042),0,0)))+(IF(Tuition!K6<(40500),PMT(6.8%/12,120,Tuition!K6+(Tuition!K6*0.0105),0,0),PMT(6.8%/12,120,Tuition!K6+((40500)*0.0105),0,0)+PMT(7.9%/12,120,(Tuition!K6-(40500))+((Tuition!K6-(40500))*0.042),0,0))) -> -2759.432 | G7: =(IF(Tuition!H6<(40500),PMT(6.8%/12,300,Tuition!H6+(Tuition!H6*0.0105),0,0),PMT(6.8%/12,300,Tuition!H6+((40500)*0.0105),0,0)+PMT(7.9%/12,300,(Tuition!H6-(40500))+((Tuition!H6-(40500))*0.042),0,0)))+(IF(Tuition!I6<(40500),PMT(6.8%/12,300,Tuition!I6+(Tuition!I6*0.0105),0,0),PMT(6.8%/12,300,Tuition!I6+((40500)*0.0105),0,0)+PMT(7.9%/12,300,(Tuition!I6-(40500))+((Tuition!I6-(40500))*0.042),0,0)))+(IF(Tuition!J6<(40500),PMT(6.8%/12,300,Tuition!J6+(Tuition!J6*0.0105),0,0),PMT(6.8%/12,300,Tuition!J6+((40500)*0.0105),0,0)+PMT(7.9%/12,300,(Tuition!J6-(40500))+((Tuition!J6-(40500))*0.042),0,0)))+(IF(Tuition!K6<(40500),PMT(6.8%/12,300,Tuition!K6+(Tuition!K6*0.0105),0,0),PMT(6.8%/12,300,Tuition!K6+((40500)*0.0105),0,0)+PMT(7.9%/12,300,(Tuition!K6-(40500))+((Tuition!K6-(40500))*0.042),0,0))) -> -1678.1392 | I7: =C7*120 -> -183889.37 | J7: =D7*300 -> -277268.24 | K7: =F7*120 -> -331131.84 | L7: =G7*300 -> -503441.77
A8: Colorado State University College of Veterinary Medicine | B8: 113139.54 | C8: =(IF(Tuition!A7<(40500),PMT(6.8%/12,120,Tuition!A7+(Tuition!A7*0.0105),0,0),PMT(6.8%/12,120,Tuition!A7+((40500)*0.0105),0,0)+PMT(7.9%/12,120,(Tuition!A7-(40500))+((Tuition!A7-(40500))*0.042),0,0)))+(IF(Tuition!B7<(40500),PMT(6.8%/12,120,Tuition!B7+(Tuition!B7*0.0105),0,0),PMT(6.8%/12,120,Tuition!B7+((40500)*0.0105),0,0)+PMT(7.9%/12,120,(Tuition!B7-(40500))+((Tuition!B7-(40500))*0.042),0,0)))+(IF(Tuition!C7<(40500),PMT(6.8%/12,120,Tuition!C7+(Tuition!C7*0.0105),0,0),PMT(6.8%/12,120,Tuition!C7+((40500)*0.0105),0,0)+PMT(7.9%/12,120,(Tuition!C7-(40500))+((Tuition!C7-(40500))*0.042),0,0)))+(IF(Tuition!D7<(40500),PMT(6.8%/12,120,Tuition!D7+(Tuition!D7*0.0105),0,0),PMT(6.8%/12,120,Tuition!D7+((40500)*0.0105),0,0)+PMT(7.9%/12,120,(Tuition!D7-(40500))+((Tuition!D7-(40500))*0.042),0,0))) -> -1315.6847 | D8: =(IF(Tuition!A7<(40500),PMT(6.8%/12,300,Tuition!A7+(Tuition!A7*0.0105),0,0),PMT(6.8%/12,300,Tuition!A7+((40500)*0.0105),0,0)+PMT(7.9%/12,300,(Tuition!A7-(40500))+((Tuition!A7-(40500))*0.042),0,0)))+(IF(Tuition!B7<(40500),PMT(6.8%/12,300,Tuition!B7+(Tuition!B7*0.0105),0,0),PMT(6.8%/12,300,Tuition!B7+((40500)*0.0105),0,0)+PMT(7.9%/12,300,(Tuition!B7-(40500))+((Tuition!B7-(40500))*0.042),0,0)))+(IF(Tuition!C7<(40500),PMT(6.8%/12,300,Tuition!C7+(Tuition!C7*0.0105),0,0),PMT(6.8%/12,300,Tuition!C7+((40500)*0.0105),0,0)+PMT(7.9%/12,300,(Tuition!C7-(40500))+((Tuition!C7-(40500))*0.042),0,0)))+(IF(Tuition!D7<(40500),PMT(6.8%/12,300,Tuition!D7+(Tuition!D7*0.0105),0,0),PMT(6.8%/12,300,Tuition!D7+((40500)*0.0105),0,0)+PMT(7.9%/12,300,(Tuition!D7-(40500))+((Tuition!D7-(40500))*0.042),0,0))) -> -793.51528 | E8: 238533.39 | F8: =(IF(Tuition!H7<(40500),PMT(6.8%/12,120,Tuition!H7+(Tuition!H7*0.0105),0,0),PMT(6.8%/12,120,Tuition!H7+((40500)*0.0105),0,0)+PMT(7.9%/12,120,(Tuition!H7-(40500))+((Tuition!H7-(40500))*0.042),0,0)))+(IF(Tuition!I7<(40500),PMT(6.8%/12,120,Tuition!I7+(Tuition!I7*0.0105),0,0),PMT(6.8%/12,120,Tuition!I7+((40500)*0.0105),0,0)+PMT(7.9%/12,120,(Tuition!I7-(40500))+((Tuition!I7-(40500))*0.042),0,0)))+(IF(Tuition!J7<(40500),PMT(6.8%/12,120,Tuition!J7+(Tuition!J7*0.0105),0,0),PMT(6.8%/12,120,Tuition!J7+((40500)*0.0105),0,0)+PMT(7.9%/12,120,(Tuition!J7-(40500))+((Tuition!J7-(40500))*0.042),0,0)))+(IF(Tuition!K7<(40500),PMT(6.8%/12,120,Tuition!K7+(Tuition!K7*0.0105),0,0),PMT(6.8%/12,120,Tuition!K7+((40500)*0.0105),0,0)+PMT(7.9%/12,120,(Tuition!K7-(40500))+((Tuition!K7-(40500))*0.042),0,0))) -> -3727.9773 | G8: =(IF(Tuition!H7<(40500),PMT(6.8%/12,300,Tuition!H7+(Tuition!H7*0.0105),0,0),PMT(6.8%/12,300,Tuition!H7+((40500)*0.0105),0,0)+PMT(7.9%/12,300,(Tuition!H7-(40500))+((Tuition!H7-(40500))*0.042),0,0)))+(IF(Tuition!I7<(40500),PMT(6.8%/12,300,Tuition!I7+(Tuition!I7*0.0105),0,0),PMT(6.8%/12,300,Tuition!I7+((40500)*0.0105),0,0)+PMT(7.9%/12,300,(Tuition!I7-(40500))+((Tuition!I7-(40500))*0.042),0,0)))+(IF(Tuition!J7<(40500),PMT(6.8%/12,300,Tuition!J7+(Tuition!J7*0.0105),0,0),PMT(6.8%/12,300,Tuition!J7+((40500)*0.0105),0,0)+PMT(7.9%/12,300,(Tuition!J7-(40500))+((Tuition!J7-(40500))*0.042),0,0)))+(IF(Tuition!K7<(40500),PMT(6.8%/12,300,Tuition!K7+(Tuition!K7*0.0105),0,0),PMT(6.8%/12,300,Tuition!K7+((40500)*0.0105),0,0)+PMT(7.9%/12,300,(Tuition!K7-(40500))+((Tuition!K7-(40500))*0.042),0,0))) -> -2277.6327 | I8: =C8*120 -> -157882.16 | J8: =D8*300 -> -238054.59 | K8: =F8*120 -> -447357.28 | L8: =G8*300 -> -683289.82
A9: University of Florida College of Veterinary Medicine | B9: 125949.65 | C9: =(IF(Tuition!A8<(40500),PMT(6.8%/12,120,Tuition!A8+(Tuition!A8*0.0105),0,0),PMT(6.8%/12,120,Tuition!A8+((40500)*0.0105),0,0)+PMT(7.9%/12,120,(Tuition!A8-(40500))+((Tuition!A8-(40500))*0.042),0,0)))+(IF(Tuition!B8<(40500),PMT(6.8%/12,120,Tuition!B8+(Tuition!B8*0.0105),0,0),PMT(6.8%/12,120,Tuition!B8+((40500)*0.0105),0,0)+PMT(7.9%/12,120,(Tuition!B8-(40500))+((Tuition!B8-(40500))*0.042),0,0)))+(IF(Tuition!C8<(40500),PMT(6.8%/12,120,Tuition!C8+(Tuition!C8*0.0105),0,0),PMT(6.8%/12,120,Tuition!C8+((40500)*0.0105),0,0)+PMT(7.9%/12,120,(Tuition!C8-(40500))+((Tuition!C8-(40500))*0.042),0,0)))+(IF(Tuition!D8<(40500),PMT(6.8%/12,120,Tuition!D8+(Tuition!D8*0.0105),0,0),PMT(6.8%/12,120,Tuition!D8+((40500)*0.0105),0,0)+PMT(7.9%/12,120,(Tuition!D8-(40500))+((Tuition!D8-(40500))*0.042),0,0))) -> -1464.6517 | D9: =(IF(Tuition!A8<(40500),PMT(6.8%/12,300,Tuition!A8+(Tuition!A8*0.0105),0,0),PMT(6.8%/12,300,Tuition!A8+((40500)*0.0105),0,0)+PMT(7.9%/12,300,(Tuition!A8-(40500))+((Tuition!A8-(40500))*0.042),0,0)))+(IF(Tuition!B8<(40500),PMT(6.8%/12,300,Tuition!B8+(Tuition!B8*0.0105),0,0),PMT(6.8%/12,300,Tuition!B8+((40500)*0.0105),0,0)+PMT(7.9%/12,300,(Tuition!B8-(40500))+((Tuition!B8-(40500))*0.042),0,0)))+(IF(Tuition!C8<(40500),PMT(6.8%/12,300,Tuition!C8+(Tuition!C8*0.0105),0,0),PMT(6.8%/12,300,Tuition!C8+((40500)*0.0105),0,0)+PMT(7.9%/12,300,(Tuition!C8-(40500))+((Tuition!C8-(40500))*0.042),0,0)))+(IF(Tuition!D8<(40500),PMT(6.8%/12,300,Tuition!D8+(Tuition!D8*0.0105),0,0),PMT(6.8%/12,300,Tuition!D8+((40500)*0.0105),0,0)+PMT(7.9%/12,300,(Tuition!D8-(40500))+((Tuition!D8-(40500))*0.042),0,0))) -> -883.36025 | E9: 219968.14 | F9: =(IF(Tuition!H8<(40500),PMT(6.8%/12,120,Tuition!H8+(Tuition!H8*0.0105),0,0),PMT(6.8%/12,120,Tuition!H8+((40500)*0.0105),0,0)+PMT(7.9%/12,120,(Tuition!H8-(40500))+((Tuition!H8-(40500))*0.042),0,0)))+(IF(Tuition!I8<(40500),PMT(6.8%/12,120,Tuition!I8+(Tuition!I8*0.0105),0,0),PMT(6.8%/12,120,Tuition!I8+((40500)*0.0105),0,0)+PMT(7.9%/12,120,(Tuition!I8-(40500))+((Tuition!I8-(40500))*0.042),0,0)))+(IF(Tuition!J8<(40500),PMT(6.8%/12,120,Tuition!J8+(Tuition!J8*0.0105),0,0),PMT(6.8%/12,120,Tuition!J8+((40500)*0.0105),0,0)+PMT(7.9%/12,120,(Tuition!J8-(40500))+((Tuition!J8-(40500))*0.042),0,0)))+(IF(Tuition!K8<(40500),PMT(6.8%/12,120,Tuition!K8+(Tuition!K8*0.0105),0,0),PMT(6.8%/12,120,Tuition!K8+((40500)*0.0105),0,0)+PMT(7.9%/12,120,(Tuition!K8-(40500))+((Tuition!K8-(40500))*0.042),0,0))) -> -3280.6407 | G9: =(IF(Tuition!H8<(40500),PMT(6.8%/12,300,Tuition!H8+(Tuition!H8*0.0105),0,0),PMT(6.8%/12,300,Tuition!H8+((40500)*0.0105),0,0)+PMT(7.9%/12,300,(Tuition!H8-(40500))+((Tuition!H8-(40500))*0.042),0,0)))+(IF(Tuition!I8<(40500),PMT(6.8%/12,300,Tuition!I8+(Tuition!I8*0.0105),0,0),PMT(6.8%/12,300,Tuition!I8+((40500)*0.0105),0,0)+PMT(7.9%/12,300,(Tuition!I8-(40500))+((Tuition!I8-(40500))*0.042),0,0)))+(IF(Tuition!J8<(40500),PMT(6.8%/12,300,Tuition!J8+(Tuition!J8*0.0105),0,0),PMT(6.8%/12,300,Tuition!J8+((40500)*0.0105),0,0)+PMT(7.9%/12,300,(Tuition!J8-(40500))+((Tuition!J8-(40500))*0.042),0,0)))+(IF(Tuition!K8<(40500),PMT(6.8%/12,300,Tuition!K8+(Tuition!K8*0.0105),0,0),PMT(6.8%/12,300,Tuition!K8+((40500)*0.0105),0,0)+PMT(7.9%/12,300,(Tuition!K8-(40500))+((Tuition!K8-(40500))*0.042),0,0))) -> -2000.748 | I9: =C9*120 -> -175758.21 | J9: =D9*300 -> -265008.08 | K9: =F9*120 -> -393676.88 | L9: =G9*300 -> -600224.41
A10: University of Illinois College of Veterinary Medicine | B10: 110889.47 | C10: =(IF(Tuition!A9<(40500),PMT(6.8%/12,120,Tuition!A9+(Tuition!A9*0.0105),0,0),PMT(6.8%/12,120,Tuition!A9+((40500)*0.0105),0,0)+PMT(7.9%/12,120,(Tuition!A9-(40500))+((Tuition!A9-(40500))*0.042),0,0)))+(IF(Tuition!B9<(40500),PMT(6.8%/12,120,Tuition!B9+(Tuition!B9*0.0105),0,0),PMT(6.8%/12,120,Tuition!B9+((40500)*0.0105),0,0)+PMT(7.9%/12,120,(Tuition!B9-(40500))+((Tuition!B9-(40500))*0.042),0,0)))+(IF(Tuition!C9<(40500),PMT(6.8%/12,120,Tuition!C9+(Tuition!C9*0.0105),0,0),PMT(6.8%/12,120,Tuition!C9+((40500)*0.0105),0,0)+PMT(7.9%/12,120,(Tuition!C9-(40500))+((Tuition!C9-(40500))*0.042),0,0)))+(IF(Tuition!D9<(40500),PMT(6.8%/12,120,Tuition!D9+(Tuition!D9*0.0105),0,0),PMT(6.8%/12,120,Tuition!D9+((40500)*0.0105),0,0)+PMT(7.9%/12,120,(Tuition!D9-(40500))+((Tuition!D9-(40500))*0.042),0,0))) -> -1289.519 | D10: =(IF(Tuition!A9<(40500),PMT(6.8%/12,300,Tuition!A9+(Tuition!A9*0.0105),0,0),PMT(6.8%/12,300,Tuition!A9+((40500)*0.0105),0,0)+PMT(7.9%/12,300,(Tuition!A9-(40500))+((Tuition!A9-(40500))*0.042),0,0)))+(IF(Tuition!B9<(40500),PMT(6.8%/12,300,Tuition!B9+(Tuition!B9*0.0105),0,0),PMT(6.8%/12,300,Tuition!B9+((40500)*0.0105),0,0)+PMT(7.9%/12,300,(Tuition!B9-(40500))+((Tuition!B9-(40500))*0.042),0,0)))+(IF(Tuition!C9<(40500),PMT(6.8%/12,300,Tuition!C9+(Tuition!C9*0.0105),0,0),PMT(6.8%/12,300,Tuition!C9+((40500)*0.0105),0,0)+PMT(7.9%/12,300,(Tuition!C9-(40500))+((Tuition!C9-(40500))*0.042),0,0)))+(IF(Tuition!D9<(40500),PMT(6.8%/12,300,Tuition!D9+(Tuition!D9*0.0105),0,0),PMT(6.8%/12,300,Tuition!D9+((40500)*0.0105),0,0)+PMT(7.9%/12,300,(Tuition!D9-(40500))+((Tuition!D9-(40500))*0.042),0,0))) -> -777.73426 | E10: 184684.31 | F10: =(IF(Tuition!H9<(40500),PMT(6.8%/12,120,Tuition!H9+(Tuition!H9*0.0105),0,0),PMT(6.8%/12,120,Tuition!H9+((40500)*0.0105),0,0)+PMT(7.9%/12,120,(Tuition!H9-(40500))+((Tuition!H9-(40500))*0.042),0,0)))+(IF(Tuition!I9<(40500),PMT(6.8%/12,120,Tuition!I9+(Tuition!I9*0.0105),0,0),PMT(6.8%/12,120,Tuition!I9+((40500)*0.0105),0,0)+PMT(7.9%/12,120,(Tuition!I9-(40500))+((Tuition!I9-(40500))*0.042),0,0)))+(IF(Tuition!J9<(40500),PMT(6.8%/12,120,Tuition!J9+(Tuition!J9*0.0105),0,0),PMT(6.8%/12,120,Tuition!J9+((40500)*0.0105),0,0)+PMT(7.9%/12,120,(Tuition!J9-(40500))+((Tuition!J9-(40500))*0.042),0,0)))+(IF(Tuition!K9<(40500),PMT(6.8%/12,120,Tuition!K9+(Tuition!K9*0.0105),0,0),PMT(6.8%/12,120,Tuition!K9+((40500)*0.0105),0,0)+PMT(7.9%/12,120,(Tuition!K9-(40500))+((Tuition!K9-(40500))*0.042),0,0))) -> -2430.4636 | G10: =(IF(Tuition!H9<(40500),PMT(6.8%/12,300,Tuition!H9+(Tuition!H9*0.0105),0,0),PMT(6.8%/12,300,Tuition!H9+((40500)*0.0105),0,0)+PMT(7.9%/12,300,(Tuition!H9-(40500))+((Tuition!H9-(40500))*0.042),0,0)))+(IF(Tuition!I9<(40500),PMT(6.8%/12,300,Tuition!I9+(Tuition!I9*0.0105),0,0),PMT(6.8%/12,300,Tuition!I9+((40500)*0.0105),0,0)+PMT(7.9%/12,300,(Tuition!I9-(40500))+((Tuition!I9-(40500))*0.042),0,0)))+(IF(Tuition!J9<(40500),PMT(6.8%/12,300,Tuition!J9+(Tuition!J9*0.0105),0,0),PMT(6.8%/12,300,Tuition!J9+((40500)*0.0105),0,0)+PMT(7.9%/12,300,(Tuition!J9-(40500))+((Tuition!J9-(40500))*0.042),0,0)))+(IF(Tuition!K9<(40500),PMT(6.8%/12,300,Tuition!K9+(Tuition!K9*0.0105),0,0),PMT(6.8%/12,300,Tuition!K9+((40500)*0.0105),0,0)+PMT(7.9%/12,300,(Tuition!K9-(40500))+((Tuition!K9-(40500))*0.042),0,0))) -> -1474.52 | I10: =C10*120 -> -154742.28 | J10: =D10*300 -> -233320.28 | K10: =F10*120 -> -291655.63 | L10: =G10*300 -> -442356
A11: Iowa State University College of Veterinary Medicine | B11: 85878.833 | C11: =(IF(Tuition!A10<(40500),PMT(6.8%/12,120,Tuition!A10+(Tuition!A10*0.0105),0,0),PMT(6.8%/12,120,Tuition!A10+((40500)*0.0105),0,0)+PMT(7.9%/12,120,(Tuition!A10-(40500))+((Tuition!A10-(40500))*0.042),0,0)))+(IF(Tuition!B10<(40500),PMT(6.8%/12,120,Tuition!B10+(Tuition!B10*0.0105),0,0),PMT(6.8%/12,120,Tuition!B10+((40500)*0.0105),0,0)+PMT(7.9%/12,120,(Tuition!B10-(40500))+((Tuition!B10-(40500))*0.042),0,0)))+(IF(Tuition!C10<(40500),PMT(6.8%/12,120,Tuition!C10+(Tuition!C10*0.0105),0,0),PMT(6.8%/12,120,Tuition!C10+((40500)*0.0105),0,0)+PMT(7.9%/12,120,(Tuition!C10-(40500))+((Tuition!C10-(40500))*0.042),0,0)))+(IF(Tuition!D10<(40500),PMT(6.8%/12,120,Tuition!D10+(Tuition!D10*0.0105),0,0),PMT(6.8%/12,120,Tuition!D10+((40500)*0.0105),0,0)+PMT(7.9%/12,120,(Tuition!D10-(40500))+((Tuition!D10-(40500))*0.042),0,0))) -> -998.67356 | D11: =(IF(Tuition!A10<(40500),PMT(6.8%/12,300,Tuition!A10+(Tuition!A10*0.0105),0,0),PMT(6.8%/12,300,Tuition!A10+((40500)*0.0105),0,0)+PMT(7.9%/12,300,(Tuition!A10-(40500))+((Tuition!A10-(40500))*0.042),0,0)))+(IF(Tuition!B10<(40500),PMT(6.8%/12,300,Tuition!B10+(Tuition!B10*0.0105),0,0),PMT(6.8%/12,300,Tuition!B10+((40500)*0.0105),0,0)+PMT(7.9%/12,300,(Tuition!B10-(40500))+((Tuition!B10-(40500))*0.042),0,0)))+(IF(Tuition!C10<(40500),PMT(6.8%/12,300,Tuition!C10+(Tuition!C10*0.0105),0,0),PMT(6.8%/12,300,Tuition!C10+((40500)*0.0105),0,0)+PMT(7.9%/12,300,(Tuition!C10-(40500))+((Tuition!C10-(40500))*0.042),0,0)))+(IF(Tuition!D10<(40500),PMT(6.8%/12,300,Tuition!D10+(Tuition!D10*0.0105),0,0),PMT(6.8%/12,300,Tuition!D10+((40500)*0.0105),0,0)+PMT(7.9%/12,300,(Tuition!D10-(40500))+((Tuition!D10-(40500))*0.042),0,0))) -> -602.31966 | E11: 188458.32 | F11: =(IF(Tuition!H10<(40500),PMT(6.8%/12,120,Tuition!H10+(Tuition!H10*0.0105),0,0),PMT(6.8%/12,120,Tuition!H10+((40500)*0.0105),0,0)+PMT(7.9%/12,120,(Tuition!H10-(40500))+((Tuition!H10-(40500))*0.042),0,0)))+(IF(Tuition!I10<(40500),PMT(6.8%/12,120,Tuition!I10+(Tuition!I10*0.0105),0,0),PMT(6.8%/12,120,Tuition!I10+((40500)*0.0105),0,0)+PMT(7.9%/12,120,(Tuition!I10-(40500))+((Tuition!I10-(40500))*0.042),0,0)))+(IF(Tuition!J10<(40500),PMT(6.8%/12,120,Tuition!J10+(Tuition!J10*0.0105),0,0),PMT(6.8%/12,120,Tuition!J10+((40500)*0.0105),0,0)+PMT(7.9%/12,120,(Tuition!J10-(40500))+((Tuition!J10-(40500))*0.042),0,0)))+(IF(Tuition!K10<(40500),PMT(6.8%/12,120,Tuition!K10+(Tuition!K10*0.0105),0,0),PMT(6.8%/12,120,Tuition!K10+((40500)*0.0105),0,0)+PMT(7.9%/12,120,(Tuition!K10-(40500))+((Tuition!K10-(40500))*0.042),0,0))) -> -2521.3997 | G11: =(IF(Tuition!H10<(40500),PMT(6.8%/12,300,Tuition!H10+(Tuition!H10*0.0105),0,0),PMT(6.8%/12,300,Tuition!H10+((40500)*0.0105),0,0)+PMT(7.9%/12,300,(Tuition!H10-(40500))+((Tuition!H10-(40500))*0.042),0,0)))+(IF(Tuition!I10<(40500),PMT(6.8%/12,300,Tuition!I10+(Tuition!I10*0.0105),0,0),PMT(6.8%/12,300,Tuition!I10+((40500)*0.0105),0,0)+PMT(7.9%/12,300,(Tuition!I10-(40500))+((Tuition!I10-(40500))*0.042),0,0)))+(IF(Tuition!J10<(40500),PMT(6.8%/12,300,Tuition!J10+(Tuition!J10*0.0105),0,0),PMT(6.8%/12,300,Tuition!J10+((40500)*0.0105),0,0)+PMT(7.9%/12,300,(Tuition!J10-(40500))+((Tuition!J10-(40500))*0.042),0,0)))+(IF(Tuition!K10<(40500),PMT(6.8%/12,300,Tuition!K10+(Tuition!K10*0.0105),0,0),PMT(6.8%/12,300,Tuition!K10+((40500)*0.0105),0,0)+PMT(7.9%/12,300,(Tuition!K10-(40500))+((Tuition!K10-(40500))*0.042),0,0))) -> -1530.8061 | I11: =C11*120 -> -119840.83 | J11: =D11*300 -> -180695.9 | K11: =F11*120 -> -302567.96 | L11: =G11*300 -> -459241.83
A12: Kansas State University College of Veterinary Medicine | B12: 104874.37 | C12: =(IF(Tuition!A11<(40500),PMT(6.8%/12,120,Tuition!A11+(Tuition!A11*0.0105),0,0),PMT(6.8%/12,120,Tuition!A11+((40500)*0.0105),0,0)+PMT(7.9%/12,120,(Tuition!A11-(40500))+((Tuition!A11-(40500))*0.042),0,0)))+(IF(Tuition!B11<(40500),PMT(6.8%/12,120,Tuition!B11+(Tuition!B11*0.0105),0,0),PMT(6.8%/12,120,Tuition!B11+((40500)*0.0105),0,0)+PMT(7.9%/12,120,(Tuition!B11-(40500))+((Tuition!B11-(40500))*0.042),0,0)))+(IF(Tuition!C11<(40500),PMT(6.8%/12,120,Tuition!C11+(Tuition!C11*0.0105),0,0),PMT(6.8%/12,120,Tuition!C11+((40500)*0.0105),0,0)+PMT(7.9%/12,120,(Tuition!C11-(40500))+((Tuition!C11-(40500))*0.042),0,0)))+(IF(Tuition!D11<(40500),PMT(6.8%/12,120,Tuition!D11+(Tuition!D11*0.0105),0,0),PMT(6.8%/12,120,Tuition!D11+((40500)*0.0105),0,0)+PMT(7.9%/12,120,(Tuition!D11-(40500))+((Tuition!D11-(40500))*0.042),0,0))) -> -1219.5701 | D12: =(IF(Tuition!A11<(40500),PMT(6.8%/12,300,Tuition!A11+(Tuition!A11*0.0105),0,0),PMT(6.8%/12,300,Tuition!A11+((40500)*0.0105),0,0)+PMT(7.9%/12,300,(Tuition!A11-(40500))+((Tuition!A11-(40500))*0.042),0,0)))+(IF(Tuition!B11<(40500),PMT(6.8%/12,300,Tuition!B11+(Tuition!B11*0.0105),0,0),PMT(6.8%/12,300,Tuition!B11+((40500)*0.0105),0,0)+PMT(7.9%/12,300,(Tuition!B11-(40500))+((Tuition!B11-(40500))*0.042),0,0)))+(IF(Tuition!C11<(40500),PMT(6.8%/12,300,Tuition!C11+(Tuition!C11*0.0105),0,0),PMT(6.8%/12,300,Tuition!C11+((40500)*0.0105),0,0)+PMT(7.9%/12,300,(Tuition!C11-(40500))+((Tuition!C11-(40500))*0.042),0,0)))+(IF(Tuition!D11<(40500),PMT(6.8%/12,300,Tuition!D11+(Tuition!D11*0.0105),0,0),PMT(6.8%/12,300,Tuition!D11+((40500)*0.0105),0,0)+PMT(7.9%/12,300,(Tuition!D11-(40500))+((Tuition!D11-(40500))*0.042),0,0))) -> -735.54673 | E12: 229273.18 | F12: =(IF(Tuition!H11<(40500),PMT(6.8%/12,120,Tuition!H11+(Tuition!H11*0.0105),0,0),PMT(6.8%/12,120,Tuition!H11+((40500)*0.0105),0,0)+PMT(7.9%/12,120,(Tuition!H11-(40500))+((Tuition!H11-(40500))*0.042),0,0)))+(IF(Tuition!I11<(40500),PMT(6.8%/12,120,Tuition!I11+(Tuition!I11*0.0105),0,0),PMT(6.8%/12,120,Tuition!I11+((40500)*0.0105),0,0)+PMT(7.9%/12,120,(Tuition!I11-(40500))+((Tuition!I11-(40500))*0.042),0,0)))+(IF(Tuition!J11<(40500),PMT(6.8%/12,120,Tuition!J11+(Tuition!J11*0.0105),0,0),PMT(6.8%/12,120,Tuition!J11+((40500)*0.0105),0,0)+PMT(7.9%/12,120,(Tuition!J11-(40500))+((Tuition!J11-(40500))*0.042),0,0)))+(IF(Tuition!K11<(40500),PMT(6.8%/12,120,Tuition!K11+(Tuition!K11*0.0105),0,0),PMT(6.8%/12,120,Tuition!K11+((40500)*0.0105),0,0)+PMT(7.9%/12,120,(Tuition!K11-(40500))+((Tuition!K11-(40500))*0.042),0,0))) -> -3504.849 | G12: =(IF(Tuition!H11<(40500),PMT(6.8%/12,300,Tuition!H11+(Tuition!H11*0.0105),0,0),PMT(6.8%/12,300,Tuition!H11+((40500)*0.0105),0,0)+PMT(7.9%/12,300,(Tuition!H11-(40500))+((Tuition!H11-(40500))*0.042),0,0)))+(IF(Tuition!I11<(40500),PMT(6.8%/12,300,Tuition!I11+(Tuition!I11*0.0105),0,0),PMT(6.8%/12,300,Tuition!I11+((40500)*0.0105),0,0)+PMT(7.9%/12,300,(Tuition!I11-(40500))+((Tuition!I11-(40500))*0.042),0,0)))+(IF(Tuition!J11<(40500),PMT(6.8%/12,300,Tuition!J11+(Tuition!J11*0.0105),0,0),PMT(6.8%/12,300,Tuition!J11+((40500)*0.0105),0,0)+PMT(7.9%/12,300,(Tuition!J11-(40500))+((Tuition!J11-(40500))*0.042),0,0)))+(IF(Tuition!K11<(40500),PMT(6.8%/12,300,Tuition!K11+(Tuition!K11*0.0105),0,0),PMT(6.8%/12,300,Tuition!K11+((40500)*0.0105),0,0)+PMT(7.9%/12,300,(Tuition!K11-(40500))+((Tuition!K11-(40500))*0.042),0,0))) -> -2139.5246 | I12: =C12*120 -> -146348.42 | J12: =D12*300 -> -220664.02 | K12: =F12*120 -> -420581.88 | L12: =G12*300 -> -641857.39
A13: Louisiana State University College of Veterinary Medicine | B13: 87904.784 | C13: =(IF(Tuition!A12<(40500),PMT(6.8%/12,120,Tuition!A12+(Tuition!A12*0.0105),0,0),PMT(6.8%/12,120,Tuition!A12+((40500)*0.0105),0,0)+PMT(7.9%/12,120,(Tuition!A12-(40500))+((Tuition!A12-(40500))*0.042),0,0)))+(IF(Tuition!B12<(40500),PMT(6.8%/12,120,Tuition!B12+(Tuition!B12*0.0105),0,0),PMT(6.8%/12,120,Tuition!B12+((40500)*0.0105),0,0)+PMT(7.9%/12,120,(Tuition!B12-(40500))+((Tuition!B12-(40500))*0.042),0,0)))+(IF(Tuition!C12<(40500),PMT(6.8%/12,120,Tuition!C12+(Tuition!C12*0.0105),0,0),PMT(6.8%/12,120,Tuition!C12+((40500)*0.0105),0,0)+PMT(7.9%/12,120,(Tuition!C12-(40500))+((Tuition!C12-(40500))*0.042),0,0)))+(IF(Tuition!D12<(40500),PMT(6.8%/12,120,Tuition!D12+(Tuition!D12*0.0105),0,0),PMT(6.8%/12,120,Tuition!D12+((40500)*0.0105),0,0)+PMT(7.9%/12,120,(Tuition!D12-(40500))+((Tuition!D12-(40500))*0.042),0,0))) -> -1022.2331 | D13: =(IF(Tuition!A12<(40500),PMT(6.8%/12,300,Tuition!A12+(Tuition!A12*0.0105),0,0),PMT(6.8%/12,300,Tuition!A12+((40500)*0.0105),0,0)+PMT(7.9%/12,300,(Tuition!A12-(40500))+((Tuition!A12-(40500))*0.042),0,0)))+(IF(Tuition!B12<(40500),PMT(6.8%/12,300,Tuition!B12+(Tuition!B12*0.0105),0,0),PMT(6.8%/12,300,Tuition!B12+((40500)*0.0105),0,0)+PMT(7.9%/12,300,(Tuition!B12-(40500))+((Tuition!B12-(40500))*0.042),0,0)))+(IF(Tuition!C12<(40500),PMT(6.8%/12,300,Tuition!C12+(Tuition!C12*0.0105),0,0),PMT(6.8%/12,300,Tuition!C12+((40500)*0.0105),0,0)+PMT(7.9%/12,300,(Tuition!C12-(40500))+((Tuition!C12-(40500))*0.042),0,0)))+(IF(Tuition!D12<(40500),PMT(6.8%/12,300,Tuition!D12+(Tuition!D12*0.0105),0,0),PMT(6.8%/12,300,Tuition!D12+((40500)*0.0105),0,0)+PMT(7.9%/12,300,(Tuition!D12-(40500))+((Tuition!D12-(40500))*0.042),0,0))) -> -616.52887 | E13: 203545.38 | F13: =(IF(Tuition!H12<(40500),PMT(6.8%/12,120,Tuition!H12+(Tuition!H12*0.0105),0,0),PMT(6.8%/12,120,Tuition!H12+((40500)*0.0105),0,0)+PMT(7.9%/12,120,(Tuition!H12-(40500))+((Tuition!H12-(40500))*0.042),0,0)))+(IF(Tuition!I12<(40500),PMT(6.8%/12,120,Tuition!I12+(Tuition!I12*0.0105),0,0),PMT(6.8%/12,120,Tuition!I12+((40500)*0.0105),0,0)+PMT(7.9%/12,120,(Tuition!I12-(40500))+((Tuition!I12-(40500))*0.042),0,0)))+(IF(Tuition!J12<(40500),PMT(6.8%/12,120,Tuition!J12+(Tuition!J12*0.0105),0,0),PMT(6.8%/12,120,Tuition!J12+((40500)*0.0105),0,0)+PMT(7.9%/12,120,(Tuition!J12-(40500))+((Tuition!J12-(40500))*0.042),0,0)))+(IF(Tuition!K12<(40500),PMT(6.8%/12,120,Tuition!K12+(Tuition!K12*0.0105),0,0),PMT(6.8%/12,120,Tuition!K12+((40500)*0.0105),0,0)+PMT(7.9%/12,120,(Tuition!K12-(40500))+((Tuition!K12-(40500))*0.042),0,0))) -> -2884.9282 | G13: =(IF(Tuition!H12<(40500),PMT(6.8%/12,300,Tuition!H12+(Tuition!H12*0.0105),0,0),PMT(6.8%/12,300,Tuition!H12+((40500)*0.0105),0,0)+PMT(7.9%/12,300,(Tuition!H12-(40500))+((Tuition!H12-(40500))*0.042),0,0)))+(IF(Tuition!I12<(40500),PMT(6.8%/12,300,Tuition!I12+(Tuition!I12*0.0105),0,0),PMT(6.8%/12,300,Tuition!I12+((40500)*0.0105),0,0)+PMT(7.9%/12,300,(Tuition!I12-(40500))+((Tuition!I12-(40500))*0.042),0,0)))+(IF(Tuition!J12<(40500),PMT(6.8%/12,300,Tuition!J12+(Tuition!J12*0.0105),0,0),PMT(6.8%/12,300,Tuition!J12+((40500)*0.0105),0,0)+PMT(7.9%/12,300,(Tuition!J12-(40500))+((Tuition!J12-(40500))*0.042),0,0)))+(IF(Tuition!K12<(40500),PMT(6.8%/12,300,Tuition!K12+(Tuition!K12*0.0105),0,0),PMT(6.8%/12,300,Tuition!K12+((40500)*0.0105),0,0)+PMT(7.9%/12,300,(Tuition!K12-(40500))+((Tuition!K12-(40500))*0.042),0,0))) -> -1755.8167 | I13: =C13*120 -> -122667.97 | J13: =D13*300 -> -184958.66 | K13: =F13*120 -> -346191.38 | L13: =G13*300 -> -526745.01
A14: University of Minnesota College of Veterinary Medicine | B14: 145474.08 | C14: =(IF(Tuition!A13<(40500),PMT(6.8%/12,120,Tuition!A13+(Tuition!A13*0.0105),0,0),PMT(6.8%/12,120,Tuition!A13+((40500)*0.0105),0,0)+PMT(7.9%/12,120,(Tuition!A13-(40500))+((Tuition!A13-(40500))*0.042),0,0)))+(IF(Tuition!B13<(40500),PMT(6.8%/12,120,Tuition!B13+(Tuition!B13*0.0105),0,0),PMT(6.8%/12,120,Tuition!B13+((40500)*0.0105),0,0)+PMT(7.9%/12,120,(Tuition!B13-(40500))+((Tuition!B13-(40500))*0.042),0,0)))+(IF(Tuition!C13<(40500),PMT(6.8%/12,120,Tuition!C13+(Tuition!C13*0.0105),0,0),PMT(6.8%/12,120,Tuition!C13+((40500)*0.0105),0,0)+PMT(7.9%/12,120,(Tuition!C13-(40500))+((Tuition!C13-(40500))*0.042),0,0)))+(IF(Tuition!D13<(40500),PMT(6.8%/12,120,Tuition!D13+(Tuition!D13*0.0105),0,0),PMT(6.8%/12,120,Tuition!D13+((40500)*0.0105),0,0)+PMT(7.9%/12,120,(Tuition!D13-(40500))+((Tuition!D13-(40500))*0.042),0,0))) -> -1691.6988 | D14: =(IF(Tuition!A13<(40500),PMT(6.8%/12,300,Tuition!A13+(Tuition!A13*0.0105),0,0),PMT(6.8%/12,300,Tuition!A13+((40500)*0.0105),0,0)+PMT(7.9%/12,300,(Tuition!A13-(40500))+((Tuition!A13-(40500))*0.042),0,0)))+(IF(Tuition!B13<(40500),PMT(6.8%/12,300,Tuition!B13+(Tuition!B13*0.0105),0,0),PMT(6.8%/12,300,Tuition!B13+((40500)*0.0105),0,0)+PMT(7.9%/12,300,(Tuition!B13-(40500))+((Tuition!B13-(40500))*0.042),0,0)))+(IF(Tuition!C13<(40500),PMT(6.8%/12,300,Tuition!C13+(Tuition!C13*0.0105),0,0),PMT(6.8%/12,300,Tuition!C13+((40500)*0.0105),0,0)+PMT(7.9%/12,300,(Tuition!C13-(40500))+((Tuition!C13-(40500))*0.042),0,0)))+(IF(Tuition!D13<(40500),PMT(6.8%/12,300,Tuition!D13+(Tuition!D13*0.0105),0,0),PMT(6.8%/12,300,Tuition!D13+((40500)*0.0105),0,0)+PMT(7.9%/12,300,(Tuition!D13-(40500))+((Tuition!D13-(40500))*0.042),0,0))) -> -1020.2968 | E14: 251944.11 | F14: =(IF(Tuition!H13<(40500),PMT(6.8%/12,120,Tuition!H13+(Tuition!H13*0.0105),0,0),PMT(6.8%/12,120,Tuition!H13+((40500)*0.0105),0,0)+PMT(7.9%/12,120,(Tuition!H13-(40500))+((Tuition!H13-(40500))*0.042),0,0)))+(IF(Tuition!I13<(40500),PMT(6.8%/12,120,Tuition!I13+(Tuition!I13*0.0105),0,0),PMT(6.8%/12,120,Tuition!I13+((40500)*0.0105),0,0)+PMT(7.9%/12,120,(Tuition!I13-(40500))+((Tuition!I13-(40500))*0.042),0,0)))+(IF(Tuition!J13<(40500),PMT(6.8%/12,120,Tuition!J13+(Tuition!J13*0.0105),0,0),PMT(6.8%/12,120,Tuition!J13+((40500)*0.0105),0,0)+PMT(7.9%/12,120,(Tuition!J13-(40500))+((Tuition!J13-(40500))*0.042),0,0)))+(IF(Tuition!K13<(40500),PMT(6.8%/12,120,Tuition!K13+(Tuition!K13*0.0105),0,0),PMT(6.8%/12,120,Tuition!K13+((40500)*0.0105),0,0)+PMT(7.9%/12,120,(Tuition!K13-(40500))+((Tuition!K13-(40500))*0.042),0,0))) -> -4051.1137 | G14: =(IF(Tuition!H13<(40500),PMT(6.8%/12,300,Tuition!H13+(Tuition!H13*0.0105),0,0),PMT(6.8%/12,300,Tuition!H13+((40500)*0.0105),0,0)+PMT(7.9%/12,300,(Tuition!H13-(40500))+((Tuition!H13-(40500))*0.042),0,0)))+(IF(Tuition!I13<(40500),PMT(6.8%/12,300,Tuition!I13+(Tuition!I13*0.0105),0,0),PMT(6.8%/12,300,Tuition!I13+((40500)*0.0105),0,0)+PMT(7.9%/12,300,(Tuition!I13-(40500))+((Tuition!I13-(40500))*0.042),0,0)))+(IF(Tuition!J13<(40500),PMT(6.8%/12,300,Tuition!J13+(Tuition!J13*0.0105),0,0),PMT(6.8%/12,300,Tuition!J13+((40500)*0.0105),0,0)+PMT(7.9%/12,300,(Tuition!J13-(40500))+((Tuition!J13-(40500))*0.042),0,0)))+(IF(Tuition!K13<(40500),PMT(6.8%/12,300,Tuition!K13+(Tuition!K13*0.0105),0,0),PMT(6.8%/12,300,Tuition!K13+((40500)*0.0105),0,0)+PMT(7.9%/12,300,(Tuition!K13-(40500))+((Tuition!K13-(40500))*0.042),0,0))) -> -2477.6422 | I14: =C14*120 -> -203003.86 | J14: =D14*300 -> -306089.04 | K14: =F14*120 -> -486133.65 | L14: =G14*300 -> -743292.65
A15: Mississippi State University College of Veterinary Medicine | B15: 80728.792 | C15: =(IF(Tuition!A14<(40500),PMT(6.8%/12,120,Tuition!A14+(Tuition!A14*0.0105),0,0),PMT(6.8%/12,120,Tuition!A14+((40500)*0.0105),0,0)+PMT(7.9%/12,120,(Tuition!A14-(40500))+((Tuition!A14-(40500))*0.042),0,0)))+(IF(Tuition!B14<(40500),PMT(6.8%/12,120,Tuition!B14+(Tuition!B14*0.0105),0,0),PMT(6.8%/12,120,Tuition!B14+((40500)*0.0105),0,0)+PMT(7.9%/12,120,(Tuition!B14-(40500))+((Tuition!B14-(40500))*0.042),0,0)))+(IF(Tuition!C14<(40500),PMT(6.8%/12,120,Tuition!C14+(Tuition!C14*0.0105),0,0),PMT(6.8%/12,120,Tuition!C14+((40500)*0.0105),0,0)+PMT(7.9%/12,120,(Tuition!C14-(40500))+((Tuition!C14-(40500))*0.042),0,0)))+(IF(Tuition!D14<(40500),PMT(6.8%/12,120,Tuition!D14+(Tuition!D14*0.0105),0,0),PMT(6.8%/12,120,Tuition!D14+((40500)*0.0105),0,0)+PMT(7.9%/12,120,(Tuition!D14-(40500))+((Tuition!D14-(40500))*0.042),0,0))) -> -938.78442 | D15: =(IF(Tuition!A14<(40500),PMT(6.8%/12,300,Tuition!A14+(Tuition!A14*0.0105),0,0),PMT(6.8%/12,300,Tuition!A14+((40500)*0.0105),0,0)+PMT(7.9%/12,300,(Tuition!A14-(40500))+((Tuition!A14-(40500))*0.042),0,0)))+(IF(Tuition!B14<(40500),PMT(6.8%/12,300,Tuition!B14+(Tuition!B14*0.0105),0,0),PMT(6.8%/12,300,Tuition!B14+((40500)*0.0105),0,0)+PMT(7.9%/12,300,(Tuition!B14-(40500))+((Tuition!B14-(40500))*0.042),0,0)))+(IF(Tuition!C14<(40500),PMT(6.8%/12,300,Tuition!C14+(Tuition!C14*0.0105),0,0),PMT(6.8%/12,300,Tuition!C14+((40500)*0.0105),0,0)+PMT(7.9%/12,300,(Tuition!C14-(40500))+((Tuition!C14-(40500))*0.042),0,0)))+(IF(Tuition!D14<(40500),PMT(6.8%/12,300,Tuition!D14+(Tuition!D14*0.0105),0,0),PMT(6.8%/12,300,Tuition!D14+((40500)*0.0105),0,0)+PMT(7.9%/12,300,(Tuition!D14-(40500))+((Tuition!D14-(40500))*0.042),0,0))) -> -566.19934 | E15: 192783.64 | F15: =(IF(Tuition!H14<(40500),PMT(6.8%/12,120,Tuition!H14+(Tuition!H14*0.0105),0,0),PMT(6.8%/12,120,Tuition!H14+((40500)*0.0105),0,0)+PMT(7.9%/12,120,(Tuition!H14-(40500))+((Tuition!H14-(40500))*0.042),0,0)))+(IF(Tuition!I14<(40500),PMT(6.8%/12,120,Tuition!I14+(Tuition!I14*0.0105),0,0),PMT(6.8%/12,120,Tuition!I14+((40500)*0.0105),0,0)+PMT(7.9%/12,120,(Tuition!I14-(40500))+((Tuition!I14-(40500))*0.042),0,0)))+(IF(Tuition!J14<(40500),PMT(6.8%/12,120,Tuition!J14+(Tuition!J14*0.0105),0,0),PMT(6.8%/12,120,Tuition!J14+((40500)*0.0105),0,0)+PMT(7.9%/12,120,(Tuition!J14-(40500))+((Tuition!J14-(40500))*0.042),0,0)))+(IF(Tuition!K14<(40500),PMT(6.8%/12,120,Tuition!K14+(Tuition!K14*0.0105),0,0),PMT(6.8%/12,120,Tuition!K14+((40500)*0.0105),0,0)+PMT(7.9%/12,120,(Tuition!K14-(40500))+((Tuition!K14-(40500))*0.042),0,0))) -> -2625.6198 | G15: =(IF(Tuition!H14<(40500),PMT(6.8%/12,300,Tuition!H14+(Tuition!H14*0.0105),0,0),PMT(6.8%/12,300,Tuition!H14+((40500)*0.0105),0,0)+PMT(7.9%/12,300,(Tuition!H14-(40500))+((Tuition!H14-(40500))*0.042),0,0)))+(IF(Tuition!I14<(40500),PMT(6.8%/12,300,Tuition!I14+(Tuition!I14*0.0105),0,0),PMT(6.8%/12,300,Tuition!I14+((40500)*0.0105),0,0)+PMT(7.9%/12,300,(Tuition!I14-(40500))+((Tuition!I14-(40500))*0.042),0,0)))+(IF(Tuition!J14<(40500),PMT(6.8%/12,300,Tuition!J14+(Tuition!J14*0.0105),0,0),PMT(6.8%/12,300,Tuition!J14+((40500)*0.0105),0,0)+PMT(7.9%/12,300,(Tuition!J14-(40500))+((Tuition!J14-(40500))*0.042),0,0)))+(IF(Tuition!K14<(40500),PMT(6.8%/12,300,Tuition!K14+(Tuition!K14*0.0105),0,0),PMT(6.8%/12,300,Tuition!K14+((40500)*0.0105),0,0)+PMT(7.9%/12,300,(Tuition!K14-(40500))+((Tuition!K14-(40500))*0.042),0,0))) -> -1595.3145 | I15: =C15*120 -> -112654.13 | J15: =D15*300 -> -169859.8 | K15: =F15*120 -> -315074.38 | L15: =G15*300 -> -478594.34
