Workbook

Sheet MS2 Study
BV1: 6 months | CR1: Travel AM | CS1: Thanksgiving | CU1: Travel AM | DV1: Travel AM | DW1: Christmas Eve | DX1: Christmas Day | DY1: Travel PM | ED1: NYE | EE1: NYD
C2: August | M2: September | AQ2: October | BV2: November | CZ2: December | EE2: January | FJ2: February | GL2: March | HQ2: April | IU2: May | JZ2: June
C3: Week 1 | J3: Week 2 | Q3: LABOR DAY | R3: Week 3 | X3: Week 4 | AE3: Week 5 | AL3: Week 6 | AS3: Week 7 | AZ3: Week 8 | BG3: Week 9 | BN3: Week 10 | BU3: Week 11 | CB3: Week 12 | CI3: Week 13 | CP3: Week 14 | CR3: THANKSGIVING | CW3: Week 15 | DD3: Week 16 | DK3: Week 17 | DR3: Week 18 | DV3: WINTER BREAK | EG3: Week 20 | EM3: Week 21 | ET3: MLK Day | EU3: Week 22 | FA3: Week 23 | FH3: Week 24 | FO3: Week 25 | FV3: Week 26 | GC3: Week 27 | GJ3: Week -4 (28) | GQ3: Week -3 (29) | GU3: Spring Break | GX3: Week -2 (30) | HE3: Week -1 (31) | HL3: Week 0 (32) | HS3: Week 1 (33) | HZ3: Week 2 (34) | IG3: Week 3 (35) | IN3: Week 4 (36)
C4: 22 | D4: 23 | E4: 24 | F4: 25 | G4: 26 | H4: 27 | I4: 28 | J4: 29 | K4: 30 | L4: 31 | M4: 1 | N4: 2 | O4: 3 | P4: 4 | Q4: 5 | R4: 6 | S4: 7 | T4: 8 | U4: 9 | V4: 10 | W4: 11 | X4: 12 | Y4: 13 | Z4: 14 | AA4: 15 | AB4: 16 | AC4: 17 | AD4: 18 | AE4: 19 | AF4: 20 | AG4: 21 | AH4: 22 | AI4: 23 | AJ4: 24 | AK4: 25 | AL4: 26 | AM4: 27 | AN4: 28 | AO4: 29 | AP4: 30 | AQ4: 1 | AR4: 2 | AS4: 3 | AT4: 4 | AU4: 5 | AV4: 6 | AW4: 7 | AX4: 8 | AY4: 9 | AZ4: 10 | BA4: 11 | BB4: 12 | BC4: 13 | BD4: 14 | BE4: 15 | BF4: 16 | BG4: 17 | BH4: 18 | BI4: 19 | BJ4: 20 | BK4: 21 | BL4: 22 | BM4: 23 | BN4: 24 | BO4: 25 | BP4: 26 | BQ4: 27 | BR4: 28 | BS4: 29 | BT4: 30 | BU4: 31 | BV4: 1 | BW4: 2 | BX4: 3 | BY4: 4 | BZ4: 5 | CA4: 6 | CB4: 7 | CC4: 8 | CD4: 9 | CE4: 10 | CF4: 11 | CG4: 12 | CH4: 13 | CI4: 14 | CJ4: 15 | CK4: 16 | CL4: 17 | CM4: 18 | CN4: 19 | CO4: 20 | CP4: 21 | CQ4: 22 | CR4: 23 | CS4: 24 | CT4: 25 | CU4: 26 | CV4: 27 | CW4: 28 | CX4: 29 | CY4: 30 | CZ4: 1 | DA4: 2 | DB4: 3 | DC4: 4 | DD4: 5 | DE4: 6 | DF4: 7 | DG4: 8 | DH4: 9 | DI4: 10 | DJ4: 11 | DK4: 12 | DL4: 13 | DM4: 14 | DN4: 15 | DO4: 16 | DP4: 17 | DQ4: 18 | DR4: 19 | DS4: 20 | DT4: 21 | DU4: 22 | DV4: 23 | DW4: 24 | DX4: 25 | DY4: 26 | DZ4: 27 | EA4: 28 | EB4: 29 | EC4: 30 | ED4: 31 | EE4: 1 | EF4: 2 | EG4: 3 | EH4: 4 | EI4: 5 | EJ4: 6 | EK4: 7 | EL4: 8 | EM4: 9 | EN4: 10 | EO4: 11 | EP4: 12 | EQ4: 13 | ER4: 14 | ES4: 15 | ET4: 16 | EU4: 17 | EV4: 18 | EW4: 19 | EX4: 20 | EY4: 21 | EZ4: 22 | FA4: 23 | FB4: 24 | FC4: 25 | FD4: 26 | FE4: 27 | FF4: 28 | FG4: 29 | FH4: 30 | FI4: 31 | FJ4: 1 | FK4: 2 | FL4: 3 | FM4: 4 | FN4: 5 | FO4: 6 | FP4: 7 | FQ4: 8 | FR4: 9 | FS4: 10 | FT4: 11 | FU4: 12 | FV4: 13 | FW4: 14 | FX4: 15 | FY4: 16 | FZ4: 17 | GA4: 18 | GB4: 19 | GC4: 20 | GD4: 21 | GE4: 22 | GF4: 23 | GG4: 24 | GH4: 25 | GI4: 26 | GJ4: 27 | GK4: 28 | GL4: 1 | GM4: 2 | GN4: 3 | GO4: 4 | GP4: 5 | GQ4: 6 | GR4: 7 | GS4: 8 | GT4: 9 | GU4: 10 | GV4: 11 | GW4: 12 | GX4: 13 | GY4: 14 | GZ4: 15 | HA4: 16 | HB4: 17 | HC4: 18 | HD4: 19 | HE4: 20 | HF4: 21 | HG4: 22 | HH4: 23 | HI4: 24 | HJ4: 25 | HK4: 26 | HL4: 27 | HM4: 28 | HN4: 29 | HO4: 30 | HP4: 31 | HQ4: 1 | HR4: 2 | HS4: 3 | HT4: 4 | HU4: 5 | HV4: 6 | HW4: 7 | HX4: 8 | HY4: 9 | HZ4: 10 | IA4: 11 | IB4: 12 | IC4: 13 | ID4: 14 | IE4: 15 | IF4: 16 | IG4: 17 | IH4: 18 | II4: 19 | IJ4: 20 | IK4: 21 | IL4: 22 | IM4: 23 | IN4: 24 | IO4: 25 | IP4: 26 | IQ4: 27 | IR4: 28 | IS4: 29 | IT4: 30 | IU4: 1 | IV4: 2 | IW4: 3 | IX4: 4 | IY4: 5 | IZ4: 6 | JA4: 7 | JB4: 8 | JC4: 9 | JD4: 10 | JE4: 11 | JF4: 12 | JG4: 13 | JH4: 14 | JI4: 15 | JJ4: 16 | JK4: 17 | JL4: 18 | JM4: 19 | JN4: 20 | JO4: 21 | JP4: 22 | JQ4: 23 | JR4: 24 | JS4: 25 | JT4: 26 | JU4: 27 | JV4: 28 | JW4: 29 | JX4: 30 | JY4: 31 | JZ4: 1
C5: M | D5: Tu | E5: W | F5: Th | G5: F | H5: Sa | I5: Su | J5: M | K5: Tu | L5: W | M5: Th | N5: F | O5: Sa | P5: Su | Q5: M | R5: Tu | S5: W | T5: Th | U5: F | V5: Sa | W5: Su | X5: M | Y5: Tu | Z5: W | AA5: Th | AB5: F | AC5: Sa | AD5: Su | AE5: M | AF5: Tu | AG5: W | AH5: Th | AI5: F | AJ5: Sa | AK5: Su | AL5: M | AM5: Tu | AN5: W | AO5: Th | AP5: F | AQ5: Sa | AR5: Su | AS5: M | AT5: Tu | AU5: W | AV5: Th | AW5: F | AX5: Sa | AY5: Su | AZ5: M | BA5: Tu | BB5: W | BC5: Th | BD5: F | BE5: Sa | BF5: Su | BG5: M | BH5: Tu | BI5: W | BJ5: Th | BK5: F | BL5: Sa | BM5: Su | BN5: M | BO5: Tu | BP5: W | BQ5: Th | BR5: F | BS5: Sa | BT5: Su | BU5: M | BV5: Tu | BW5: W | BX5: Th | BY5: F | BZ5: Sa | CA5: Su | CB5: M | CC5: Tu | CD5: W | CE5: Th | CF5: F | CG5: Sa | CH5: Su | CI5: M | CJ5: Tu | CK5: W | CL5: Th | CM5: F | CN5: Sa | CO5: Su | CP5: M | CQ5: Tu | CR5: W | CS5: Th | CT5: F | CU5: Sa | CV5: Su | CW5: M | CX5: Tu | CY5: W | CZ5: Th | DA5: F | DB5: Sa | DC5: Su | DD5: M | DE5: Tu | DF5: W | DG5: Th | DH5: F | DI5: Sa | DJ5: Su | DK5: M | DL5: Tu | DM5: W | DN5: Th | DO5: F | DP5: Sa | DQ5: Su | DR5: M | DS5: Tu | DT5: W | DU5: Th | DV5: F | DW5: Sa | DX5: Su | DY5: M | DZ5: Tu | EA5: W | EB5: Th | EC5: F | ED5: Sa | EE5: Su | EF5: M | EG5: Tu | EH5: W | EI5: Th | EJ5: F | EK5: Sa | EL5: Su | EM5: M | EN5: Tu | EO5: W | EP5: Th | EQ5: F | ER5: Sa | ES5: Su | ET5: M | EU5: Tu | EV5: W | EW5: Th | EX5: F | EY5: Sa | EZ5: Su | FA5: M | FB5: Tu | FC5: W | FD5: Th | FE5: F | FF5: Sa | FG5: Su | FH5: M | FI5: Tu | FJ5: W | FK5: Th | FL5: F | FM5: Sa | FN5: Su | FO5: M | FP5: Tu | FQ5: W | FR5: Th | FS5: F | FT5: Sa | FU5: Su | FV5: M | FW5: Tu | FX5: W | FY5: Th | FZ5: F | GA5: Sa | GB5: Su | GC5: M | GD5: Tu | GE5: W | GF5: Th | GG5: F | GH5: Sa | GI5: Su | GJ5: M | GK5: Tu | GL5: W | GM5: Th | GN5: F | GO5: Sa | GP5: Su | GQ5: M | GR5: Tu | GS5: W | GT5: Th | GU5: F | GV5: Sa | GW5: Su | GX5: M | GY5: Tu | GZ5: W | HA5: Th | HB5: F | HC5: Sa | HD5: Su | HE5: M | HF5: Tu | HG5: W | HH5: Th | HI5: F | HJ5: Sa | HK5: Su | HL5: M | HM5: Tu | HN5: W | HO5: Th | HP5: F | HQ5: Sa | HR5: Su | HS5: M | HT5: Tu | HU5: W | HV5: Th | HW5: F | HX5: Sa | HY5: Su | HZ5: M | IA5: Tu | IB5: W | IC5: Th | ID5: F | IE5: Sa | IF5: Su | IG5: M | IH5: Tu | II5: W | IJ5: Th | IK5: F | IL5: Sa | IM5: Su | IN5: M | IO5: Tu | IP5: W | IQ5: Th | IR5: F | IS5: Sa | IT5: Su | IU5: M | IV5: Tu | IW5: W | IX5: Th | IY5: F | IZ5: Sa | JA5: Su | JB5: M | JC5: Tu | JD5: W | JE5: Th | JF5: F | JG5: Sa | JH5: Su | JI5: M | JJ5: Tu | JK5: W | JL5: Th | JM5: F | JN5: Sa | JO5: Su | JP5: M | JQ5: Tu | JR5: W | JS5: Th | JT5: F | JU5: Sa | JV5: Su | JW5: M | JX5: Tu | JY5: W | JZ5: Th
A6: School of Medicine | B6: Class
B7: Class
B8: Class
B9: Class
B10: Class | IN10: USMLE STEP 1 EXAM WEEK
B11: Class
A12: Research | B12: Clinic
B13: Lab
B14: Lab
A15: Step 1 | B15: Questions | BU15: ='Question Totals Calcs'!H12 -> Week 11(n=40; t=40 [1.6%]) | CB15: ='Question Totals Calcs'!H13 -> Week 12(n=40; t=80 [3.2%]) | CI15: ='Question Totals Calcs'!H14 -> Week 13(n=40; t=120 [4.8%]) | CP15: Catchup | CR15: Break | CV15: Catchup | CW15: ='Question Totals Calcs'!H16 -> Week 15(n=40; t=160 [6.4%]) | DD15: ='Question Totals Calcs'!H17 -> Week 16(n=40; t=200 [8%]) | DK15: ='Question Totals Calcs'!H18 -> Week 17(n=40; t=240 [9.6%]) | DR15: ='Question Totals Calcs'!H19 -> Week 18(n=40; t=280 [11.2%]) | DV15: Break | DZ15: ='Question Totals Calcs'!H20 -> Week 19(n=400; t=680 [27.3%]) | EF15: ='Question Totals Calcs'!H21 -> Week 20(n=0; t=680 [27.3%]) | EM15: ='Question Totals Calcs'!H22 -> Week 21(n=0; t=680 [27.3%]) | ET15: ='Question Totals Calcs'!H23 -> Week 22(n=120; t=800 [32.1%]) | FA15: ='Question Totals Calcs'!H24 -> Week 23(n=120; t=920 [36.9%]) | FH15: ='Question Totals Calcs'!H25 -> Week 24(n=120; t=1040 [41.8%]) | FO15: ='Question Totals Calcs'!H26 -> Week 25(n=120; t=1160 [46.6%]) | FV15: ='Question Totals Calcs'!H27 -> Week 26(n=120; t=1280 [51.4%]) | GC15: ='Question Totals Calcs'!H28 -> Week 27(n=120; t=1400 [56.2%]) | GJ15: ='Question Totals Calcs'!H29 -> Week 28(n=300; t=1700 [68.2%]) | GQ15: ='Question Totals Calcs'!H30 -> Week 29(n=300; t=2000 [80.3%]) | GX15: ='Question Totals Calcs'!H31 -> Week 30(n=300; t=2300 [92.3%]) | HE15: CBSSA #13 | HF15: ='Question Totals Calcs'!H32 -> Week 31(n=300; t=2600 [104.4%]) | HJ15: ='Question Totals Calcs'!H33 -> Week 32(n=560; t=3160 [126.9%]) | HQ15: ='Question Totals Calcs'!H34 -> Week 33(n=480; t=3640 [146.1%]) | HX15: CBSSA #16 | HY15: ='Question Totals Calcs'!H35 -> Week 34(n=560; t=4200 [168.6%]) | IE15: ='Question Totals Calcs'!H36 -> Week 35(n=480; t=4680 [187.9%]) | IL15: CBSSA #17 | IM15: ='Question Totals Calcs'!H37 -> Week 36(n=400; t=5080 [203.9%]) | IR15: Day Before Exam | IS15: USMLE Step 1 Exam
B16: Dedicated Study | HJ16: Week 1 Intensive Study | HQ16: Week 2 Intensive Study | HX16: Week 3 Intensive Study | IE16: Week 4 Intensive Study | IM16: Week 5 Concentrated Review | IR16: Day Before Exam | IS16: USMLE Step 1 Exam
B17: UWorld Daily | BU17: 0 | BV17: 8 | BW17: 4 | BX17: 4 | BY17: 0 | BZ17: 0 | CA17: 0 | CB17: 0 | CC17: 8 | CD17: 8 | CE17: 8 | CF17: 4 | CG17: 18 | CH17: 18 | CI17: 4 | CJ17: 4 | CK17: 4 | CL17: 4 | CM17: 4 | CN17: 0 | CO17: 10 | CP17: 0 | CQ17: 10 | CU17: 0 | CV17: 0 | CW17: 4 | CX17: 4 | CY17: 0 | CZ17: 0 | DA17: 4 | DB17: 10 | DC17: 18 | DD17: 4 | DE17: 4 | DF17: 4 | DG17: 0 | DH17: 4 | DI17: 0 | DJ17: 0 | DK17: 8 | DL17: 4 | DM17: 0 | DN17: 10 | DO17: 0 | DP17: 20 | DQ17: 20 | DR17: 5 | DS17: 5 | DT17: 20 | DU17: 0 | DV17: 0 | DW17: 6 | DX17: 6 | DZ17: 35 | EA17: 10 | EB17: 30 | EC17: 40 | ED17: 0 | EE17: 0 | EF17: 0 | EG17: 0 | EH17: 0 | EI17: 0 | EJ17: 0 | EK17: 0 | EL17: 0 | EM17: 0 | EN17: 0 | EO17: 0 | EP17: 0 | EQ17: 0 | ER17: 0 | ES17: 0 | ET17: 0 | EU17: 0 | EV17: 10
B18: UWorld Totals | BU18: =SUM(BU17:CA17) -> 16 | CA18: =SUM(BU17:CA17) -> 16 | CB18: =SUM(CB17:CH17) -> 64 | CH18: =SUM(BU17:CH17) -> 80 | CI18: =SUM(CI17:CO17) -> 30 | CO18: =SUM(BU17:CO17) -> 110 | CP18: =SUM(CP17:CV17) -> 10 | CV18: =SUM(BU17:CV17) -> 120 | CW18: =SUM(CW17:DC17) -> 40 | DC18: =SUM(BU17:DC17) -> 160 | DD18: =SUM(DD17:DJ17) -> 16 | DJ18: =SUM(BU17:DJ17) -> 176 | DK18: =SUM(DK17:DQ17) -> 62 | DP18: 20 | DQ18: =SUM(BU17:DQ17) -> 238 | DR18: =SUM(DR17:DV17) -> 30 | DV18: =SUM(BU17:DY17) -> 280 | DZ18: =SUM(DZ17:EF17) -> 115 | EF18: =SUM(BU17:EF17) -> 395
A19: Research Year | FX19: Research Year Application | IU19: Research Year

Sheet Question Totals Calcs
A1: Week | B1: Questions/week | C1: Total Done | D1: Total Questions | E1: Percentage | F1: Percentage Rounded | G1: Label | H1: Label Text
A2: 1 | B2: 0 | C2: =SUM($B$2:B2) -> 0 | D2: 2491 | E2: =C2 / D2 -> 0 | F2: =E2 -> 0 | G2: ="Week " & A2 & "(n=" & B2 & "; t=" & C2 & " [" & ROUND(F2 * 100,1) &"%])" -> Week 1(n=0; t=0 [0%]) | H2: Week 1(n=0; t=0 [0%])
A3: 2 | B3: 0 | C3: =SUM($B$2:B3) -> 0 | D3: 2491 | E3: =C3 / D3 -> 0 | F3: =E3 -> 0 | G3: ="Week " & A3 & "(n=" & B3 & "; t=" & C3 & " [" & ROUND(F3 * 100,1) &"%])" -> Week 2(n=0; t=0 [0%]) | H3: Week 2(n=0; t=0 [0%])
A4: 3 | B4: 0 | C4: =SUM($B$2:B4) -> 0 | D4: 2491 | E4: =C4 / D4 -> 0 | F4: =E4 -> 0 | G4: ="Week " & A4 & "(n=" & B4 & "; t=" & C4 & " [" & ROUND(F4 * 100,1) &"%])" -> Week 3(n=0; t=0 [0%]) | H4: Week 3(n=0; t=0 [0%])
A5: 4 | B5: 0 | C5: =SUM($B$2:B5) -> 0 | D5: 2491 | E5: =C5 / D5 -> 0 | F5: =E5 -> 0 | G5: ="Week " & A5 & "(n=" & B5 & "; t=" & C5 & " [" & ROUND(F5 * 100,1) &"%])" -> Week 4(n=0; t=0 [0%]) | H5: Week 4(n=0; t=0 [0%])
A6: 5 | B6: 0 | C6: =SUM($B$2:B6) -> 0 | D6: 2491 | E6: =C6 / D6 -> 0 | F6: =E6 -> 0 | G6: ="Week " & A6 & "(n=" & B6 & "; t=" & C6 & " [" & ROUND(F6 * 100,1) &"%])" -> Week 5(n=0; t=0 [0%]) | H6: Week 5(n=0; t=0 [0%])
A7: 6 | B7: 0 | C7: =SUM($B$2:B7) -> 0 | D7: 2491 | E7: =C7 / D7 -> 0 | F7: =E7 -> 0 | G7: ="Week " & A7 & "(n=" & B7 & "; t=" & C7 & " [" & ROUND(F7 * 100,1) &"%])" -> Week 6(n=0; t=0 [0%]) | H7: Week 6(n=0; t=0 [0%])
A8: 7 | B8: 0 | C8: =SUM($B$2:B8) -> 0 | D8: 2491 | E8: =C8 / D8 -> 0 | F8: =E8 -> 0 | G8: ="Week " & A8 & "(n=" & B8 & "; t=" & C8 & " [" & ROUND(F8 * 100,1) &"%])" -> Week 7(n=0; t=0 [0%]) | H8: Week 7(n=0; t=0 [0%])
A9: 8 | B9: 0 | C9: =SUM($B$2:B9) -> 0 | D9: 2491 | E9: =C9 / D9 -> 0 | F9: =E9 -> 0 | G9: ="Week " & A9 & "(n=" & B9 & "; t=" & C9 & " [" & ROUND(F9 * 100,1) &"%])" -> Week 8(n=0; t=0 [0%]) | H9: Week 8(n=0; t=0 [0%])
A10: 9 | B10: 0 | C10: =SUM($B$2:B10) -> 0 | D10: 2491 | E10: =C10 / D10 -> 0 | F10: =E10 -> 0 | G10: ="Week " & A10 & "(n=" & B10 & "; t=" & C10 & " [" & ROUND(F10 * 100,1) &"%])" -> Week 9(n=0; t=0 [0%]) | H10: Week 9(n=0; t=0 [0%])
A11: 10 | B11: 0 | C11: =SUM($B$2:B11) -> 0 | D11: 2491 | E11: =C11 / D11 -> 0 | F11: =E11 -> 0 | G11: ="Week " & A11 & "(n=" & B11 & "; t=" & C11 & " [" & ROUND(F11 * 100,1) &"%])" -> Week 10(n=0; t=0 [0%]) | H11: Week 10(n=0; t=0 [0%])
A12: 11 | B12: 40 | C12: =SUM($B$2:B12) -> 40 | D12: 2491 | E12: =C12 / D12 -> 0.016057808 | F12: =E12 -> 0.016057808 | G12: ="Week " & A12 & "(n=" & B12 & "; t=" & C12 & " [" & ROUND(F12 * 100,1) &"%])" -> Week 11(n=40; t=40 [1.6%]) | H12: Week 11(n=40; t=40 [1.6%])
A13: 12 | B13: 40 | C13: =SUM($B$2:B13) -> 80 | D13: 2491 | E13: =C13 / D13 -> 0.032115616 | F13: =E13 -> 0.032115616 | G13: ="Week " & A13 & "(n=" & B13 & "; t=" & C13 & " [" & ROUND(F13 * 100,1) &"%])" -> Week 12(n=40; t=80 [3.2%]) | H13: Week 12(n=40; t=80 [3.2%])
... A37: 36 | B37: 400 | C37: =SUM($B$2:B37) -> 4805 | D37: 2491 | E37: =C37 / D37 -> 1.9289442 | F37: =E37 -> 1.9289442 | G37: ="Week " & A37 & "(n=" & B37 & "; t=" & C37 & " [" & ROUND(F37 * 100,1) &"%])" -> Week 36(n=400; t=4805 [192.9%]) | H37: Week 36(n=400; t=5080 [203.9%])

Sheet Step Study Daily 1
B1: DAY | C1: NOTES | D1: DATE | E1: 0.22916667 | F1: 0.25 | G1: 0.27083333 | H1: 0.29166667 | I1: 0.3125 | J1: 0.33333333 | K1: 0.35416667 | L1: 0.375 | M1: 0.39583333 | N1: 0.41666667 | O1: 0.4375 | P1: 0.45833333 | Q1: 0.47916667 | R1: 0.5 | S1: 0.52083333 | T1: 0.54166667 | U1: 0.5625 | V1: 0.58333333 | W1: 0.60416667 | X1: 0.625 | Y1: 0.64583333 | Z1: 0.66666667 | AA1: 0.6875 | AB1: 0.70833333 | AC1: 0.72916667 | AD1: 0.75 | AE1: 0.77083333 | AF1: 0.79166667 | AG1: 0.8125 | AH1: 0.83333333 | AI1: 0.85416667 | AJ1: 0.875 | AK1: 0.89583333 | AL1: 0.91666667 | AM1: 0.9375 | AN1: 0.95833333 | AO1: 0.97916667 | AP1: 1
A2: Monday | B2: 60 | D2: 42793 | J2: CBSSA 17
A3: Tuesday | B3: 59 | D3: 42794 | G3: Micro | J3: CLASS | P3: Pharm | S3: Sketchy Micro | U3: Kaplan Qbank 1x40 | W3: Sketchy Pharm | Y3: Kaplan Qbank 1x40 | AC3: Sketchy Micro | AE3: Kaplan Qbank 1x40 | AG3: Sketchy Pharm | AI3: Kaplan Qbank 1x40
A4: Wednesday | B4: 58 | D4: 42795 | G4: Pharm | J4: CLASS | P4: Micro | S4: Sketchy Micro | U4: Kaplan Qbank 1x40 | W4: Sketchy Pharm | Y4: Kaplan Qbank 1x40 | AC4: Sketchy Micro | AE4: Kaplan Qbank 1x40 | AG4: Sketchy Pharm | AI4: Kaplan Qbank 1x40
A5: Thursday | B5: 57 | D5: 42796 | G5: Micro | J5: CLASS | P5: Pharm | S5: Sketchy Micro | U5: Kaplan Qbank 1x40 | W5: Sketchy Pharm | Y5: Kaplan Qbank 1x40 | AC5: Sketchy Micro | AE5: Kaplan Qbank 1x40 | AG5: Sketchy Pharm | AI5: Kaplan Qbank 1x40
A6: Friday | B6: 56 | D6: 42797 | E6: Run | H6: Pharm | J6: Micro | L6: Sketchy Pharm | P6: Kaplan Qbank 1x40 | W6: Sketchy Pharm
A7: Saturday | B7: 55 | D7: 42798 | E7: Run | H7: Micro | J7: Pharm | L7: Sketchy Micro | P7: Kaplan Qbank 1x40 | S7: Kaplan Qbank 2x40 | W7: Kaplan Qbank Review OR Fix Deck | AC7: Kaplan Qbank 2x40 | AG7: Sketchy Pharm
A8: Sunday | B8: 54 | D8: 42799 | E8: Run | H8: Pharm | J8: Micro | L8: Sketchy Pharm | P8: Kaplan Qbank 1x40 | S8: Kaplan Qbank 2x40 | W8: Sketchy Pharm | AC8: Kaplan Qbank 2x40 | AG8: Sketchy Pharm | AS8: Initial | AT8: Prestudy | AU8: 1st Pass | AV8: 2nd Pass | AW8: 3rd Pass
A9: Monday | B9: 53 | D9: 42800 | E9: Run | H9: Micro | J9: Pharm | L9: Sketchy Micro | P9: Kaplan Qbank 1x40 | S9: Kaplan Qbank 2x40 | W9: Kaplan Qbank Review OR Fix Deck | AC9: Kaplan Qbank 2x40 | AG9: Sketchy Pharm | AR9: Sketchy Pharm (hours) | AT9: 1.0833333
A10: Tuesday | B10: 52 | D10: 42801 | G10: Pharm | J10: CLASS | P10: Micro | S10: Kaplan Qbank 2x40 | W10: Sketchy Pharm | AC10: Kaplan Qbank 2x40 | AG10: Sketchy Pharm | AR10: Sketchy Micro (hours) | AT10: 0.41666667
A11: Wednesday | B11: 51 | D11: 42802 | G11: Micro | J11: CLASS | N11: Pharm | S11: Kaplan Qbank 2x40 | W11: Kaplan Qbank Review OR Fix Deck | AC11: Kaplan Qbank 2x40 | AG11: Sketchy Pharm | AR11: Anki Pharm
A12: Thursday | B12: 50 | D12: 42803 | G12: Pharm | J12: CLASS | P12: Micro | T12: CLASS | AD12: Immunology | AR12: Anki Micro
A13: Friday | B13: 49 | C13: Week1 | D13: 42804 | E13: Run | H13: Micro | J13: UWorld 2x40 | V13: Pathoma | Y13: Pathology | AH13: Pharm | AJ13: Biochem | AR13: Biochem (Anki + FA)
A14: Saturday | B14: 48 | D14: 42805 | E14: Run | H14: Pharm | J14: UWorld 2x40 | V14: Pathoma | Y14: Neurology | AH14: Biochem | AJ14: Micro | AR14: Kaplan | AS14: 850 | AT14: =640+800+AS14 -> 2290
A15: Sunday | B15: 47 | D15: 42806 | E15: Run | H15: Biochem | J15: UWorld 2x40 | V15: Pathoma | Y15: Neurology | AH15: Micro | AJ15: Pharm | AR15: UWorld | AS15: 500 | AU15: =1360+AS15 -> 1860 | AV15: =AU15+800 -> 2660 | AW15: 2400
A16: Monday | B16: 46 | D16: 42807 | E16: Run | H16: Micro | R16: Uworld 1x20 | V16: Pathoma | Y16: Neurology | AH16: Pharm | AJ16: Biochem | AR16: Pathoma (minutes) | AU16: 1710
A17: Tuesday | B17: 45 | D17: 42808 | G17: Pharm | J17: CLASS | O17: UWorld 1x50 | V17: Pathoma | Y17: GI | AH17: Biochem | AJ17: Micro | AR17: First Aid (hours) | AU17: 56
A18: Wednesday | B18: 44 | D18: 42809 | G18: Biochem | J18: CLASS | O18: UWorld 1x50 | V18: Pathoma | Y18: GI | AH18: Micro | AJ18: Pharm
A19: Thursday | B19: 43 | D19: 42810 | G19: Micro | J19: CLASS | O19: UWorld 1x20 | T19: CLASS | AD19: Pathoma | AH19: Pharm | AJ19: Biochem
A20: Friday | B20: 42 | C20: Week2 | D20: 42811 | E20: Run | H20: Pharm | J20: UWorld 1x40,1x20 | V20: Pathoma | Y20: FA | AH20: Biochem | AJ20: Micro
A21: Saturday | B21: 41 | D21: 42812 | E21: Run | H21: Biochem | J21: UWorld 2x40 | V21: Pathoma | Y21: FA | AH21: Micro | AJ21: Pharm
A22: Sunday | B22: 40 | D22: 42813 | E22: Run | H22: Micro | J22: UWorld 2x40 | V22: Pathoma | Y22: FA | AH22: Pharm | AJ22: Biochem
A23: Monday | B23: 39 | D23: 42814 | E23: Run | H23: Pharm | J23: UWorld 2x40 | V23: Pathoma | Y23: FA | AH23: Biochem | AJ23: Micro
A24: Tuesday | B24: 38 | D24: 42815 | G24: Biochem | J24: CLASS | O24: UWorld 1x20 | T24: CLASS | AD24: Pathoma/FA | AH24: Micro | AJ24: Pharm
A25: Wednesday | B25: 37 | D25: 42816 | G25: Micro | J25: CLASS | O25: UWorld 1x50 | V25: Pathoma | Y25: FA | AH25: Pharm | AJ25: Biochem
A26: Thursday | B26: 36 | D26: 42817 | G26: Pharm | J26: CLASS | O26: UWorld 1x50 | V26: Pathoma | Y26: FA | AH26: Biochem | AJ26: Micro
A27: Friday | B27: 35 | C27: Week3 | D27: 42818 | E27: Run | H27: Biochem | J27: World 1x40 | T27: CLASS | AD27: Pathoma/FA | AH27: Micro | AJ27: Pharm
A28: Saturday | B28: 34 | D28: 42819 | E28: MAKEUP DAY
A29: Sunday | B29: 33 | D29: 42820 | E29: Run | H29: Micro | J29: UWorld 2x40 | V29: Pathoma | Y29: FA | AH29: Pharm | AJ29: Biochem
A30: Monday | B30: 32 | D30: 42821 | E30: Run | H30: Pharm | J30: UWorld 2x40 | V30: Pathoma | Y30: FA | AH30: Biochem | AJ30: Micro
A31: Tuesday | B31: 31 | D31: 42822 | E31: Run | H31: Biochem | J31: UWorld 2x40 | V31: Pathoma | Y31: FA | AH31: Micro | AJ31: Pharm
A32: Wednesday | B32: 30 | D32: 42823 | H32: Micro | J32: UWorld 2x40 | V32: Pathoma | Y32: FA | AH32: Pharm | AJ32: Biochem
A33: Thursday | B33: 29 | D33: 42824 | E33: Run | H33: Pharm | J33: UWorld 2x40 | V33: Pathoma | Y33: FA | AH33: Biochem | AJ33: Micro
A34: Friday | B34: 28 | C34: Week4 | D34: 42825 | E34: Run | J34: CBSSA 15 | AH34: Micro | AJ34: Pharm
A35: Saturday | B35: 27 | D35: 42826 | H35: Biochem | J35: UWorld 2x40 | V35: Pathoma | Z35: FA
A36: Sunday | B36: 26 | D36: 42827 | E36: Run | H36: Micro | J36: UWorld 2x40 | V36: Pathoma | Z36: FA | AH36: Pharm | AJ36: Biochem
A37: Monday | B37: 25 | D37: 42828 | E37: Run | H37: Pharm | J37: UWorld 2x40 | V37: Pathoma | Z37: FA | AH37: Biochem | AJ37: Micro
A38: Tuesday | B38: 24 | D38: 42829 | E38: Run | H38: Biochem | J38: UWorld 2x40 | V38: Pathoma | Z38: FA | AH38: Micro | AJ38: Pharm
A39: Wednesday | B39: 23 | D39: 42830 | R39: UWorld 2x40 | AD39: FA
A40: Thursday | B40: 22 | D40: 42831 | E40: Run | H40: Micro | J40: UWorld 2x40 | V40: Pathoma | Z40: FA | AH40: Pharm | AJ40: Biochem
...

Sheet Step Study Daily 2
G1: 0.25 | H1: 0.27083333 | I1: 0.29166667 | J1: 0.3125 | K1: 0.33333333 | L1: 0.35416667 | M1: 0.375 | N1: 0.39583333 | O1: 0.41666667 | P1: 0.4375 | Q1: 0.45833333 | R1: 0.47916667 | S1: 0.5 | T1: 0.52083333 | U1: 0.54166667 | V1: 0.5625 | W1: 0.58333333 | X1: 0.60416667 | Y1: 0.625 | Z1: 0.64583333 | AA1: 0.66666667 | AB1: 0.6875 | AC1: 0.70833333 | AD1: 0.72916667 | AE1: 0.75 | AF1: 0.77083333 | AG1: 0.79166667 | AH1: 0.8125 | AI1: 0.83333333 | AJ1: 0.85416667 | AK1: 0.875 | AL1: 0.89583333 | AM1: 0.91666667 | AN1: 0.9375
A2: Week 1 | B2: 30 | C2: Monday | D2: 42856 | G2: RUN | H2: SHOWER | I2: COFFEE | J2: PATHWAYS | K2: USMLE-RX 2x40 | S2: BREAK | T2: USMLE-RX 1x40 | X2: UWORLD 1x40 | AB2: BREAK | AC2: PATHOMA | AE2: BREAK | AG2: PATHOLOGY | AI2: PHARMACOLOGY | AK2: BIOCHEMISTRY | AM2: SEINFELD | AN2: BED
B3: 29 | C3: Tuesday | D3: 42857 | G3: SLEEP | H3: SHOWER | I3: COFFEE | J3: PATHWAYS | K3: USMLE-RX 2x40 | S3: BREAK | T3: USMLE-RX 1x40 | X3: UWORLD 1x40 | AB3: BREAK | AC3: PATHOMA | AE3: BREAK | AG3: PATHOLOGY | AI3: MICROBIOLOGY | AK3: BIOCHEMISTRY | AM3: SEINFELD | AN3: BED
B4: 28 | C4: Wednesday | D4: 42858 | G4: RUN | H4: SHOWER | I4: COFFEE | J4: PATHWAYS | K4: USMLE-RX 2x40 | S4: BREAK | T4: USMLE-RX 1x40 | X4: UWORLD 1x40 | AB4: BREAK | AC4: PATHOMA | AE4: BREAK | AG4: PATHOLOGY | AI4: PHARMACOLOGY | AK4: BIOCHEMISTRY | AM4: SEINFELD | AN4: BED
B5: 27 | C5: Thursday | D5: 42859 | G5: RUN | H5: SHOWER | I5: COFFEE | J5: PATHWAYS | K5: USMLE-RX 2x40 | S5: BREAK | T5: USMLE-RX 1x40 | X5: UWORLD 1x40 | AB5: BREAK | AC5: PATHOMA | AE5: BREAK | AG5: PATHOLOGY | AI5: MICROBIOLOGY | AK5: BIOCHEMISTRY | AM5: SEINFELD | AN5: BED
B6: 26 | C6: Friday | D6: 42860 | G6: RUN | H6: SHOWER | I6: COFFEE | J6: PATHWAYS | K6: USMLE-RX 2x40 | S6: BREAK | T6: USMLE-RX 1x40 | X6: UWORLD 1x40 | AB6: BREAK | AC6: PATHOMA | AE6: BREAK | AG6: PATHOLOGY | AI6: PHARMACOLOGY | AK6: BIOCHEMISTRY | AM6: SEINFELD | AN6: BED | AS6: Picmonic | AT6: 2000 | AU6: =AT6/4/7 -> 71.428571 | AV6: fcs | AW6: 2.5 | AX6: hrs
B7: 25 | C7: Saturday | D7: 42861 | G7: SLEEP | I7: RUN | J7: SHOWER | K7: COFFEE | L7: MICROBIOLOGY | N7: BREAK | O7: BIOCHEMISTRY | Q7: BREAK | R7: PATHOMA | T7: BREAK | U7: PATHOLOGY | W7: BREAK | X7: PHARMACOLOGY | Z7: CATCHUP | AC7: OFF | AN7: BED | AS7: USMLE-Rx | AT7: 2300 | AU7: =AT7/4/6 -> 95.833333 | AV7: qs | AW7: 4.5
B8: 24 | C8: Sunday | D8: 42862 | G8: SLEEP | H8: SHOWER | I8: COFFEE | J8: PATHWAYS | K8: USMLE-RX 2x40 | S8: BREAK | T8: USMLE-RX 1x40 | X8: UWORLD 1x40 | AB8: BREAK | AC8: PATHOMA | AE8: BREAK | AG8: PATHOLOGY | AI8: PHARMACOLOGY | AK8: BIOCHEMISTRY | AM8: SEINFELD | AN8: BED | AS8: Uworld | AT8: 1500 | AV8: qs | AW8: 2.5
A9: Week 2 | B9: 23 | C9: Monday | D9: 42863 | G9: RUN | H9: SHOWER | I9: COFFEE | J9: PATHWAYS | K9: USMLE-RX 2x40 | S9: BREAK | T9: USMLE-RX 1x40 | X9: UWORLD 1x40 | AB9: BREAK | AC9: PATHOMA | AE9: BREAK | AG9: PATHOLOGY | AI9: MICROBIOLOGY | AK9: BIOCHEMISTRY | AM9: SEINFELD | AN9: BED | AS9: Sketchy Micro | AT9: 100 | AU9: 60 | AV9: fcs | AW9: 1
B10: 22 | C10: Tuesday | D10: 42864 | G10: RUN | H10: SHOWER | I10: COFFEE | J10: PATHWAYS | K10: USMLE-RX 2x40 | S10: BREAK | T10: USMLE-RX 1x40 | X10: UWORLD 1x40 | AB10: BREAK | AC10: PATHOMA | AE10: BREAK | AG10: PATHOLOGY | AI10: PHARMACOLOGY | AK10: BIOCHEMISTRY | AM10: SEINFELD | AN10: BED | AS10: Sketchy Pharm | AT10: 125 | AU10: 60 | AV10: fcs | AW10: 1
B11: 21 | C11: Wednesday | D11: 42865 | G11: RUN | H11: SHOWER | I11: COFFEE | J11: PATHWAYS | K11: USMLE-RX 2x40 | S11: BREAK | T11: USMLE-RX 1x40 | X11: UWORLD 1x40 | AB11: BREAK | AC11: PATHOMA | AE11: BREAK | AG11: PATHOLOGY | AI11: MICROBIOLOGY | AK11: BIOCHEMISTRY | AM11: SEINFELD | AN11: BED | AS11: Pathoma | AT11: 25 | AU11: =AT11/4/6 -> 1.0416667 | AV11: hrs | AW11: 1
B12: 20 | C12: Thursday | D12: 42866 | G12: SLEEP | I12: RUN | J12: SHOWER | K12: COFFEE | L12: MICROBIOLOGY | N12: BREAK | O12: BIOCHEMISTRY | Q12: BREAK | R12: PATHOMA | T12: BREAK | U12: PATHOLOGY | W12: BREAK | X12: PHARMACOLOGY | Z12: CATCHUP | AC12: OFF | AN12: BED | AS12: Biochem Pathways (15?) | AT12: 15 | AU12: 0.5 | AV12: hrs | AW12: 0.5
B13: 19 | C13: Friday | D13: 42867 | G13: RUN | H13: SHOWER | I13: COFFEE | J13: PATHWAYS | K13: USMLE-RX 2x40 | S13: BREAK | T13: USMLE-RX 1x40 | X13: UWORLD 1x40 | AB13: BREAK | AC13: PATHOMA | AE13: BREAK | AG13: PATHOLOGY | AI13: PHARMACOLOGY | AK13: BIOCHEMISTRY | AM13: SEINFELD | AN13: BED
B14: 18 | C14: Saturday | D14: 42868 | G14: RUN | H14: SHOWER | I14: COFFEE | J14: PATHWAYS | K14: USMLE-RX 2x40 | S14: BREAK | T14: USMLE-RX 1x40 | X14: UWORLD 1x40 | AB14: BREAK | AC14: PATHOMA | AE14: BREAK | AG14: PATHOLOGY | AI14: MICROBIOLOGY | AK14: BIOCHEMISTRY | AM14: SEINFELD | AN14: BED
B15: 17 | C15: Sunday | D15: 42869 | G15: RUN | H15: SHOWER | I15: COFFEE | J15: PATHWAYS | K15: USMLE-RX 2x40 | S15: BREAK | T15: USMLE-RX 1x40 | X15: UWORLD 1x40 | AB15: BREAK | AC15: PATHOMA | AE15: BREAK | AG15: PATHOLOGY | AI15: PHARMACOLOGY | AK15: BIOCHEMISTRY | AM15: SEINFELD | AN15: BED
A16: Week 3 | B16: 16 | C16: Monday | D16: 42870 | G16: RUN | H16: SHOWER | I16: COFFEE | J16: PATHWAYS | K16: UWORLD 2x40 | S16: BREAK | T16: USMLE-RX 1x40 | X16: UWORLD 1x40 | AB16: BREAK | AC16: PATHOMA | AE16: BREAK | AG16: PATHOLOGY | AI16: MICROBIOLOGY | AK16: BIOCHEMISTRY | AM16: SEINFELD | AN16: BED
B17: 15 | C17: Tuesday | D17: 42871 | G17: RUN | H17: SHOWER | I17: COFFEE | J17: PATHWAYS | K17: UWORLD 2x40 | S17: BREAK | T17: USMLE-RX 1x40 | X17: UWORLD 1x40 | AB17: BREAK | AC17: PATHOMA | AE17: BREAK | AG17: PATHOLOGY | AI17: PHARMACOLOGY | AK17: BIOCHEMISTRY | AM17: SEINFELD | AN17: BED
B18: 14 | C18: Wednesday | D18: 42872 | G18: SLEEP | I18: RUN | J18: SHOWER | K18: COFFEE | L18: MICROBIOLOGY | N18: BREAK | O18: BIOCHEMISTRY | Q18: BREAK | R18: PATHOMA | T18: BREAK | U18: PATHOLOGY | W18: BREAK | X18: PHARMACOLOGY | Z18: CATCHUP | AC18: OFF | AN18: BED
B19: 13 | C19: Thursday | D19: 42873 | G19: RUN | H19: SHOWER | I19: COFFEE | J19: TRAVEL | K19: NBME 13 +/- 17 | X19: TRAVEL | Y19: REVIEW | AE19: BREAK | AG19: PATHOLOGY | AI19: PHARMACOLOGY | AK19: BIOCHEMISTRY | AM19: SEINFELD | AN19: BED
B20: 12 | C20: Friday | D20: 42874 | G20: RUN | H20: SHOWER | I20: COFFEE | J20: PATHWAYS | K20: UWORLD 2x40 | S20: BREAK | T20: USMLE-RX 1x40 | X20: UWORLD 1x40 | AB20: BREAK | AC20: PATHOMA | AE20: BREAK | AG20: PATHOLOGY | AI20: MICROBIOLOGY | AK20: BIOCHEMISTRY | AM20: SEINFELD | AN20: BED
B21: 11 | C21: Saturday | D21: 42875 | G21: SLEEP | H21: SHOWER | I21: COFFEE | J21: PATHWAYS | K21: UWORLD 2x40 | S21: BREAK | T21: USMLE-RX 1x40 | X21: UWORLD 1x40 | AB21: BREAK | AC21: PATHOMA | AE21: BREAK | AG21: PATHOLOGY | AI21: PHARMACOLOGY | AK21: BIOCHEMISTRY | AM21: SEINFELD | AN21: BED
B22: 10 | C22: Sunday | D22: 42876 | G22: RUN | H22: SHOWER | I22: COFFEE | J22: PATHWAYS | K22: UWORLD 2x40 | S22: BREAK | T22: USMLE-RX 1x40 | X22: UWORLD 1x40 | AB22: BREAK | AC22: PATHOMA | AE22: BREAK | AG22: PATHOLOGY | AI22: MICROBIOLOGY | AK22: BIOCHEMISTRY | AM22: SEINFELD | AN22: BED
A23: Week 4 | B23: 9 | C23: Monday | D23: 42877 | G23: RUN | H23: SHOWER | I23: COFFEE | J23: PATHWAYS | K23: UWORLD 2x40 | S23: BREAK | T23: USMLE-RX 1x40 | X23: UWORLD 1x40 | AB23: BREAK | AC23: PATHOMA | AE23: BREAK | AG23: PATHOLOGY | AI23: PHARMACOLOGY | AK23: BIOCHEMISTRY | AM23: SEINFELD | AN23: BED
B24: 8 | C24: Tuesday | D24: 42878 | E24: Put together travel list/stuff; figure out travel day logistics; any "day before" stuff | G24: SLEEP | I24: RUN | J24: SHOWER | K24: COFFEE | L24: MICROBIOLOGY | N24: BREAK | O24: BIOCHEMISTRY | Q24: BREAK | R24: PATHOMA | T24: BREAK | U24: PATHOLOGY | W24: BREAK | X24: PHARMACOLOGY | Z24: CATCHUP | AC24: OFF | AN24: BED
B25: 7 | C25: Wednesday | D25: 42879 | G25: RUN | H25: SHOWER | I25: COFFEE | J25: PATHWAYS | K25: UWORLD 2x40 | S25: BREAK | T25: USMLE-RX 1x40 | X25: UWORLD 1x40 | AB25: BREAK | AC25: PATHOMA | AE25: BREAK | AG25: PATHOLOGY | AI25: PHARMACOLOGY | AK25: BIOCHEMISTRY | AM25: SEINFELD | AN25: BED
B26: 6 | C26: Thursday | D26: 42880 | G26: RUN | H26: SHOWER | I26: COFFEE | J26: PATHWAYS | K26: UWORLD 2x40 | S26: BREAK | T26: USMLE-RX 1x40 | X26: UWORLD 1x40 | AB26: BREAK | AC26: PATHOMA | AE26: BREAK | AG26: PATHOLOGY | AI26: MICROBIOLOGY | AK26: BIOCHEMISTRY | AM26: SEINFELD | AN26: BED
B27: 5 | C27: Friday | D27: 42881 | G27: RUN | H27: SHOWER | I27: COFFEE | J27: PATHWAYS | K27: UWORLD 2x40 | S27: BREAK | T27: UWORLD 2x40 | AB27: BREAK | AC27: PATHOMA | AE27: BREAK | AG27: PATHOLOGY | AI27: PHARMACOLOGY | AK27: BIOCHEMISTRY | AM27: SEINFELD | AN27: BED
B28: 4 | C28: Saturday | D28: 42882 | G28: SLEEP | H28: SHOWER | I28: COFFEE | J28: PATHWAYS | K28: UWORLD 2x40 | S28: BREAK | T28: UWORLD 2x40 | AB28: BREAK | AC28: PATHOMA | AE28: BREAK | AG28: PATHOLOGY | AI28: MICROBIOLOGY | AK28: BIOCHEMISTRY | AM28: SEINFELD | AN28: BED
A29: REVIEW | B29: 3 | C29: Sunday | D29: 42883 | E29: COMP REVIEW | G29: RUN | H29: SHOWER | I29: COFFEE | J29: BIOCHEMISTRY | N29: BREAK | O29: IMMUNOLOGY | Q29: BREAK | R29: PATHOLOGY | S29: PHARMACOLOGY | T29: PUBLIC HEALTH | U29: BREAK | V29: CARDIOLOGY | Y29: BREAK | Z29: ENDOCRINE | AB29: BREAK | AC29: GASTRO | AF29: BREAK | AG29: HEM/ONC | AM29: SEINFELD | AN29: BED
A30: REVIEW | B30: 2 | C30: Monday | D30: 42884 | E30: COMP REVIEW | G30: RUN | H30: SHOWER | I30: COFFEE | J30: MSK | M30: BREAK | N30: NEURO | P30: BREAK | Q30: NEURO | S30: BREAK | T30: PSYCH | V30: BREAK | W30: RENAL | Y30: BREAK | Z30: REPRO | AC30: BREAK | AD30: RESPIRATORY | AM30: SEINFELD | AN30: BED
A31: OFF | B31: 1 | C31: Tuesday | D31: 42885 | E31: OFF | G31: SLEEP | I31: RUN | J31: SHOWER | K31: COFFEE | L31: OFF | AM31: SEINFELD | AN31: BED
A32: EXAM | B32: 0 | C32: Wednesday | D32: 42886 | E32: EXAM | G32: RUN | H32: SHOWER | I32: COFFEE | J32: TRAVEL | K32: EXAM
D38: 42878 | Q38: PATHOMA | T38: PATHOMA | W38: LAB | AA38: PATHOMA | AD38: PATHOMA | AG38: PATHOMA
D39: 42879 | G39: RUN | H39: SHOWER | I39: COFFEE | J39: PATHWAYS | K39: UWORLD 2x40 | S39: BREAK | T39: UWORLD 2x40 | AB39: BREAK | AC39: PATHOMA | AE39: BREAK | AG39: PATHOLOGY | AI39: PHARMACOLOGY | AK39: MICROBIOLOGY
D40: 42880 | G40: RUN | H40: SHOWER | I40: COFFEE | J40: PATHWAYS | K40: UWORLD 2x40 | S40: BREAK | T40: UWORLD 2x40 | AB40: BREAK | AC40: PATHOMA | AE40: BREAK | AG40: PATHOLOGY | AI40: PHARMACOLOGY | AK40: MICROBIOLOGY
D41: 42881 | E41: COMP REVIEW | G41: SLEEP | H41: SHOWER | I41: COFFEE | J41: PATHWAYS | K41: UWORLD 2x40 | S41: BREAK | T41: BIOCHEMISTRY | X41: BREAK | Y41: IMMUNOLOGY | AA41: BREAK | AB41: PATHOLOGY | AC41: BREAK | AD41: HEM/ONC | AG41: BREAK | AH41: PATHOMA | AJ41: BREAK | AK41: PATHOLOGY
D42: 42882 | E42: COMP REVIEW | G42: RUN | H42: SHOWER | I42: COFFEE | J42: PATHWAYS | K42: UWORLD 1x40 + Online 1x40 | S42: BREAK | T42: MSK | W42: BREAK | X42: NEURO | Z42: BREAK | AA42: NEURO | AC42: BREAK | AD42: NEURO | AF42: BREAK | AH42: PATHOMA | AJ42: BREAK | AK42: PATHOLOGY
D43: 42883 | E43: COMP REVIEW | G43: RUN | H43: SHOWER | I43: COFFEE | J43: PATHWAYS | K43: UWORLD 1x40 + Online 1x40 | S43: BREAK | T43: PHARMACOLOGY | U43: PUBLIC HEALTH | V43: BREAK | W43: CARDIOLOGY | Z43: BREAK | AA43: ENDOCRINE | AC43: BREAK | AG43: BREAK | AH43: PATHOMA | AJ43: BREAK | AK43: PATHOLOGY
D44: 42884 | E44: COMP REVIEW | G44: SLEEP | H44: SHOWER | I44: COFFEE | J44: PATHWAYS | K44: UWORLD 1x40 + Online 1x40 | S44: BREAK | T44: GASTRO | W44: BREAK | X44: RENAL | Z44: BREAK | AA44: REPRO | AD44: BREAK | AE44: RESPIRATORY | AG44: BREAK | AH44: PATHOMA | AJ44: BREAK | AK44: PATHOLOGY
D45: 42885 | E45: OFF | W45: PSYCH
...

Sheet Daily Drawing
A1: Biochem Pathways | H1: Receptor Mechanisms
A2: Summary of pathways | B2: X | H2: M1
A3: Glycolysis (regulatory enzymes, fructose-2,6-bisphosphate, PDH) | H3: M2
A4: Ketogenesis | H4: M3
A5: Fatty acid metabolism (carnitine and citrate shuttles) | H5: Gs
A6: TCA cycle | H6: Gq
A7: Urea cycle | H7: Gi
A8: Cori-Cahill | H8: H1
A9: De novo pyrimidine and purine synthesis | B9: X | H9: H2
A10: Purine salvage pathway | H10: GABA
A11: Collagen synthesis | H11: u-opioid
A12: Odd chain fatty acid metabolism | H12: TKR
A13: THF-Methionine-Homocysteine | H13: Non-TK
A14: Ethanol metabolism (with NADH usage links) | H14: cAMP
A15: Pyruvate metabolism | H15: cGMP
A16: ETC
A17: HMP shunt
A18: Fructose metabolism
A19: Galactose metabolism
A20: Sorbitol (polyol pathway)
A21: Catecholamine sythesis
A22: Amino acid derivatives
A23: Lysosomal storage disease pathways
B24: N-acetylglucosamine-1-phosphotransferase
A25: Coag cascade
A26: Platelet plug | B26: X
A27: Arachdonic acid pathway
A28: Adrenal hyperplasias pathways
A29: optic paths (2)
A30: G6PDH (deficiency) pathway (what G6PD is needed for, i.e. glutathione, biosynth of cholesterol, FA, steroids
B31: Tie into respiratory burst p.105
A32: antibodies | B32: X
A33: lateral medullary syndrome (strokes p.484) | B33: X
A34: aortic arch main branches + derivatives p.586
A35: acid suppression therapy (receptors, mechanisms) p.381
A36: folate, iron, b12 absorption (jejunem, duodenum, terminal ileum)
A37: types of shock p.299
A38: psommoma bodies p.
A39: osteoblastic vs osteolytic lesions
A40: tumor markers
...

Sheet FA Content
C1: Page Number | D1: Total Pages
B2: Biochemistry | C2: 31 | D2: =C3-C2-1 -> 59 | F2: 2
B3: Immunology | C3: 91 | D3: =C4-C3-1 -> 27 | F3: 1
B4: Microbiology | C4: 119 | D4: =C5-C4-1 -> 83 | F4: 0
B5: Pathology | C5: 203 | D5: =C6-C5-1 -> 19 | F5: 0.5
B6: Pharmacology | C6: 223 | D6: =C7-C6-1 -> 21 | F6: 0.5
B7: Public Health Sciences | C7: 245 | D7: =C8-C7-1 -> 18 | F7: 0.5
C8: 264
B9: Cardiovascular | C9: 267 | D9: =C10-C9-1 -> 43 | F9: 2
B10: Endocrine | C10: 311 | D10: =C11-C10-1 -> 31 | F10: 1
B11: Gastrointenstinal | C11: 343 | D11: =C12-C11-1 -> 41 | F11: 2
B12: Hematology and Oncology | C12: 385 | D12: =C13-C12-1 -> 37 | F12: 2
B13: Muscoskeletal, Skin, and Connective Tissue | C13: 423 | D13: =C14-C13-1 -> 35 | F13: 2
B14: Neurology and Special Senses | C14: 459 | D14: =C15-C14-1 -> 63 | F14: 3
B15: Psychiatry | C15: 523 | D15: =C16-C15-1 -> 23 | F15: 1
B16: Renal | C16: 547 | D16: =C17-C16-1 -> 31 | F16: 2
B17: Reproductive | C17: 579 | D17: =C18-C17-1 -> 45 | F17: 2
B18: Respiratory | C18: 625 | D18: =C19-C18-1 -> 25 | F18: 1
B19: Rapid Review | C19: 651 | D19: =C20-C19-1 -> 20
C20: 672 | G20: 3 Weeks | H20: 2 Weeks
D21: =SUM(D2:D18) -> 601 | F21: 7 day | G21: =D21/(7*3) -> 28.619048 | H21: =D21/(7*2) -> 42.928571
F22: 6.5 day | G22: =D21/(6.5*3) -> 30.820513 | H22: =D21/(6.5*2) -> 46.230769
F23: 6 day | G23: =D21/(6*3) -> 33.388889 | H23: =D21/(6*2) -> 50.083333

Sheet UWorld
C1: U | D1: C | E1: I | F1: T | G1: FA Section
B2: Immunology | C2: 39 | D2: 22 | E2: 30 | F2: =SUM(C2:E2) -> 91 | AD2: Pages | AE2: Chapter | AF2: Pathoma Chapters | AG2: Minutes
B3: Microbiology | C3: 176 | D3: 11 | E3: 35 | F3: =SUM(C3:E3) -> 222 | AD3: 10 | AE3: 1 | AF3: Growth Adaptations, Cellular Injury, and Cell Death | AG3: 4.5881944 | AH3: Pathology
B4: Pathology | C4: 588 | D4: 2 | E4: 0 | F4: =SUM(C4:E4) -> 590 | AD4: 12 | AE4: 2 | AF4: Inflammation, Inflammatory Disorders, and Healing | AG4: 6.6847222 | AH4: Pathology
B5: Pathophysiology | C5: 186 | D5: 26 | E5: 25 | F5: =SUM(C5:E5) -> 237 | AD5: 8 | AE5: 3 | AF5: Principles of Neoplasia | AG5: 4.0909722 | AH5: Pathology
B6: Pharmacology | C6: 341 | D6: 19 | E6: 25 | F6: =SUM(C6:E6) -> 385 | AC6: 4 | AD6: 10 | AE6: 4 | AF6: Hemostasis and Related Disorders | AG6: 3.2944444 | AH6: Hematology and Oncology
B7: Biostatistics | C7: 47 | D7: 14 | E7: 4 | F7: =SUM(C7:E7) -> 65 | AC7: 2 | AD7: 12 | AE7: 5 | AF7: Red Blood Cell Disorders | AG7: 4.8659722 | AH7: Hematology and Oncology
B8: Genetics | C8: 54 | D8: 14 | E8: 16 | F8: =SUM(C8:E8) -> 84 | AC8: 3 | AD8: 12 | AE8: 6 | AF8: White Blood Cell Disorders | AG8: 3.5027778 | AH8: Hematology and Oncology
B9: Anatomy | C9: 158 | D9: 26 | E9: 34 | F9: =SUM(C9:E9) -> 218 | AD9: 8 | AE9: 7 | AF9: Vascular Pathology | AG9: 2.0652778 | AH9: Cardiovascular
B10: Biochemistry | C10: 120 | D10: 16 | E10: 28 | F10: =SUM(C10:E10) -> 164 | AC10: 1 | AD10: 12 | AE10: 8 | AF10: Cardiac Pathology | AG10: 2.78125 | AH10: Cardiovascular
B11: Embryology | C11: 14 | D11: 19 | E11: 14 | F11: =SUM(C11:E11) -> 47 | M11: Picmonics | Q11: FA Sections | R11: UW-U | S11: UW-C | T11: UW-I | U11: Qs | V11: Ps | W11: Q:P | X11: Vs | AD11: 14 | AE11: 9 | AF11: Respiratory Tract Pathology | AG11: 4.0333333 | AH11: Respiratory
B12: Histology | C12: 7 | D12: 14 | E12: 8 | F12: =SUM(C12:E12) -> 29 | M12: 724 | Q12: Biochemistry | U12: =SUM(R12:T12) -> 0 | V12: 59 | W12: =U12/V12 -> 0 | X12: =SUM(Y12:AA12) -> 0 | AD12: 16 | AE12: 10 | AF12: Gastrointestinal Pathology | AG12: 4.6548611 | AH12: Gastrointenstinal
B13: Physiology | C13: 128 | D13: 22 | E13: 24 | F13: =SUM(C13:E13) -> 174 | M13: 146 | N13: 5 | P13: 1 | Q13: Immunology | R13: 24 | U13: =SUM(R13:T13) -> 24 | V13: 27 | W13: =U13/V13 -> 0.88888889 | X13: =SUM(Y13:AA13) -> 15.363889 | Y13: 6.6847222 | Z13: 4.5881944 | AA13: 4.0909722 | AD13: 10 | AE13: 11 | AF13: Exocrine Pancreas, Gallbladder, and Liver | AG13: 1.9395833 | AH13: Gastrointenstinal
B14: Behavioral Science | C14: 147 | D14: 14 | E14: 8 | F14: =SUM(C14:E14) -> 169 | N14: 9 | P14: 13 | Q14: Microbiology | R14: 139 | U14: =SUM(R14:T14) -> 139 | V14: 83 | W14: =U14/V14 -> 1.6746988 | X14: =SUM(Y14:AA14) -> 0 | AD14: 12 | AE14: 12 | AF14: Kidney and Urinary Tract Pathology | AG14: 2.8284722 | AH14: Renal
F15: =SUM(F2:F14) -> 2475 | N15: 8 | P15: 14 | Q15: Pathology | R15: 73 | U15: =SUM(R15:T15) -> 73 | V15: 19 | W15: =U15/V15 -> 3.8421053 | X15: =SUM(Y15:AA15) -> 0 | AC15: 8 | AD15: 14 | AE15: 13 | AF15: Female Genital System and Gestation | AG15: 4.5638889 | AH15: Reproductive
N16: 7 | P16: 15 | Q16: Pharmacology | R16: 6 | U16: =SUM(R16:T16) -> 6 | V16: 21 | W16: =U16/V16 -> 0.28571429 | X16: =SUM(Y16:AA16) -> 0 | AC16: 10 | AD16: 8 | AE16: 14 | AF16: Male Genital System Pathology | AG16: 1.2270833 | AH16: Reproductive
N17: 6 | P17: 12 | Q17: Public Health Sciences | R17: 47 | S17: 45 | U17: =SUM(R17:T17) -> 92 | V17: 18 | W17: =U17/V17 -> 5.1111111 | X17: =SUM(Y17:AA17) -> 0 | AC17: 7 | AD17: 14 | AE17: 15 | AF17: Endocrine Pathology | AG17: 2.7076389 | AH17: Endocrine
B18: Allergy & Immunology | C18: 24 | F18: =SUM(C18:E18) -> 24 | G18: Immunology | X18: =SUM(Y18:AA18) -> 0 | AC18: 9 | AD18: 6 | AE18: 16 | AF18: Breast Pathology | AG18: 1.7638889 | AH18: Reproductive
B19: Biostatistics & Epidemiology | C19: 46 | D19: 1 | E19: 0 | F19: =SUM(C19:E19) -> 47 | G19: Public Health Sciences | L19: 6 | M19: 105 | P19: 6 | Q19: Cardiovascular | R19: 313 | U19: =SUM(R19:T19) -> 313 | V19: 43 | W19: =U19/V19 -> 7.2790698 | X19: =SUM(Y19:AA19) -> 4.8465278 | Y19: 2.0652778 | Z19: 2.78125 | AD19: 14 | AE19: 17 | AF19: Central Nervous System Pathology | AG19: 2.8465278 | AH19: Neurology and Special Senses
B20: Cardiovascular System | C20: 234 | D20: 39 | E20: 40 | F20: =SUM(C20:E20) -> 313 | G20: Cardiovascular | L20: 3 | M20: 66 | N20: 2 | P20: 9 | Q20: Endocrine | R20: 190 | U20: =SUM(R20:T20) -> 190 | V20: 31 | W20: =U20/V20 -> 6.1290323 | X20: =SUM(Y20:AA20) -> 2.7076389 | Y20: 2.7076389 | AC20: 5 | AD20: 10 | AE20: 18 | AF20: Musculoskeletal Pathology | AG20: 2.2729167 | AH20: Muscoskeletal, Skin, and Connective Tissue
B21: Dermatology | C21: 53 | D21: 4 | E21: 9 | F21: =SUM(C21:E21) -> 66 | G21: Muscoskeletal, Skin, and Connective Tissue | M21: 181 | P21: 3 | Q21: Gastrointenstinal | R21: 238 | U21: =SUM(R21:T21) -> 238 | V21: 41 | W21: =U21/V21 -> 5.804878 | X21: =SUM(Y21:AA21) -> 6.5944444 | Y21: 4.6548611 | Z21: 1.9395833 | AC21: 6 | AD21: 8 | AE21: 19 | AF21: Skin Pathology | AG21: 1.4243056 | AH21: Muscoskeletal, Skin, and Connective Tissue
B22: Ear, Nose & Throat (ENT) | C22: 12 | F22: =SUM(C22:E22) -> 12 | G22: Neurology and Special Senses | L22: 4 | M22: 379 (285) | N22: 4 | P22: 10 | Q22: Hematology and Oncology | R22: 236 | U22: =SUM(R22:T22) -> 236 | V22: 37 | W22: =U22/V22 -> 6.3783784 | X22: =SUM(Y22:AA22) -> 11.663194 | Y22: 3.2944444 | Z22: 4.8659722 | AA22: 3.5027778
B23: Endocrine, Diabetes & Metabolism | C23: 180 | D23: 5 | E23: 5 | F23: =SUM(C23:E23) -> 190 | G23: Endocrine | L23: 5 | M23: 415 (124) | N23: 1 | P23: 8 | Q23: Muscoskeletal, Skin, and Connective Tissue | R23: 66 | S23: 145 | U23: =SUM(R23:T23) -> 211 | V23: 35 | W23: =U23/V23 -> 6.0285714 | X23: =SUM(Y23:AA23) -> 3.6972222 | Y23: 2.2729167 | Z23: 1.4243056 | AD23: =SUM(AD3:AD21) -> 210 | AG23: =SUM(AG3:AG21) -> 62.136111
B24: Female Reproductive System & Breast | C24: 63 | F24: =SUM(C24:E24) -> 63 | G24: Reproductive | L24: 7 | M24: 121 | P24: 2 | Q24: Neurology and Special Senses | R24: 12 | S24: 315 | T24: 11 | U24: =SUM(R24:T24) -> 338 | V24: 63 | W24: =U24/V24 -> 5.3650794 | X24: =SUM(Y24:AA24) -> 2.8465278 | Y24: 2.8465278
B25: Gastrointestinal & Nutrition | C25: 168 | D25: 29 | E25: 41 | F25: =SUM(C25:E25) -> 238 | G25: Gastrointenstinal | N25: 10 | P25: 7 | Q25: Psychiatry | R25: 117 | U25: =SUM(R25:T25) -> 117 | V25: 23 | W25: =U25/V25 -> 5.0869565 | X25: =SUM(Y25:AA25) -> 0 | AI25: 3 Weeks | AJ25: 2 Weeks | AK25: 2 Weeks (Reading)
B26: General Principles | C26: 73 | F26: =SUM(C26:E26) -> 73 | G26: Pathology | L26: 1 | M26: 155 | P26: 5 | Q26: Renal | R26: 153 | U26: =SUM(R26:T26) -> 153 | V26: 31 | W26: =U26/V26 -> 4.9354839 | X26: =SUM(Y26:AA26) -> 2.8284722 | Y26: 2.8284722 | AH26: 7 | AI26: =AG23/(7*3) -> 2.9588624 | AJ26: =AG23/(7*2) -> 4.4382937 | AK26: =AD23/(7*3) -> 10
B27: Hematology & Oncology | C27: 198 | D27: 26 | E27: 12 | F27: =SUM(C27:E27) -> 236 | G27: Hematology and Oncology | L27: 2 | M27: 203 | N27: 3 | P27: 11 | Q27: Reproductive | R27: 63 | S27: 24 | T27: 29 | U27: =SUM(R27:T27) -> 116 | V27: 45 | W27: =U27/V27 -> 2.5777778 | X27: =SUM(Y27:AA27) -> 7.5548611 | Y27: 4.5638889 | Z27: 1.2270833 | AA27: 1.7638889 | AH27: 6.5 | AI27: =AG23/(6.5*3) -> 3.1864672 | AJ27: =AG23/(6.5*2) -> 4.7797009 | AK27: =AD23/(6.5*2) -> 16.153846
B28: Infectious Diseases | C28: 135 | D28: 1 | E28: 3 | F28: =SUM(C28:E28) -> 139 | G28: Microbiology | L28: 8 | M28: 63 | P28: 4 | Q28: Respiratory | R28: 196 | U28: =SUM(R28:T28) -> 196 | V28: 25 | W28: =U28/V28 -> 7.84 | X28: =SUM(Y28:AA28) -> 4.0333333 | Y28: 4.0333333 | AH28: 6 | AI28: =AG23/(6*3) -> 3.4520062 | AJ28: =AG23/(6*2) -> 5.1780093 | AK28: =AD23/(6*2) -> 17.5
B29: Male Reproductive System | C29: 24 | F29: =SUM(C29:E29) -> 24 | G29: Reproductive | Q29: Rapid Review | U29: 33 | V29: 20 | W29: =U29/V29 -> 1.65 | X29: =SUM(Y29:AA29) -> 0
B30: Miscellaneous (Multisystem) | C30: 33 | F30: =SUM(C30:E30) -> 33 | U30: =SUM(U12:U29) -> 2475 | X30: =SUM(Y30:AA30) -> 0
B31: Nervous System | C31: 249 | D31: 29 | E31: 37 | F31: =SUM(C31:E31) -> 315 | G31: Neurology and Special Senses | Z31: 7 day | AA31: 6.5 day | AB31: 6 day
B32: Opthalmology | C32: 11 | F32: =SUM(C32:E32) -> 11 | G32: Neurology and Special Senses | W32: 5 Weeks | X32: 3 Weeks | Y32: =U30/5*3 -> 1485 | Z32: =Y32/21 -> 70.714286 | AA32: =Y32/(6.5*3) -> 76.153846 | AB32: =Y32/(6*3) -> 82.5
B33: Poisoning & Environmental Exposure | C33: 6 | F33: =SUM(C33:E33) -> 6 | G33: Pharmacology | X33: 2 Weeks | Y33: =U30/5*2 -> 990 | Z33: =Y33/(7*2) -> 70.714286 | AA33: =Y33/(6.5*2) -> 76.153846 | AB33: =Y33/(6*2) -> 82.5 | AG33: =SUM(AG4:AG8,AG10,AG20:AG21) -> 28.917361
B34: Pregnancy, Childbirth & Puerperium | C34: 29 | F34: =SUM(C34:E34) -> 29 | G34: Reproductive | W34: 2 Weeks | Y34: 2475 | Z34: =Y34/(7*2) -> 176.78571 | AA34: =Y34/(6.5*2) -> 190.38462 | AB34: =Y34/(6*2) -> 206.25
B35: Psychiatric/Behavioral & Substance Abuse | C35: 97 | D35: 10 | E35: 10 | F35: =SUM(C35:E35) -> 117 | G35: Psychiatry
B36: Pulmonary & Critical Care | C36: 118 | D36: 34 | E36: 44 | F36: =SUM(C36:E36) -> 196 | G36: Respiratory
B37: Renal, Urinary Systems & Substance Abuse | C37: 98 | D37: 23 | E37: 32 | F37: =SUM(C37:E37) -> 153 | G37: Renal
B38: Rheumatology/Orthopedics & Sports | C38: 109 | D38: 18 | E38: 18 | F38: =SUM(C38:E38) -> 145 | G38: Muscoskeletal, Skin, and Connective Tissue
B39: Social Sciences (Ethics/Legal/Professional) | C39: 45 | F39: =SUM(C39:E39) -> 45 | G39: Public Health Sciences
F40: =SUM(F18:F39) -> 2475 | Y40: FA
...

Sheet Pathoma
B1: Section | C1: Video | D1: Minutes (1.4x)
A2: 1 | B2: Growth Adaptations, Cellular Injury, and Cell Death | C2: Growth Adaptations | D2: 0.85
B3: =SUM(D2:D6) -> 4.5881944 | C3: Cellular Injury | D3: 1.3319444
C4: Cell Death | D4: 1.1479167
C5: Free Radical Injury | D5: 0.66388889
C6: Amyloidosis | D6: 0.59444444
A7: 2 | B7: Inflammation, Inflammatory Disorders, and Healing | C7: Acute Inflammation 1 | D7: 1.0652778 | E7: =SUM(D7:D9) -> 2.4368056
B8: =SUM(D7:D14) -> 6.6847222 | C8: Acute Inflammation 2 | D8: 0.80555556
C9: Acute Inflammation 3 | D9: 0.56597222
C10: Chronic Inflammation | D10: 0.76805556 | L10: =A2 -> 1 | M10: =B2 -> Growth Adaptations, Cellular Injury, and Cell Death | N10: =B3 -> 4.5881944 | O10: 1 | P10: =O11-O10 -> 10
C11: Primary Immunodeficiency | D11: 0.50763889 | L11: =A7 -> 2 | M11: =B7 -> Inflammation, Inflammatory Disorders, and Healing | N11: =B8 -> 6.6847222 | O11: 11 | P11: =O12-O11 -> 12
C12: Autoimmune Disorders 1 | D12: 0.88958333 | E12: =SUM(D12:D13) -> 2.2368056 | L12: =A15 -> 3 | M12: =B15 -> Principles of Neoplasia | N12: =B16 -> 4.0909722 | O12: 23 | P12: =O13-O12 -> 8
C13: Autoimmune Disorders 2 | D13: 1.3472222 | L13: =A21 -> 4 | M13: =B21 -> Hemostasis and Related Disorders | N13: =B22 -> 3.2944444 | O13: 31 | P13: =O14-O13 -> 10
C14: Wound Healing | D14: 0.73541667 | L14: =A26 -> 5 | M14: =B26 -> Red Blood Cell Disorders | N14: =B27 -> 4.8659722 | O14: 41 | P14: =O15-O14 -> 12
A15: 3 | B15: Principles of Neoplasia | C15: Neoplasia | D15: 1.1409722 | L15: =A34 -> 6 | M15: =B34 -> White Blood Cell Disorders | N15: =B35 -> 3.5027778 | O15: 53 | P15: =O16-O15 -> 12
B16: =SUM(D15:D20) -> 4.0909722 | C16: Carcinogenesis 1 | D16: 0.62013889 | E16: =SUM(D16:D18) -> 2.0590278 | L16: =A40 -> 7 | M16: =B40 -> Vascular Pathology | N16: =B41 -> 2.0652778 | O16: 65 | P16: =O17-O16 -> 8
C17: Carcinogenesis 2 | D17: 0.85902778 | L17: =A45 -> 8 | M17: =B45 -> Cardiac Pathology | N17: =B46 -> 2.78125 | O17: 73 | P17: =O18-O17 -> 12
C18: Carcinogenesis 3 | D18: 0.57986111 | L18: =A51 -> 9 | M18: =B51 -> Respiratory Tract Pathology | N18: =B52 -> 4.0333333 | O18: 85 | P18: =O19-O18 -> 14
C19: Tumor Progression | D19: 0.27152778 | L19: =A58 -> 10 | M19: =B58 -> Gastrointestinal Pathology | N19: =B59 -> 4.6548611 | O19: 99 | P19: =O20-O19 -> 16
C20: Clinical Characteristics | D20: 0.61944444 | L20: =A66 -> 11 | M20: =B66 -> Exocrine Pancreas, Gallbladder, and Liver | N20: =B67 -> 1.9395833 | O20: 115 | P20: =O21-O20 -> 10
A21: 4 | B21: Hemostasis and Related Disorders | C21: Primary Hemostasis | D21: 1.2701389 | L21: =A71 -> 12 | M21: =B71 -> Kidney and Urinary Tract Pathology | N21: =B72 -> 2.8284722 | O21: 125 | P21: =O22-O21 -> 12
B22: =SUM(D21:D25) -> 3.2944444 | C22: Secondary Hemostasis | D22: 0.61805556 | L22: =A78 -> 13 | M22: =B78 -> Female Genital System and Gestation | N22: =B79 -> 4.5638889 | O22: 137 | P22: =O23-O22 -> 14
C23: Other Disorders of Hemostasis | D23: 0.39166667 | L23: =A85 -> 14 | M23: =B85 -> Male Genital System Pathology | N23: =B86 -> 1.2270833 | O23: 151 | P23: =O24-O23 -> 8
C24: Thrombosis | D24: 0.65972222 | L24: =A89 -> 15 | M24: =B89 -> Endocrine Pathology | N24: =B90 -> 2.7076389 | O24: 159 | P24: =O25-O24 -> 14
C25: Embolism | D25: 0.35486111 | L25: =A94 -> 16 | M25: =B94 -> Breast Pathology | N25: =B95 -> 1.7638889 | O25: 173 | P25: =O26-O25 -> 6
A26: 5 | B26: Red Blood Cell Disorders | C26: Anemia | D26: 0.20833333 | L26: =A98 -> 17 | M26: =B98 -> Central Nervous System Pathology | N26: =B99 -> 2.8465278 | O26: 179 | P26: =O27-O26 -> 14
B27: =SUM(D26:D33) -> 4.8659722 | C27: Microcytic Anemias 1 | D27: 0.83541667 | E27: =SUM(D27:D29) -> 1.9798611 | L27: =A105 -> 18 | M27: =B105 -> Musculoskeletal Pathology | N27: =B106 -> 2.2729167 | O27: 193 | P27: =O28-O27 -> 10
C28: Microcytic Anemias 2 | D28: 0.56666667 | L28: =A109 -> 19 | M28: =B109 -> Skin Pathology | N28: =B110 -> 1.4243056 | O28: 203 | P28: =O29-O28 -> 8
C29: Microcytic Anemias 3 | D29: 0.57777778 | O29: 211
C30: Macrocytic Anemia | D30: 0.65416667
C31: Normocytic Anemia | D31: 0.45
C32: Norm. Anemias with Extravascular | D32: 0.75972222
C33: Intravascular Hemolysis & Underproduction | D33: 0.81388889
A34: 6 | B34: White Blood Cell Disorders | C34: Leukopenia & Leukocytosis | D34: 0.6125
B35: =SUM(D34:D39) -> 3.5027778 | C35: Acute Leukemia | D35: 0.56180556
C36: Chronic Leukemia | D36: 0.3125
C37: Myeloproliferative Disorders | D37: 0.64166667
C38: LAD, Lymphoma & Hodgkin Lymphoma | D38: 0.92152778
C39: Plasma Cell Disorders & Histiocytosis | D39: 0.45277778
A40: 7 | B40: Vascular Pathology | C40: Vasculitis | D40: 0.8
...

Sheet Sketchy
B1: Micro | F1: Pharm
B2: Videos (hours:mins:secs) | C2: Cards | F2: Videos | G2: Cards
B3: 0.061111111 | C3: 1610 | F3: 0.17430556 | G3: 2630
B4: 0.17222222 | C4: =C3/(61-8) -> 30.377358 | F4: 0.14722222 | G4: =G3/(61-8) -> 49.622642
B5: 0.085416667 | F5: 0.056944444
B6: =SUM(B3:B5) -> 0.31875 | F6: 0.13125
F7: 0.18541667
F8: 0.2125
F9: 0.092361111
F10: =SUM(F3:F9) -> 1

Sheet Picmonic
A1: Sensory receptors | B1: 464 | G1: Branchial pouches
A2: Neurotransmitter changes with disease | B2: 465 | G2: Branchial arches
A3: Cranial nerve and vessel pathways | B3: 476 | G3: DiGeorge
A4: Common brain lesions | B4: 481 | G4: Hormones and receptor types (e.g. glucagon is cAMP)
A5: Effects of strokes | B5: 484 | G5: G6P deficiency; maybe some (all?) anemias
G6: hemophilia
G7: tumors??
G8: leukemia and lymphoma
G9: vitamins | H9: through vitamin_6 (12)
G10: plummer vinson
G11: wiskott-aldrich
G12: digeorge syndrome (maybe)
G13: fanconi syndrome
G14: CREST?
G15: musculoskel muscles
H16: rotator cuff
G17: vasculatides
G18: muscular dystrophies
G19: charcot marie tooth
G20: alport syndrome
G21: myotonic dystrophy
A25: Sturge-Weber syndrome (encephalotrigeminal angiomatosis) | O25: Glioblastoma multiforme
A26: Tuberous sclerosis | O26: Oligodendroglioma
A27: Neurofibromatosis type I von Recklinghausen disease) | O27: Meniningioma
A28: Neurofibromatosis type II | O28: Hemangioblastoma
A29: von Hippel-Lindau disease | O29: Pituitary adenoma
A30: Friedrich ataxia | O30: Schwannoma
M31: muscles -14 | O31: Pilocytic astrocytoma
M32: veins & arteries | O32: Medulloblastoma
M33: brachial plexus - 5 | O33: Ependymoma
O34: Craniopharyngioma
O35: Pinealoma
A40: Subject | B40: Category | C40: Disease | G40: Times Missed
A41: Biochemistry | C41: Osteogenesis imperfecta | F41: 1 | G41: 1
C42: Ehlers-Danlos syndrome | F42: 2
C43: Menkes disease | F43: 0
C44: Prader-Willi | F44: 1
C45: Angelman | F45: 1
C46: Cystic fibrosis | F46: 1
B47: Muscular dystrophy | C47: Muscular dystrophy | F47: 1
...

Sheet UWorld Stats 1
A1: 25 | B1: 39 | C1: =A1/B1 -> 0.64102564
A2: 33 | B2: 40 | C2: =A2/B2 -> 0.825
A3: 26 | B3: 40 | C3: =A3/B3 -> 0.65
A4: 30 | B4: 40 | C4: =A4/B4 -> 0.75
A5: 19 | B5: 40 | C5: =A5/B5 -> 0.475
A6: 11 | B6: 20 | C6: =A6/B6 -> 0.55
A7: 23 | B7: 40 | C7: =A7/B7 -> 0.575
A8: 27 | B8: 40 | C8: =A8/B8 -> 0.675
A9: 10 | B9: 20 | C9: =A9/B9 -> 0.5
A10: 24 | B10: 40 | C10: =A10/B10 -> 0.6
A11: 27 | B11: 40 | C11: =A11/B11 -> 0.675
A12: 23 | B12: 40 | C12: =A12/B12 -> 0.575
... A51: 27 | B51: 40 | C51: =A51/B51 -> 0.675

Sheet First-Second UWorld Stats
A1: Ophthalmology | B1: 5 | C1: 6 | D1: 0 | E1: 0.45 | F1: 28th | H1: Ophthalmology | I1: 5 | J1: 2 | K1: 0 | L1: 0.71 | M1: 71st
A2: Female Reproductive System & Breast | B2: 33 | C2: 30 | D2: 0 | E2: 0.52 | F2: 40th | G2: X | H2: Nervous System | I2: 129 | J2: 51 | K2: 0 | L2: 0.72 | M2: 72nd
A3: Nervous System | B3: 166 | C3: 149 | D3: 0 | E3: 0.53 | F3: 42nd | G3: X | H3: Endocrine, Diabetes & Metabolism | I3: 81 | J3: 24 | K3: 0 | L3: 0.77 | M3: 79th
A4: Rheumatology/Orthopedics & Sports | B4: 77 | C4: 68 | D4: 0 | E4: 0.53 | F4: 42nd | G4: X | H4: Rheumatology/Orthopedics & Sports | I4: 65 | J4: 17 | K4: 0 | L4: 0.79 | M4: 81st
A5: Gastrointestinal & Nutrition | B5: 131 | C5: 107 | D5: 0 | E5: 0.55 | F5: 44th | G5: ~ | H5: Allergy & Immunology | I5: 12 | J5: 3 | K5: 0 | L5: 0.8 | M5: 82nd
A6: Renal, Urinary Systems & Electrolytes | B6: 85 | C6: 69 | D6: 0 | E6: 0.55 | F6: 44th | G6: X | H6: Hematology & Oncology | I6: 98 | J6: 23 | K6: 0 | L6: 0.81 | M6: 84th
A7: Pulmonary & Critical Care | B7: 113 | C7: 84 | D7: 0 | E7: 0.57 | F7: 47th | G7: * | H7: Cardiovascular System | I7: 160 | J7: 32 | K7: 0 | L7: 0.83 | M7: 85th
A8: Dermatology | B8: 38 | C8: 28 | D8: 0 | E8: 0.58 | F8: 49th | G8: X | H8: Gastrointestinal & Nutrition | I8: 104 | J8: 23 | K8: 0 | L8: 0.82 | M8: 85th
A9: Cardiovascular System | B9: 193 | C9: 132 | D9: 0 | E9: 0.59 | F9: 51st | G9: * | H9: Psychiatric/Behavioral & Substance Abuse | I9: 63 | J9: 13 | K9: 0 | L9: 0.83 | M9: 85th
A10: Endocrine, Diabetes & Metabolism | B10: 112 | C10: 78 | D10: 0 | E10: 0.59 | F10: 51st | G10: X | H10: Renal, Urinary Systems & Electrolytes | I10: 84 | J10: 17 | K10: 0 | L10: 0.83 | M10: 85th
A11: Allergy & Immunology | B11: 15 | C11: 9 | D11: 0 | E11: 0.62 | F11: 56th | G11: ~ | H11: Biostatistics & Epidemiology | I11: 26 | J11: 5 | K11: 0 | L11: 0.84 | M11: 86th
A12: Psychiatric/Behavioral & Substance Abuse | B12: 72 | C12: 45 | D12: 0 | E12: 0.62 | F12: 56th | G12: X | H12: Dermatology | I12: 32 | J12: 6 | K12: 0 | L12: 0.84 | M12: 86th
A13: Hematology & Oncology | B13: 151 | C13: 84 | D13: 0 | E13: 0.64 | F13: 59th | G13: * | H13: Pulmonary & Critical Care | I13: 102 | J13: 19 | K13: 0 | L13: 0.84 | M13: 86th
... A15: Ear, Nose & Throat (ENT) | B15: 8 | C15: 4 | D15: 0 | E15: 0.67 | F15: 66th | G15: * | H15: Pregnancy, Childbirth & Puerperium | I15: 13 | J15: 2 | K15: 0 | L15: 0.87 | M15: 88th
A16: General Principles | B16: 51 | C16: 22 | D16: 0 | E16: 0.7 | F16: 69th | H16: Ear, Nose & Throat (ENT) | I16: 8 | J16: 1 | K16: 0 | L16: 0.89 | M16: 89th
A17: Infectious Diseases | B17: 101 | C17: 40 | D17: 0 | E17: 0.72 | F17: 72nd | H17: General Principles | I17: 47 | J17: 5 | K17: 0 | L17: 0.9 | M17: 90th
A18: Miscellaneous (Multisystem) | B18: 25 | C18: 8 | D18: 0 | E18: 0.76 | F18: 78th | H18: Infectious Diseases | I18: 86 | J18: 9 | K18: 0 | L18: 0.91 | M18: 90th
A19: Biostatistics & Epidemiology | B19: 36 | C19: 11 | D19: 0 | E19: 0.77 | F19: 79th | G19: * | H19: Male Reproductive System | I19: 15 | J19: 1 | K19: 0 | L19: 0.94 | M19: 91st
A20: Male Reproductive System | B20: 19 | C20: 5 | D20: 0 | E20: 0.79 | F20: 81st | G20: * | H20: Miscellaneous (Multisystem) | I20: 19 | J20: 1 | K20: 0 | L20: 0.95 | M20: 91st
A21: Poisoning & Environmental Exposure | B21: 5 | C21: 1 | D21: 0 | E21: 0.83 | F21: 85th | H21: Poisoning & Environmental Exposure | I21: 3 | J21: 0 | K21: 0 | L21: 1 | M21: 92nd
A22: Social Sciences (Ethics/Legal/Professional) | B22: 37 | C22: 8 | D22: 0 | E22: 0.82 | F22: 85th | H22: Social Sciences (Ethics/Legal/Professional) | I22: 32 | J22: 0 | K22: 0 | L22: 1 | M22: 92nd
