Workbook

Sheet Raw Data
A1: Name | B1: Patient Name
A2: DOB | B2: 32389 | E2: Young Schema Questionnaire - Revised (YSQ-R)
A3: DOT | B3: 44441
A4: ID | E4: Spreadsheet developed by Ozgur Yalcin, Murdoch University, anima.com.au
A6: YSQ-R Item No. | B6: Score | E6: Please refer to "Revisions to the Young Schema Questionnaire using Rasch Analysis: The YSQ-R" for the research article published in Australian Psychologist
E7: doi: 10.1080/00050067.2021.1979885
A8: 1 | B8: 3 | C8: emotional deprivation
A9: 2 | B9: 5 | E9: Instructions
A10: 3 | B10: 5 | E10: 1. Input patient name, DOB (date of birth), DOT (date of test), and ID (if relevant)
A11: 4 | B11: 5 | E11: 2. Input scores for each item
A12: 5 | B12: 5 | E12: 3. Results will be automatically generated and can be viewed in the tabs across the bottom
A13: 6 | B13: 1 | C13: abandonment | E13: 4. Results show as follows:
A14: 7 | B14: 5 | E14: Results Table: Overall summary of scores. For ease of interpretation, you can sort columns from highest/lowest scores by selecting any cell in that
A15: 8 | B15: 5 | E15: column > Sort and Filter (in the Home ribbon menu) > Sort Largest to Smallest
A16: 9 | B16: 1 | E16: Mean Scores: Graph of average scores for each schema. An average score of 4 or above is usually considered clinically relevant (indicated by the red line)
A17: 10 | B17: 3 | E17: Main Results: Graph of percentage of items scoring 4 or above for each schema. As this may or may not be reflected in the schema's mean score, this can
A18: 11 | B18: 5 | E18: indicate other clinically relevant themes
A19: 12 | B19: 1 | E19: Extreme scores: Graph of percentage of items scoring 5 or above for each schema. As this may or may not be reflected in the schema's mean score, this
A20: 13 | B20: 4 | E20: can indicate other clinically relevant themes
A21: 14 | B21: 4 | C21: mistrust / abuse | E21: 5. Use the Scores to Date page to track a patient's progress or keep a record of multiple patients in one document. Copy Column B from this page and paste
A22: 15 | B22: 5 | E22: to the first available column in the Scores to Date page
A23: 16 | B23: 4
A24: 17 | B24: 4 | E24: Key
A25: 18 | B25: 6 | E25: ed | F25: Emotional Deprivation
A26: 19 | B26: 4 | C26: social isolation | E26: ab | F26: Abandonment
A27: 20 | B27: 5 | E27: ma | F27: Mistrust / Abuse
A28: 21 | B28: 6 | E28: si | F28: Social Isolation
A29: 22 | B29: 4 | E29: ds | F29: Defectiveness / Shame
A30: 23 | B30: 1 | E30: fa | F30: Failure
A31: 24 | B31: 2 | C31: defectiveness / shame | E31: di | F31: Dependence / Incompetence
A32: 25 | B32: 2 | E32: vh | F32: Vulnerability to Harm
A33: 26 | B33: 2 | E33: em | F33: Enmeshment
A34: 27 | B34: 5 | E34: sb | F34: Subjugation
A35: 28 | B35: 1 | E35: ss | F35: Self-Sacrifice
A36: 29 | B36: 4 | E36: flc | F36: Fear of Losing Control
A37: 30 | B37: 4 | C37: failure | E37: ec | F37: Emotional Constriction
A38: 31 | B38: 6 | E38: us | F38: Unrelenting Standards
A39: 32 | B39: 5 | E39: et | F39: Entitlement
A40: 33 | B40: 4 | E40: is | F40: Insufficient Self Control
A41: 34 | B41: 6 | E41: as | F41: Approval-Seeking
...

Sheet Results Table
B2: YSQ-R: Score Profile
B3: Patient Name: | C3: ='Raw Data'!B1 -> Patient Name | D3: Date of Test: | E3: ='Raw Data'!B3 -> 44441
C4: Schema | D4: % 5-6 | E4: % 4-5-6 | F4: Mean Scores
B5: ED | C5: Emotional Deprivation | D5: ='Raw Data'!E56 -> 0.8 | E5: ='Raw Data'!E52 -> 0.8 | F5: ='Raw Data'!E48 -> 4.6
B6: AB | C6: Abandonment | D6: ='Raw Data'!F56 -> 0.375 | E6: ='Raw Data'!F52 -> 0.5 | F6: ='Raw Data'!F48 -> 3.125
B7: MA | C7: Mistrust / Abuse | D7: ='Raw Data'!G56 -> 0.4 | E7: ='Raw Data'!G52 -> 1 | F7: ='Raw Data'!G48 -> 4.6
B8: SI | C8: Social Isolation | D8: ='Raw Data'!H56 -> 0.4 | E8: ='Raw Data'!H52 -> 0.8 | F8: ='Raw Data'!H48 -> 4
B9: DS | C9: Defectiveness / Shame | D9: ='Raw Data'!I56 -> 0.16666667 | E9: ='Raw Data'!I52 -> 0.33333333 | F9: ='Raw Data'!I48 -> 2.6666667
B10: FA | C10: Failure | D10: ='Raw Data'!J56 -> 0.5 | E10: ='Raw Data'!J52 -> 1 | F10: ='Raw Data'!J48 -> 4.8333333
B11: DI | C11: Dependence / Incompetence | D11: ='Raw Data'!K56 -> 0.25 | E11: ='Raw Data'!K52 -> 0.5 | F11: ='Raw Data'!K48 -> 3.125
B12: VH | C12: Vulnerability to Harm | D12: ='Raw Data'!L56 -> 0.33333333 | E12: ='Raw Data'!L52 -> 0.5 | F12: ='Raw Data'!L48 -> 3.5
B13: EM | C13: Enmeshment | D13: ='Raw Data'!M56 -> 0.28571429 | E13: ='Raw Data'!M52 -> 0.71428571 | F13: ='Raw Data'!M48 -> 3.8571429
B14: ET | C14: Entitlement | D14: ='Raw Data'!N56 -> 0.2 | E14: ='Raw Data'!S52 -> 0.5 | F14: ='Raw Data'!S48 -> 3.5
B15: IS | C15: Insufficient Self Control | D15: ='Raw Data'!O56 -> 0.16666667 | E15: ='Raw Data'!T52 -> 0.28571429 | F15: ='Raw Data'!T48 -> 2.5714286
B16: SB | C16: Subjugation | D16: ='Raw Data'!P56 -> 0.25 | E16: ='Raw Data'!N52 -> 0.4 | F16: ='Raw Data'!N48 -> 2.8
B17: SS | C17: Self-Sacrifice | D17: ='Raw Data'!Q56 -> 0.4 | E17: ='Raw Data'!O52 -> 0.5 | F17: ='Raw Data'!O48 -> 3.5
B18: AS | C18: Approval-Seeking | D18: ='Raw Data'!R56 -> 0.57142857 | E18: ='Raw Data'!U52 -> 0.8 | F18: ='Raw Data'!U48 -> 4.6
B19: FLC | C19: Fear of Losing Control | D19: ='Raw Data'!S56 -> 0.33333333 | E19: ='Raw Data'!P52 -> 0.5 | F19: ='Raw Data'!P48 -> 3.25
B20: EC | C20: Emotional Constriction | D20: ='Raw Data'!T56 -> 0.28571429 | E20: ='Raw Data'!Q52 -> 0.8 | F20: ='Raw Data'!Q48 -> 4.2
B21: US | C21: Unrelenting Standards | D21: ='Raw Data'!U56 -> 0.8 | E21: ='Raw Data'!R52 -> 0.71428571 | F21: ='Raw Data'!R48 -> 4
B22: NP | C22: Negativity / Pessimism | D22: ='Raw Data'!V56 -> 0.5 | E22: ='Raw Data'!V52 -> 0.66666667 | F22: ='Raw Data'!V48 -> 3.8333333
B23: PU-S | C23: Punitiveness (Self Directed) | D23: ='Raw Data'!W56 -> 0.4 | E23: ='Raw Data'!W52 -> 0.8 | F23: ='Raw Data'!W48 -> 3.8
B24: PU-O | C24: Punitiveness (Other Directed) | D24: ='Raw Data'!X56 -> 0.25 | E24: ='Raw Data'!X52 -> 0.5 | F24: ='Raw Data'!X48 -> 3.25

Sheet Mean Scores
F21: Mean Scores

Sheet Main Results
F21: Main Results (4, 5 or 6's)

Sheet Extreme Scores
F21: Extreme Scores (5 or 6's)

Sheet Scores to Date
A1: Cumulative scores
A2: Name | B2: Patient 1 | C2: Patient 2 | D2: Patient 3 | E2: Patient 4 | F2: Patient 5 | G2: Patient 6
A3: DOB
A4: DOT
A5: ID
A6: Q001
A7: Q002
A8: Q003
A9: Q004
A10: Q005
A11: Q006
A12: Q007
A13: Q008
A14: Q009
... A121: Q116
