Workbook

Sheet Raw Data
A1: Name | B1: Patient Name
A2: DOB | B2: 32389 | E2: Young Schema Questionnaire - Revised (YSQ-R)
A3: DOT | B3: 44441
A4: ID | E4: Spreadsheet developed by Ozgur Yalcin, Murdoch University, anima.com.au
A6: YSQ-R Item No. | B6: Score | E6: Please refer to "Revisions to the Young Schema Questionnaire using Rasch Analysis: The YSQ-R" for the research article published in Australian Psychologist
E7: doi: 10.1080/00050067.2021.1979885
A8: 1 | B8: 3 | C8: emotional deprivation
A9: 2 | B9: 5 | E9: Instructions
A10: 3 | B10: 5 | E10: 1. Input patient name, DOB (date of birth), DOT (date of test), and ID (if relevant)
A11: 4 | B11: 5 | E11: 2. Input scores for each item
A12: 5 | B12: 5 | E12: 3. Results will be automatically generated and can be viewed in the tabs across the bottom
A13: 6 | B13: 1 | C13: abandonment | E13: 4. Results show as follows:
A14: 7 | B14: 5 | E14: Results Table: Overall summary of scores. For ease of interpretation, you can sort columns from highest/lowest scores by selecting any cell in that
A15: 8 | B15: 5 | E15: column > Sort and Filter (in the Home ribbon menu) > Sort Largest to Smallest
A16: 9 | B16: 1 | E16: Mean Scores: Graph of average scores for each schema. An average score of 4 or above is usually considered clinically relevant (indicated by the red line)
A17: 10 | B17: 3 | E17: Main Results: Graph of percentage of items scoring 4 or above for each schema. As this may or may not be reflected in the schema's mean score, this can
A18: 11 | B18: 5 | E18: indicate other clinically relevant themes
A19: 12 | B19: 1 | E19: Extreme scores: Graph of percentage of items scoring 5 or above for each schema. As this may or may not be reflected in the schema's mean score, this
A20: 13 | B20: 4 | E20: can indicate other clinically relevant themes
A21: 14 | B21: 4 | C21: mistrust / abuse | E21: 5. Use the Scores to Date page to track a patient's progress or keep a record of multiple patients in one document. Copy Column B from this page and paste
A22: 15 | B22: 5 | E22: to the first available column in the Scores to Date page
A23: 16 | B23: 4
A24: 17 | B24: 4 | E24: Key
A25: 18 | B25: 6 | E25: ed | F25: Emotional Deprivation
A26: 19 | B26: 4 | C26: social isolation | E26: ab | F26: Abandonment
A27: 20 | B27: 5 | E27: ma | F27: Mistrust / Abuse
A28: 21 | B28: 6 | E28: si | F28: Social Isolation
A29: 22 | B29: 4 | E29: ds | F29: Defectiveness / Shame
A30: 23 | B30: 1 | E30: fa | F30: Failure
A31: 24 | B31: 2 | C31: defectiveness / shame | E31: di | F31: Dependence / Incompetence
A32: 25 | B32: 2 | E32: vh | F32: Vulnerability to Harm
A33: 26 | B33: 2 | E33: em | F33: Enmeshment
A34: 27 | B34: 5 | E34: sb | F34: Subjugation
A35: 28 | B35: 1 | E35: ss | F35: Self-Sacrifice
A36: 29 | B36: 4 | E36: flc | F36: Fear of Losing Control
A37: 30 | B37: 4 | C37: failure | E37: ec | F37: Emotional Constriction
A38: 31 | B38: 6 | E38: us | F38: Unrelenting Standards
A39: 32 | B39: 5 | E39: et | F39: Entitlement
A40: 33 | B40: 4 | E40: is | F40: Insufficient Self Control
A41: 34 | B41: 6 | E41: as | F41: Approval-Seeking
A42: 35 | B42: 4 | E42: np | F42: Negativity / Pessimism
A43: 36 | B43: 1 | C43: dependence / incompetence | E43: pu-s | F43: Punitiveness (Self Directed)
A44: 37 | B44: 5 | E44: pu-o | F44: Punitiveness (Other Directed)
A45: 38 | B45: 4
A46: 39 | B46: 1 | E46: Mean Scores
A47: 40 | B47: 4 | E47: ed | F47: ab | G47: ma | H47: si | I47: ds | J47: fa | K47: di | L47: vh | M47: em | N47: sb | O47: ss | P47: flc | Q47: ec | R47: us | S47: et | T47: is | U47: as | V47: np | W47: pus | X47: puo
A48: 41 | B48: 3 | E48: =AVERAGE(B8:B12) -> 4.6 | F48: =AVERAGE(B13:B20) -> 3.125 | G48: =AVERAGE(B21:B25) -> 4.6 | H48: =AVERAGE(B26:B30) -> 4 | I48: =AVERAGE(B31:B36) -> 2.6666667 | J48: =AVERAGE(B37:B42) -> 4.8333333 | K48: =AVERAGE(B43:B50) -> 3.125 | L48: =AVERAGE(B51:B56) -> 3.5 | M48: =AVERAGE(B57:B63) -> 3.8571429 | N48: =AVERAGE(B64:B68) -> 2.8 | O48: =AVERAGE(B69:B74) -> 3.5 | P48: =AVERAGE(B75:B78) -> 3.25 | Q48: =AVERAGE(B79:B83) -> 4.2 | R48: =AVERAGE(B84:B90) -> 4 | S48: =AVERAGE(B91:B96) -> 3.5 | T48: =AVERAGE(B97:B103) -> 2.5714286 | U48: =AVERAGE(B104:B108) -> 4.6 | V48: =AVERAGE(B109:B114) -> 3.8333333 | W48: =AVERAGE(B115:B119) -> 3.8 | X48: =AVERAGE(B120:B123) -> 3.25
A49: 42 | B49: 6
A50: 43 | B50: 1 | E50: Main Results (percentage of 4's,5's, and 6's)
A51: 44 | B51: 1 | C51: vulnerability to harm | E51: ed | F51: ab | G51: ma | H51: si | I51: ds | J51: fa | K51: di | L51: vh | M51: em | N51: sb | O51: ss | P51: flc | Q51: ec | R51: us | S51: et | T51: is | U51: as | V51: np | W51: pu-s | X51: pu-o
A52: 45 | B52: 4 | E52: =COUNTIF(B8:B12,">3")/5 -> 0.8 | F52: =COUNTIF(B13:B20,">3")/8 -> 0.5 | G52: =COUNTIF(B21:B25,">3")/5 -> 1 | H52: =COUNTIF(B26:B30,">3")/5 -> 0.8 | I52: =COUNTIF(B31:B36,">3")/6 -> 0.33333333 | J52: =COUNTIF(B37:B42,">3")/6 -> 1 | K52: =COUNTIF(B43:B50,">3")/8 -> 0.5 | L52: =COUNTIF(B51:B56,">3")/6 -> 0.5 | M52: =COUNTIF(B57:B63,">3")/7 -> 0.71428571 | N52: =COUNTIF(B64:B68,">3")/5 -> 0.4 | O52: =COUNTIF(B69:B74,">3")/6 -> 0.5 | P52: =COUNTIF(B75:B78,">3")/4 -> 0.5 | Q52: =COUNTIF(B79:B83,">3")/5 -> 0.8 | R52: =COUNTIF(B84:B90,">3")/7 -> 0.71428571 | S52: =COUNTIF(B91:B96,">3")/6 -> 0.5 | T52: =COUNTIF(B97:B103,">3")/7 -> 0.28571429 | U52: =COUNTIF(B104:B108,">3")/5 -> 0.8 | V52: =COUNTIF(B109:B114,">3")/6 -> 0.66666667 | W52: =COUNTIF(B115:B119,">3")/5 -> 0.8 | X52: =COUNTIF(B120:B123,">3")/4 -> 0.5
A53: 46 | B53: 3
A54: 47 | B54: 6 | E54: Extreme Scores (percentage of scores of 5's and 6's)
A55: 48 | B55: 5 | E55: ed | F55: ab | G55: ma | H55: si | I55: ds | J55: fa | K55: di | L55: vh | M55: em | N55: sb | O55: ss | P55: flc | Q55: ec | R55: us | S55: et | T55: is | U55: as | V55: np | W55: pu-s | X55: pu-o
A56: 49 | B56: 2 | E56: =COUNTIF(B8:B12,">4")/5 -> 0.8 | F56: =COUNTIF(B13:B20,">4")/8 -> 0.375 | G56: =COUNTIF(B21:B25,">4")/5 -> 0.4 | H56: =COUNTIF(B26:B30,">4")/5 -> 0.4 | I56: =COUNTIF(B31:B36,">4")/6 -> 0.16666667 | J56: =COUNTIF(B37:B42,">4")/6 -> 0.5 | K56: =COUNTIF(B43:B50,">4")/8 -> 0.25 | L56: =COUNTIF(B51:B56,">4")/6 -> 0.33333333 | M56: =COUNTIF(B57:B63,">4")/7 -> 0.28571429 | N56: =COUNTIF(B64:B68,">4")/5 -> 0.2 | O56: =COUNTIF(B69:B74,">4")/6 -> 0.16666667 | P56: =COUNTIF(B75:B78,">4")/4 -> 0.25 | Q56: =COUNTIF(B79:B83,">4")/5 -> 0.4 | R56: =COUNTIF(B84:B90,">4")/7 -> 0.57142857 | S56: =COUNTIF(B91:B96,">4")/6 -> 0.33333333 | T56: =COUNTIF(B97:B103,">4")/7 -> 0.28571429 | U56: =COUNTIF(B104:B108,">4")/5 -> 0.8 | V56: =COUNTIF(B109:B114,">4")/6 -> 0.5 | W56: =COUNTIF(B115:B119,">4")/5 -> 0.4 | X56: =COUNTIF(B120:B123,">4")/4 -> 0.25
A57: 50 | B57: 1 | C57: enmeshment
A58: 51 | B58: 5 | E58: Spreadsheet last edited 04.11.2022
A59: 52 | B59: 4
A60: 53 | B60: 3
A61: 54 | B61: 6
A62: 55 | B62: 4
A63: 56 | B63: 4
A64: 57 | B64: 1 | C64: subjugation
A65: 58 | B65: 4
A66: 59 | B66: 3
A67: 60 | B67: 5
A68: 61 | B68: 1
A69: 62 | B69: 4 | C69: self-sacrifice
A70: 63 | B70: 5
A71: 64 | B71: 3
A72: 65 | B72: 4
A73: 66 | B73: 2
A74: 67 | B74: 3
A75: 68 | B75: 1 | C75: fear of losing control
A76: 69 | B76: 4
A77: 70 | B77: 3
A78: 71 | B78: 5
A79: 72 | B79: 2 | C79: emotional constriction
A80: 73 | B80: 4
A81: 74 | B81: 4
A82: 75 | B82: 5
A83: 76 | B83: 6
A84: 77 | B84: 5 | C84: unrelenting standards
A85: 78 | B85: 5
A86: 79 | B86: 1
A87: 80 | B87: 5
A88: 81 | B88: 3
A89: 82 | B89: 5
A90: 83 | B90: 4
A91: 84 | B91: 1 | C91: entitlement
A92: 85 | B92: 2
A93: 86 | B93: 3
A94: 87 | B94: 6
A95: 88 | B95: 5
A96: 89 | B96: 4
A97: 90 | B97: 1 | C97: insufficient self-control
A98: 91 | B98: 1
A99: 92 | B99: 2
A100: 93 | B100: 5
A101: 94 | B101: 1
...

Sheet Results Table
B2: YSQ-R: Score Profile
B3: Patient Name: | C3: ='Raw Data'!B1 -> Patient Name | D3: Date of Test: | E3: ='Raw Data'!B3 -> 44441
C4: Schema | D4: % 5-6 | E4: % 4-5-6 | F4: Mean Scores
B5: ED | C5: Emotional Deprivation | D5: ='Raw Data'!E56 -> 0.8 | E5: ='Raw Data'!E52 -> 0.8 | F5: ='Raw Data'!E48 -> 4.6
B6: AB | C6: Abandonment | D6: ='Raw Data'!F56 -> 0.375 | E6: ='Raw Data'!F52 -> 0.5 | F6: ='Raw Data'!F48 -> 3.125
B7: MA | C7: Mistrust / Abuse | D7: ='Raw Data'!G56 -> 0.4 | E7: ='Raw Data'!G52 -> 1 | F7: ='Raw Data'!G48 -> 4.6
B8: SI | C8: Social Isolation | D8: ='Raw Data'!H56 -> 0.4 | E8: ='Raw Data'!H52 -> 0.8 | F8: ='Raw Data'!H48 -> 4
B9: DS | C9: Defectiveness / Shame | D9: ='Raw Data'!I56 -> 0.16666667 | E9: ='Raw Data'!I52 -> 0.33333333 | F9: ='Raw Data'!I48 -> 2.6666667
B10: FA | C10: Failure | D10: ='Raw Data'!J56 -> 0.5 | E10: ='Raw Data'!J52 -> 1 | F10: ='Raw Data'!J48 -> 4.8333333
B11: DI | C11: Dependence / Incompetence | D11: ='Raw Data'!K56 -> 0.25 | E11: ='Raw Data'!K52 -> 0.5 | F11: ='Raw Data'!K48 -> 3.125
B12: VH | C12: Vulnerability to Harm | D12: ='Raw Data'!L56 -> 0.33333333 | E12: ='Raw Data'!L52 -> 0.5 | F12: ='Raw Data'!L48 -> 3.5
B13: EM | C13: Enmeshment | D13: ='Raw Data'!M56 -> 0.28571429 | E13: ='Raw Data'!M52 -> 0.71428571 | F13: ='Raw Data'!M48 -> 3.8571429
B14: ET | C14: Entitlement | D14: ='Raw Data'!N56 -> 0.2 | E14: ='Raw Data'!S52 -> 0.5 | F14: ='Raw Data'!S48 -> 3.5
B15: IS | C15: Insufficient Self Control | D15: ='Raw Data'!O56 -> 0.16666667 | E15: ='Raw Data'!T52 -> 0.28571429 | F15: ='Raw Data'!T48 -> 2.5714286
B16: SB | C16: Subjugation | D16: ='Raw Data'!P56 -> 0.25 | E16: ='Raw Data'!N52 -> 0.4 | F16: ='Raw Data'!N48 -> 2.8
B17: SS | C17: Self-Sacrifice | D17: ='Raw Data'!Q56 -> 0.4 | E17: ='Raw Data'!O52 -> 0.5 | F17: ='Raw Data'!O48 -> 3.5
B18: AS | C18: Approval-Seeking | D18: ='Raw Data'!R56 -> 0.57142857 | E18: ='Raw Data'!U52 -> 0.8 | F18: ='Raw Data'!U48 -> 4.6
B19: FLC | C19: Fear of Losing Control | D19: ='Raw Data'!S56 -> 0.33333333 | E19: ='Raw Data'!P52 -> 0.5 | F19: ='Raw Data'!P48 -> 3.25
B20: EC | C20: Emotional Constriction | D20: ='Raw Data'!T56 -> 0.28571429 | E20: ='Raw Data'!Q52 -> 0.8 | F20: ='Raw Data'!Q48 -> 4.2
B21: US | C21: Unrelenting Standards | D21: ='Raw Data'!U56 -> 0.8 | E21: ='Raw Data'!R52 -> 0.71428571 | F21: ='Raw Data'!R48 -> 4
B22: NP | C22: Negativity / Pessimism | D22: ='Raw Data'!V56 -> 0.5 | E22: ='Raw Data'!V52 -> 0.66666667 | F22: ='Raw Data'!V48 -> 3.8333333
B23: PU-S | C23: Punitiveness (Self Directed) | D23: ='Raw Data'!W56 -> 0.4 | E23: ='Raw Data'!W52 -> 0.8 | F23: ='Raw Data'!W48 -> 3.8
B24: PU-O | C24: Punitiveness (Other Directed) | D24: ='Raw Data'!X56 -> 0.25 | E24: ='Raw Data'!X52 -> 0.5 | F24: ='Raw Data'!X48 -> 3.25

Sheet Mean Scores
F21: Mean Scores

Sheet Main Results
F21: Main Results (4, 5 or 6's)

Sheet Extreme Scores
F21: Extreme Scores (5 or 6's)

Sheet Scores to Date
A1: Cumulative scores
A2: Name | B2: Patient 1 | C2: Patient 2 | D2: Patient 3 | E2: Patient 4 | F2: Patient 5 | G2: Patient 6
A3: DOB
A4: DOT
A5: ID
A6: Q001
A7: Q002
A8: Q003
A9: Q004
A10: Q005
A11: Q006
A12: Q007
A13: Q008
A14: Q009
... A121: Q116
